Workbook

Sheet USA Prestige by Season
A1: Club | B1: Club User ID | C1: Season | D1: USA INC Gold | E1: USA INC Silver | F1: USA INC Bronze | G1: Overseas INC Gold | H1: Overseas INC Silver | I1: Overseas INC Bronze | J1: Olympic Games Gold | K1: Olympic Games Silver | L1: Olympic Games Bronze | M1: World Champ's Gold | N1: World Champ's Silver | O1: World Champ's Bronze | P1: World Junior Champ's Gold | Q1: World Junior Champ's Silver | R1: World Junior Champ's Bronze | S1: World U21 Champ's Gold | T1: World U21 Champ's Silver | U1: World U21 Champ's Bronze | V1: World Masters Champ's Gold | W1: World Masters Champ's Silver | X1: World Masters Champ's Bronze | Y1: Continental Champ's Gold | Z1: Continental Champ's Silver | AA1: Continental Champ's Bronze | AB1: Continental Junior Champ's Gold | AC1: Continental Junior Champ's Silver | AD1: Continental Junior Champ's Bronze | AE1: Continental U21 Champ's Gold | AF1: Continental U21 Champ's Silver | AG1: Continental U21 Champ's Bronze | AH1: Continental Masters Champ's Gold | AI1: Continental Masters Champ's Silver | AJ1: Continental Masters Champ's Bronze | AK1: Champions Cup Gold | AL1: Champions Cup Silver | AM1: Champions Cup Bronze | AN1: Champions Cup Position | AO1: Champions Cup Points
A3: _StarTrackers Athletic Cl... | C3: 23 | D3: 0 | E3: 0 | F3: 1 | G3: 0 | H3: 0 | I3: 0 | J3: 0 | K3: 0 | L3: 0 | M3: 0 | N3: 0 | O3: 0 | P3: 0 | Q3: 0 | R3: 0 | S3: 0 | T3: 0 | U3: 0 | V3: 0 | W3: 0 | X3: 0 | Y3: 0 | Z3: 0 | AA3: 0 | AB3: 0 | AC3: 0 | AD3: 0 | AE3: 0 | AF3: 0 | AG3: 0 | AH3: 0 | AI3: 0 | AJ3: 0 | AK3: 0 | AL3: 0 | AM3: 0
A4: _StarTrackers Athletic Cl... | C4: 24 | D4: 1 | E4: 0 | F4: 1 | G4: 0 | H4: 0 | I4: 0 | J4: 0 | K4: 0 | L4: 0 | M4: 0 | N4: 0 | O4: 0 | P4: 0 | Q4: 0 | R4: 0 | S4: 0 | T4: 0 | U4: 0 | V4: 0 | W4: 0 | X4: 0 | Y4: 0 | Z4: 0 | AA4: 0 | AB4: 0 | AC4: 0 | AD4: 0 | AE4: 0 | AF4: 0 | AG4: 0 | AH4: 0 | AI4: 0 | AJ4: 0 | AK4: 0 | AL4: 0 | AM4: 0
A5: _StarTrackers Athletic Cl... | C5: 26 | D5: 0 | E5: 1 | F5: 1 | G5: 1 | H5: 0 | I5: 0 | J5: 0 | K5: 0 | L5: 0 | M5: 0 | N5: 0 | O5: 0 | P5: 0 | Q5: 0 | R5: 0 | S5: 0 | T5: 0 | U5: 0 | V5: 0 | W5: 0 | X5: 0 | Y5: 0 | Z5: 0 | AA5: 0 | AB5: 0 | AC5: 0 | AD5: 0 | AE5: 0 | AF5: 0 | AG5: 0 | AH5: 0 | AI5: 0 | AJ5: 0 | AK5: 0 | AL5: 0 | AM5: 0
A6: _StarTrackers Athletic Cl... | C6: 27 | D6: 0 | E6: 0 | F6: 1 | G6: 0 | H6: 0 | I6: 0 | J6: 0 | K6: 0 | L6: 0 | M6: 0 | N6: 0 | O6: 0 | P6: 0 | Q6: 0 | R6: 0 | S6: 0 | T6: 0 | U6: 0 | V6: 0 | W6: 0 | X6: 0 | Y6: 0 | Z6: 0 | AA6: 0 | AB6: 0 | AC6: 2 | AD6: 0 | AE6: 0 | AF6: 0 | AG6: 0 | AH6: 0 | AI6: 0 | AJ6: 0 | AK6: 0 | AL6: 0 | AM6: 0
A7: _StarTrackers Athletic Cl... | C7: 28 | D7: 1 | E7: 0 | F7: 3 | G7: 1 | H7: 0 | I7: 0 | J7: 0 | K7: 0 | L7: 0 | M7: 0 | N7: 0 | O7: 0 | P7: 0 | Q7: 0 | R7: 0 | S7: 0 | T7: 0 | U7: 0 | V7: 0 | W7: 0 | X7: 0 | Y7: 0 | Z7: 0 | AA7: 0 | AB7: 0 | AC7: 0 | AD7: 0 | AE7: 0 | AF7: 0 | AG7: 0 | AH7: 0 | AI7: 0 | AJ7: 0 | AK7: 0 | AL7: 0 | AM7: 0
A8: _StarTrackers Athletic Cl... | C8: 29 | D8: 1 | E8: 1 | F8: 0 | G8: 1 | H8: 0 | I8: 0 | J8: 0 | K8: 0 | L8: 0 | M8: 0 | N8: 0 | O8: 0 | P8: 0 | Q8: 0 | R8: 0 | S8: 0 | T8: 0 | U8: 0 | V8: 0 | W8: 0 | X8: 0 | Y8: 0 | Z8: 0 | AA8: 0 | AB8: 0 | AC8: 0 | AD8: 0 | AE8: 0 | AF8: 0 | AG8: 0 | AH8: 0 | AI8: 0 | AJ8: 0 | AK8: 0 | AL8: 0 | AM8: 0
A9: _StarTrackers Athletic Cl... | C9: 30 | D9: 0 | E9: 1 | F9: 1 | G9: 0 | H9: 0 | I9: 0 | J9: 0 | K9: 0 | L9: 0 | M9: 0 | N9: 0 | O9: 0 | P9: 0 | Q9: 0 | R9: 0 | S9: 0 | T9: 0 | U9: 0 | V9: 0 | W9: 0 | X9: 0 | Y9: 0 | Z9: 0 | AA9: 0 | AB9: 0 | AC9: 0 | AD9: 0 | AE9: 0 | AF9: 0 | AG9: 0 | AH9: 0 | AI9: 0 | AJ9: 0 | AK9: 0 | AL9: 0 | AM9: 0
A10: _StarTrackers Athletic Cl... | C10: 32 | D10: 1 | E10: 1 | F10: 4 | G10: 0 | H10: 0 | I10: 0 | J10: 0 | K10: 0 | L10: 0 | M10: 0 | N10: 0 | O10: 0 | P10: 0 | Q10: 0 | R10: 0 | S10: 0 | T10: 0 | U10: 0 | V10: 0 | W10: 0 | X10: 0 | Y10: 0 | Z10: 0 | AA10: 0 | AB10: 0 | AC10: 0 | AD10: 0 | AE10: 0 | AF10: 0 | AG10: 0 | AH10: 0 | AI10: 0 | AJ10: 0 | AK10: 0 | AL10: 0 | AM10: 0
A11: _StarTrackers Athletic Cl... | C11: 33 | D11: 0 | E11: 0 | F11: 2 | G11: 0 | H11: 0 | I11: 0 | J11: 0 | K11: 0 | L11: 0 | M11: 0 | N11: 0 | O11: 0 | P11: 0 | Q11: 0 | R11: 0 | S11: 0 | T11: 0 | U11: 0 | V11: 0 | W11: 0 | X11: 0 | Y11: 0 | Z11: 0 | AA11: 0 | AB11: 0 | AC11: 1 | AD11: 0 | AE11: 0 | AF11: 0 | AG11: 0 | AH11: 1 | AI11: 0 | AJ11: 0 | AK11: 0 | AL11: 0 | AM11: 0
A12: _StarTrackers Athletic Cl... | C12: 34 | D12: 0 | E12: 1 | F12: 2 | G12: 0 | H12: 0 | I12: 1 | J12: 0 | K12: 0 | L12: 0 | M12: 0 | N12: 0 | O12: 0 | P12: 0 | Q12: 0 | R12: 0 | S12: 0 | T12: 0 | U12: 0 | V12: 0 | W12: 0 | X12: 0 | Y12: 0 | Z12: 0 | AA12: 0 | AB12: 0 | AC12: 0 | AD12: 0 | AE12: 0 | AF12: 0 | AG12: 0 | AH12: 0 | AI12: 0 | AJ12: 0 | AK12: 0 | AL12: 0 | AM12: 0
A13: 400 Masters | C13: 13 | D13: 1 | E13: 0 | F13: 1 | G13: 0 | H13: 0 | I13: 0 | J13: 0 | K13: 0 | L13: 0 | M13: 0 | N13: 0 | O13: 0 | P13: 0 | Q13: 0 | R13: 0 | S13: 0 | T13: 0 | U13: 0 | V13: 0 | W13: 0 | X13: 0 | Y13: 0 | Z13: 0 | AA13: 0 | AB13: 0 | AC13: 0 | AD13: 0 | AE13: 0 | AF13: 0 | AG13: 0 | AH13: 0 | AI13: 0 | AJ13: 0 | AK13: 0 | AL13: 0 | AM13: 0
A14: 400 Masters | C14: 14 | D14: 0 | E14: 0 | F14: 2 | G14: 0 | H14: 0 | I14: 0 | J14: 0 | K14: 0 | L14: 0 | M14: 0 | N14: 0 | O14: 0 | P14: 0 | Q14: 0 | R14: 0 | S14: 0 | T14: 0 | U14: 0 | V14: 0 | W14: 0 | X14: 0 | Y14: 0 | Z14: 0 | AA14: 0 | AB14: 0 | AC14: 0 | AD14: 0 | AE14: 0 | AF14: 0 | AG14: 0 | AH14: 0 | AI14: 0 | AJ14: 0 | AK14: 0 | AL14: 0 | AM14: 0
... A26: Aero | C26: 29 | D26: 0 | E26: 0 | F26: 0 | G26: 0 | H26: 0 | I26: 0 | J26: 0 | K26: 0 | L26: 0 | M26: 0 | N26: 0 | O26: 0 | P26: 0 | Q26: 0 | R26: 0 | S26: 0 | T26: 0 | U26: 0 | V26: 0 | W26: 0 | X26: 0 | Y26: 0 | Z26: 0 | AA26: 0 | AB26: 0 | AC26: 0 | AD26: 1 | AE26: 0 | AF26: 0 | AG26: 0 | AH26: 0 | AI26: 0 | AJ26: 0 | AK26: 0 | AL26: 0 | AM26: 0
A27: Akitas | B27: 14870 | C27: 13 | D27: 1 | E27: 2 | F27: 5 | G27: 0 | H27: 0 | I27: 0 | J27: 0 | K27: 0 | L27: 0 | M27: 0 | N27: 0 | O27: 0 | P27: 0 | Q27: 0 | R27: 0 | S27: 0 | T27: 0 | U27: 0 | V27: 0 | W27: 0 | X27: 0 | Y27: 0 | Z27: 0 | AA27: 0 | AB27: 0 | AC27: 0 | AD27: 0 | AE27: 0 | AF27: 0 | AG27: 0 | AH27: 0 | AI27: 0 | AJ27: 0 | AK27: 0 | AL27: 0 | AM27: 0
A28: Akitas | B28: 14870 | C28: 14 | D28: 1 | E28: 2 | F28: 1 | G28: 0 | H28: 0 | I28: 0 | J28: 0 | K28: 0 | L28: 0 | M28: 0 | N28: 0 | O28: 0 | P28: 0 | Q28: 0 | R28: 0 | S28: 0 | T28: 0 | U28: 0 | V28: 0 | W28: 0 | X28: 0 | Y28: 0 | Z28: 0 | AA28: 0 | AB28: 0 | AC28: 0 | AD28: 0 | AE28: 0 | AF28: 0 | AG28: 0 | AH28: 0 | AI28: 0 | AJ28: 0 | AK28: 0 | AL28: 0 | AM28: 0
A29: Akitas | B29: 14870 | C29: 15 | D29: 2 | E29: 4 | F29: 5 | G29: 0 | H29: 0 | I29: 0 | J29: 0 | K29: 0 | L29: 0 | M29: 0 | N29: 0 | O29: 0 | P29: 0 | Q29: 0 | R29: 0 | S29: 0 | T29: 0 | U29: 0 | V29: 0 | W29: 0 | X29: 0 | Y29: 0 | Z29: 0 | AA29: 0 | AB29: 0 | AC29: 0 | AD29: 0 | AE29: 0 | AF29: 0 | AG29: 0 | AH29: 0 | AI29: 0 | AJ29: 0 | AK29: 0 | AL29: 0 | AM29: 0
A30: Akitas | B30: 14870 | C30: 16 | D30: 1 | E30: 2 | F30: 6 | G30: 0 | H30: 0 | I30: 0 | J30: 0 | K30: 0 | L30: 0 | M30: 0 | N30: 0 | O30: 0 | P30: 0 | Q30: 0 | R30: 0 | S30: 0 | T30: 0 | U30: 0 | V30: 0 | W30: 0 | X30: 0 | Y30: 0 | Z30: 0 | AA30: 0 | AB30: 0 | AC30: 0 | AD30: 0 | AE30: 0 | AF30: 0 | AG30: 0 | AH30: 0 | AI30: 0 | AJ30: 0 | AK30: 0 | AL30: 0 | AM30: 0
A31: Akitas | B31: 14870 | C31: 17 | D31: 1 | E31: 2 | F31: 2 | G31: 0 | H31: 0 | I31: 0 | J31: 0 | K31: 0 | L31: 0 | M31: 0 | N31: 0 | O31: 0 | P31: 0 | Q31: 0 | R31: 0 | S31: 0 | T31: 0 | U31: 0 | V31: 0 | W31: 0 | X31: 0 | Y31: 0 | Z31: 0 | AA31: 0 | AB31: 0 | AC31: 0 | AD31: 0 | AE31: 0 | AF31: 0 | AG31: 0 | AH31: 0 | AI31: 0 | AJ31: 0 | AK31: 0 | AL31: 0 | AM31: 0
A32: Akitas | B32: 14870 | C32: 18 | D32: 2 | E32: 5 | F32: 6 | G32: 0 | H32: 0 | I32: 0 | J32: 0 | K32: 0 | L32: 0 | M32: 0 | N32: 0 | O32: 0 | P32: 0 | Q32: 0 | R32: 0 | S32: 0 | T32: 0 | U32: 0 | V32: 0 | W32: 0 | X32: 0 | Y32: 0 | Z32: 0 | AA32: 0 | AB32: 0 | AC32: 0 | AD32: 0 | AE32: 0 | AF32: 0 | AG32: 0 | AH32: 0 | AI32: 0 | AJ32: 0 | AK32: 0 | AL32: 0 | AM32: 0
A33: Akitas | B33: 14870 | C33: 19 | D33: 1 | E33: 4 | F33: 2 | G33: 0 | H33: 0 | I33: 0 | J33: 0 | K33: 0 | L33: 0 | M33: 0 | N33: 0 | O33: 0 | P33: 0 | Q33: 0 | R33: 0 | S33: 0 | T33: 0 | U33: 0 | V33: 0 | W33: 0 | X33: 0 | Y33: 0 | Z33: 0 | AA33: 0 | AB33: 0 | AC33: 0 | AD33: 0 | AE33: 0 | AF33: 0 | AG33: 0 | AH33: 0 | AI33: 0 | AJ33: 0 | AK33: 0 | AL33: 0 | AM33: 0
A34: Akitas | B34: 14870 | C34: 20 | D34: 3 | E34: 3 | F34: 3 | G34: 0 | H34: 0 | I34: 0 | J34: 0 | K34: 0 | L34: 0 | M34: 0 | N34: 0 | O34: 0 | P34: 0 | Q34: 0 | R34: 0 | S34: 0 | T34: 0 | U34: 0 | V34: 0 | W34: 0 | X34: 0 | Y34: 0 | Z34: 0 | AA34: 0 | AB34: 0 | AC34: 0 | AD34: 0 | AE34: 0 | AF34: 0 | AG34: 0 | AH34: 0 | AI34: 0 | AJ34: 0 | AK34: 0 | AL34: 0 | AM34: 0
A35: Akitas | B35: 14870 | C35: 21 | D35: 4 | E35: 0 | F35: 3 | G35: 0 | H35: 0 | I35: 0 | J35: 0 | K35: 0 | L35: 0 | M35: 0 | N35: 0 | O35: 0 | P35: 0 | Q35: 0 | R35: 0 | S35: 0 | T35: 0 | U35: 0 | V35: 0 | W35: 0 | X35: 0 | Y35: 0 | Z35: 0 | AA35: 0 | AB35: 0 | AC35: 0 | AD35: 0 | AE35: 0 | AF35: 0 | AG35: 0 | AH35: 0 | AI35: 0 | AJ35: 0 | AK35: 0 | AL35: 0 | AM35: 0
A36: Akitas | B36: 14870 | C36: 22 | D36: 4 | E36: 3 | F36: 2 | G36: 0 | H36: 0 | I36: 0 | J36: 0 | K36: 0 | L36: 0 | M36: 0 | N36: 0 | O36: 0 | P36: 0 | Q36: 0 | R36: 0 | S36: 0 | T36: 0 | U36: 0 | V36: 0 | W36: 0 | X36: 0 | Y36: 0 | Z36: 0 | AA36: 0 | AB36: 0 | AC36: 0 | AD36: 0 | AE36: 0 | AF36: 0 | AG36: 0 | AH36: 0 | AI36: 0 | AJ36: 0 | AK36: 0 | AL36: 0 | AM36: 0
A37: Akitas | B37: 14870 | C37: 23 | D37: 4 | E37: 2 | F37: 4 | G37: 0 | H37: 0 | I37: 0 | J37: 0 | K37: 0 | L37: 0 | M37: 0 | N37: 0 | O37: 0 | P37: 0 | Q37: 0 | R37: 0 | S37: 0 | T37: 0 | U37: 0 | V37: 0 | W37: 0 | X37: 0 | Y37: 0 | Z37: 0 | AA37: 0 | AB37: 0 | AC37: 0 | AD37: 0 | AE37: 0 | AF37: 0 | AG37: 0 | AH37: 0 | AI37: 0 | AJ37: 0 | AK37: 0 | AL37: 0 | AM37: 0
A38: Akitas | B38: 14870 | C38: 24 | D38: 4 | E38: 5 | F38: 2 | G38: 0 | H38: 0 | I38: 0 | J38: 0 | K38: 0 | L38: 0 | M38: 0 | N38: 0 | O38: 0 | P38: 0 | Q38: 0 | R38: 0 | S38: 0 | T38: 0 | U38: 0 | V38: 0 | W38: 0 | X38: 0 | Y38: 0 | Z38: 0 | AA38: 1 | AB38: 0 | AC38: 0 | AD38: 0 | AE38: 0 | AF38: 0 | AG38: 0 | AH38: 0 | AI38: 0 | AJ38: 0 | AK38: 0 | AL38: 0 | AM38: 0
... A121: Akitas | B121: 14870 | C121: 107 | D121: 2 | E121: 0 | F121: 1 | G121: 0 | H121: 0 | I121: 0 | J121: 0 | K121: 0 | L121: 0 | M121: 0 | N121: 0 | O121: 0 | P121: 0 | Q121: 0 | R121: 0 | S121: 0 | T121: 0 | U121: 0 | V121: 0 | W121: 0 | X121: 0 | Y121: 0 | Z121: 0 | AA121: 0 | AB121: 0 | AC121: 0 | AD121: 0 | AE121: 0 | AF121: 1 | AG121: 0 | AH121: 2 | AI121: 2 | AJ121: 0 | AK121: 0 | AL121: 0 | AM121: 0
A122: Alaska Track & Field | C122: 76 | D122: 0 | E122: 0 | F122: 1 | G122: 0 | H122: 0 | I122: 2 | J122: 0 | K122: 0 | L122: 0 | M122: 0 | N122: 0 | O122: 0 | P122: 0 | Q122: 0 | R122: 0 | S122: 0 | T122: 0 | U122: 0 | V122: 0 | W122: 0 | X122: 0 | Y122: 0 | Z122: 0 | AA122: 0 | AB122: 0 | AC122: 0 | AD122: 0 | AE122: 0 | AF122: 0 | AG122: 0 | AH122: 0 | AI122: 0 | AJ122: 0 | AK122: 0 | AL122: 0 | AM122: 0
A123: Alletichs | C123: 16 | D123: 0 | E123: 1 | F123: 0 | G123: 0 | H123: 2 | I123: 1 | J123: 0 | K123: 0 | L123: 0 | M123: 0 | N123: 0 | O123: 0 | P123: 0 | Q123: 0 | R123: 0 | S123: 0 | T123: 0 | U123: 0 | V123: 0 | W123: 0 | X123: 0 | Y123: 0 | Z123: 0 | AA123: 0 | AB123: 0 | AC123: 0 | AD123: 0 | AE123: 0 | AF123: 0 | AG123: 0 | AH123: 0 | AI123: 0 | AJ123: 0 | AK123: 0 | AL123: 0 | AM123: 0
A124: Alletichs | C124: 17 | D124: 0 | E124: 1 | F124: 0 | G124: 2 | H124: 1 | I124: 0 | J124: 0 | K124: 0 | L124: 0 | M124: 0 | N124: 0 | O124: 0 | P124: 0 | Q124: 0 | R124: 0 | S124: 0 | T124: 0 | U124: 0 | V124: 0 | W124: 0 | X124: 0 | Y124: 0 | Z124: 0 | AA124: 0 | AB124: 0 | AC124: 0 | AD124: 0 | AE124: 0 | AF124: 0 | AG124: 0 | AH124: 0 | AI124: 0 | AJ124: 0 | AK124: 0 | AL124: 0 | AM124: 0
A125: America camp | C125: 22 | D125: 0 | E125: 1 | F125: 0 | G125: 0 | H125: 0 | I125: 0 | J125: 0 | K125: 0 | L125: 0 | M125: 0 | N125: 0 | O125: 0 | P125: 0 | Q125: 0 | R125: 0 | S125: 0 | T125: 0 | U125: 0 | V125: 0 | W125: 0 | X125: 0 | Y125: 0 | Z125: 0 | AA125: 0 | AB125: 0 | AC125: 0 | AD125: 0 | AE125: 0 | AF125: 0 | AG125: 0 | AH125: 0 | AI125: 0 | AJ125: 0 | AK125: 0 | AL125: 0 | AM125: 0
A126: Apocalypse Track Club | C126: 33 | D126: 0 | E126: 0 | F126: 0 | G126: 0 | H126: 1 | I126: 0 | J126: 0 | K126: 0 | L126: 0 | M126: 0 | N126: 0 | O126: 0 | P126: 0 | Q126: 0 | R126: 0 | S126: 0 | T126: 0 | U126: 0 | V126: 0 | W126: 0 | X126: 0 | Y126: 0 | Z126: 0 | AA126: 0 | AB126: 0 | AC126: 0 | AD126: 0 | AE126: 0 | AF126: 0 | AG126: 0 | AH126: 0 | AI126: 0 | AJ126: 0 | AK126: 0 | AL126: 0 | AM126: 0
A127: Arizona Wildcats | C127: 77 | D127: 0 | E127: 0 | F127: 0 | G127: 0 | H127: 0 | I127: 0 | J127: 0 | K127: 0 | L127: 0 | M127: 0 | N127: 0 | O127: 0 | P127: 0 | Q127: 0 | R127: 0 | S127: 0 | T127: 0 | U127: 0 | V127: 0 | W127: 0 | X127: 0 | Y127: 0 | Z127: 0 | AA127: 0 | AB127: 0 | AC127: 1 | AD127: 0 | AE127: 0 | AF127: 0 | AG127: 0 | AH127: 0 | AI127: 0 | AJ127: 0 | AK127: 0 | AL127: 0 | AM127: 0
A128: Arizona Wildcats | C128: 79 | D128: 0 | E128: 0 | F128: 0 | G128: 0 | H128: 0 | I128: 0 | J128: 0 | K128: 0 | L128: 0 | M128: 0 | N128: 0 | O128: 0 | P128: 0 | Q128: 0 | R128: 0 | S128: 0 | T128: 0 | U128: 0 | V128: 0 | W128: 0 | X128: 0 | Y128: 0 | Z128: 0 | AA128: 0 | AB128: 1 | AC128: 1 | AD128: 0 | AE128: 0 | AF128: 1 | AG128: 1 | AH128: 0 | AI128: 0 | AJ128: 0 | AK128: 0 | AL128: 0 | AM128: 0
A129: Arizona Wildcats | C129: 80 | D129: 0 | E129: 0 | F129: 0 | G129: 0 | H129: 0 | I129: 1 | J129: 0 | K129: 0 | L129: 0 | M129: 0 | N129: 0 | O129: 0 | P129: 0 | Q129: 0 | R129: 0 | S129: 0 | T129: 0 | U129: 0 | V129: 0 | W129: 0 | X129: 0 | Y129: 0 | Z129: 0 | AA129: 0 | AB129: 0 | AC129: 0 | AD129: 0 | AE129: 0 | AF129: 0 | AG129: 0 | AH129: 0 | AI129: 0 | AJ129: 0 | AK129: 0 | AL129: 0 | AM129: 0
A130: Arizona Wildcats | C130: 81 | D130: 1 | E130: 0 | F130: 0 | G130: 0 | H130: 1 | I130: 2 | J130: 0 | K130: 0 | L130: 0 | M130: 0 | N130: 0 | O130: 0 | P130: 0 | Q130: 0 | R130: 0 | S130: 0 | T130: 0 | U130: 0 | V130: 0 | W130: 0 | X130: 0 | Y130: 0 | Z130: 0 | AA130: 0 | AB130: 0 | AC130: 0 | AD130: 0 | AE130: 0 | AF130: 0 | AG130: 0 | AH130: 0 | AI130: 0 | AJ130: 0 | AK130: 0 | AL130: 0 | AM130: 0
A131: Ascension Athletic Club | C131: 41 | D131: 0 | E131: 0 | F131: 0 | G131: 0 | H131: 0 | I131: 0 | J131: 0 | K131: 0 | L131: 0 | M131: 0 | N131: 0 | O131: 0 | P131: 0 | Q131: 0 | R131: 0 | S131: 0 | T131: 0 | U131: 0 | V131: 0 | W131: 0 | X131: 0 | Y131: 0 | Z131: 0 | AA131: 0 | AB131: 2 | AC131: 0 | AD131: 2 | AE131: 0 | AF131: 0 | AG131: 0 | AH131: 0 | AI131: 0 | AJ131: 0 | AK131: 0 | AL131: 0 | AM131: 0
A132: Ascension Athletic Club | C132: 42 | D132: 0 | E132: 0 | F132: 0 | G132: 0 | H132: 1 | I132: 0 | J132: 0 | K132: 0 | L132: 0 | M132: 0 | N132: 0 | O132: 0 | P132: 0 | Q132: 0 | R132: 0 | S132: 0 | T132: 0 | U132: 0 | V132: 0 | W132: 0 | X132: 0 | Y132: 0 | Z132: 0 | AA132: 0 | AB132: 0 | AC132: 0 | AD132: 0 | AE132: 0 | AF132: 0 | AG132: 0 | AH132: 0 | AI132: 0 | AJ132: 0 | AK132: 0 | AL132: 0 | AM132: 0
A133: Astoria TC | C133: 19 | D133: 0 | E133: 0 | F133: 1 | G133: 0 | H133: 0 | I133: 0 | J133: 0 | K133: 0 | L133: 0 | M133: 0 | N133: 0 | O133: 0 | P133: 0 | Q133: 0 | R133: 0 | S133: 0 | T133: 0 | U133: 0 | V133: 0 | W133: 0 | X133: 0 | Y133: 0 | Z133: 0 | AA133: 0 | AB133: 0 | AC133: 0 | AD133: 0 | AE133: 0 | AF133: 0 | AG133: 0 | AH133: 0 | AI133: 0 | AJ133: 0 | AK133: 0 | AL133: 0 | AM133: 0
... A139: Astoria TC | C139: 28 | D139: 1 | E139: 1 | F139: 0 | G139: 0 | H139: 0 | I139: 0 | J139: 0 | K139: 0 | L139: 0 | M139: 0 | N139: 0 | O139: 0 | P139: 0 | Q139: 0 | R139: 0 | S139: 0 | T139: 0 | U139: 0 | V139: 0 | W139: 0 | X139: 0 | Y139: 0 | Z139: 0 | AA139: 0 | AB139: 0 | AC139: 0 | AD139: 0 | AE139: 0 | AF139: 0 | AG139: 0 | AH139: 0 | AI139: 0 | AJ139: 0 | AK139: 0 | AL139: 0 | AM139: 0
...

Sheet Club Totals
A1: Season Range | B1: 10 | C1: to | D1: 107
A2: Club | B2: Club User ID | C2: USA INC Gold | D2: USA INC Silver | E2: USA INC Bronze | F2: Overseas INC Gold | G2: Overseas INC Silver | H2: Overseas INC Bronze | I2: Olympic Games Gold | J2: Olympic Games Silver | K2: Olympic Games Bronze | L2: World Champ's Gold | M2: World Champ's Silver | N2: World Champ's Bronze | O2: World Junior Champ's Gold | P2: World Junior Champ's Silver | Q2: World Junior Champ's Bronze | R2: World U21 Champ's Gold | S2: World U21 Champ's Silver | T2: World U21 Champ's Bronze | U2: World Masters Champ's Gold | V2: World Masters Champ's Silver | W2: World Masters Champ's Bronze | X2: Continental Champ's Gold | Y2: Continental Champ's Silver | Z2: Continental Champ's Bronze | AA2: Continental Junior Champ's Gold | AB2: Continental Junior Champ's Silver | AC2: Continental Junior Champ's Bronze | AD2: Continental U21 Champ's Gold | AE2: Continental U21 Champ's Silver | AF2: Continental U21 Champ's Bronze | AG2: Continental Masters Champ's Gold | AH2: Continental Masters Champ's Silver | AI2: Continental Masters Champ's Bronze | AJ2: Champions Cup Gold | AK2: Champions Cup Silver | AL2: Champions Cup Bronze | AM2: Champions Cup Entries | AN2: Champions Cup Points | AO2: Has Range Data
A3: _StarTrackers Athletic Cl... | C3: =SUMIFS('USA Prestige by Season'!D$3:D$2362,'USA Prestige by Season'!$A$3:$A$2362,$A3,'USA Prestige by Season'!$C$3:$C$2362,">="&$B$1,'USA Prestige by Season'!$C$3:$C$2362,"<="&$D$1) -> 4 | D3: =SUMIFS('USA Prestige by Season'!E$3:E$2362,'USA Prestige by Season'!$A$3:$A$2362,$A3,'USA Prestige by Season'!$C$3:$C$2362,">="&$B$1,'USA Prestige by Season'!$C$3:$C$2362,"<="&$D$1) -> 5 | E3: =SUMIFS('USA Prestige by Season'!F$3:F$2362,'USA Prestige by Season'!$A$3:$A$2362,$A3,'USA Prestige by Season'!$C$3:$C$2362,">="&$B$1,'USA Prestige by Season'!$C$3:$C$2362,"<="&$D$1) -> 16 | F3: =SUMIFS('USA Prestige by Season'!G$3:G$2362,'USA Prestige by Season'!$A$3:$A$2362,$A3,'USA Prestige by Season'!$C$3:$C$2362,">="&$B$1,'USA Prestige by Season'!$C$3:$C$2362,"<="&$D$1) -> 3 | G3: =SUMIFS('USA Prestige by Season'!H$3:H$2362,'USA Prestige by Season'!$A$3:$A$2362,$A3,'USA Prestige by Season'!$C$3:$C$2362,">="&$B$1,'USA Prestige by Season'!$C$3:$C$2362,"<="&$D$1) -> 0 | H3: =SUMIFS('USA Prestige by Season'!I$3:I$2362,'USA Prestige by Season'!$A$3:$A$2362,$A3,'USA Prestige by Season'!$C$3:$C$2362,">="&$B$1,'USA Prestige by Season'!$C$3:$C$2362,"<="&$D$1) -> 1 | I3: =SUMIFS('USA Prestige by Season'!J$3:J$2362,'USA Prestige by Season'!$A$3:$A$2362,$A3,'USA Prestige by Season'!$C$3:$C$2362,">="&$B$1,'USA Prestige by Season'!$C$3:$C$2362,"<="&$D$1) -> 0 | J3: =SUMIFS('USA Prestige by Season'!K$3:K$2362,'USA Prestige by Season'!$A$3:$A$2362,$A3,'USA Prestige by Season'!$C$3:$C$2362,">="&$B$1,'USA Prestige by Season'!$C$3:$C$2362,"<="&$D$1) -> 0 | ... AL3: =SUMIFS('USA Prestige by Season'!AM$3:AM$2362,'USA Prestige by Season'!$A$3:$A$2362,$A3,'USA Prestige by Season'!$C$3:$C$2362,">="&$B$1,'USA Prestige by Season'!$C$3:$C$2362,"<="&$D$1) -> 0 | AM3: =COUNTIFS('USA Prestige by Season'!$A$3:$A$2362,$A3,'USA Prestige by Season'!$C$3:$C$2362,">="&$B$1,'USA Prestige by Season'!$C$3:$C$2362,"<="&$D$1,'USA Prestige by Season'!$AN$3:$AN$2362,"<>") -> 10 | AN3: =SUMIFS('USA Prestige by Season'!$AO$3:$AO$2362,'USA Prestige by Season'!$A$3:$A$2362,$A3,'USA Prestige by Season'!$C$3:$C$2362,">="&$B$1,'USA Prestige by Season'!$C$3:$C$2362,"<="&$D$1) -> 0 | AO3: =IF(COUNTIFS('USA Prestige by Season'!$A$3:$A$2362,$A3,'USA Prestige by Season'!$C$3:$C$2362,">="&$B$1,'USA Prestige by Season'!$C$3:$C$2362,"<="&$D$1)>0,"Yes","No") -> Yes
A4: 400 Masters | C4: =SUMIFS('USA Prestige by Season'!D$3:D$2362,'USA Prestige by Season'!$A$3:$A$2362,$A4,'USA Prestige by Season'!$C$3:$C$2362,">="&$B$1,'USA Prestige by Season'!$C$3:$C$2362,"<="&$D$1) -> 5 | D4: =SUMIFS('USA Prestige by Season'!E$3:E$2362,'USA Prestige by Season'!$A$3:$A$2362,$A4,'USA Prestige by Season'!$C$3:$C$2362,">="&$B$1,'USA Prestige by Season'!$C$3:$C$2362,"<="&$D$1) -> 1 | E4: =SUMIFS('USA Prestige by Season'!F$3:F$2362,'USA Prestige by Season'!$A$3:$A$2362,$A4,'USA Prestige by Season'!$C$3:$C$2362,">="&$B$1,'USA Prestige by Season'!$C$3:$C$2362,"<="&$D$1) -> 4 | F4: =SUMIFS('USA Prestige by Season'!G$3:G$2362,'USA Prestige by Season'!$A$3:$A$2362,$A4,'USA Prestige by Season'!$C$3:$C$2362,">="&$B$1,'USA Prestige by Season'!$C$3:$C$2362,"<="&$D$1) -> 0 | G4: =SUMIFS('USA Prestige by Season'!H$3:H$2362,'USA Prestige by Season'!$A$3:$A$2362,$A4,'USA Prestige by Season'!$C$3:$C$2362,">="&$B$1,'USA Prestige by Season'!$C$3:$C$2362,"<="&$D$1) -> 1 | H4: =SUMIFS('USA Prestige by Season'!I$3:I$2362,'USA Prestige by Season'!$A$3:$A$2362,$A4,'USA Prestige by Season'!$C$3:$C$2362,">="&$B$1,'USA Prestige by Season'!$C$3:$C$2362,"<="&$D$1) -> 0 | I4: =SUMIFS('USA Prestige by Season'!J$3:J$2362,'USA Prestige by Season'!$A$3:$A$2362,$A4,'USA Prestige by Season'!$C$3:$C$2362,">="&$B$1,'USA Prestige by Season'!$C$3:$C$2362,"<="&$D$1) -> 0 | J4: =SUMIFS('USA Prestige by Season'!K$3:K$2362,'USA Prestige by Season'!$A$3:$A$2362,$A4,'USA Prestige by Season'!$C$3:$C$2362,">="&$B$1,'USA Prestige by Season'!$C$3:$C$2362,"<="&$D$1) -> 0 | ... AL4: =SUMIFS('USA Prestige by Season'!AM$3:AM$2362,'USA Prestige by Season'!$A$3:$A$2362,$A4,'USA Prestige by Season'!$C$3:$C$2362,">="&$B$1,'USA Prestige by Season'!$C$3:$C$2362,"<="&$D$1) -> 0 | AM4: =COUNTIFS('USA Prestige by Season'!$A$3:$A$2362,$A4,'USA Prestige by Season'!$C$3:$C$2362,">="&$B$1,'USA Prestige by Season'!$C$3:$C$2362,"<="&$D$1,'USA Prestige by Season'!$AN$3:$AN$2362,"<>") -> 8 | AN4: =SUMIFS('USA Prestige by Season'!$AO$3:$AO$2362,'USA Prestige by Season'!$A$3:$A$2362,$A4,'USA Prestige by Season'!$C$3:$C$2362,">="&$B$1,'USA Prestige by Season'!$C$3:$C$2362,"<="&$D$1) -> 0 | AO4: =IF(COUNTIFS('USA Prestige by Season'!$A$3:$A$2362,$A4,'USA Prestige by Season'!$C$3:$C$2362,">="&$B$1,'USA Prestige by Season'!$C$3:$C$2362,"<="&$D$1)>0,"Yes","No") -> Yes
A5: AC Khorbin | C5: =SUMIFS('USA Prestige by Season'!D$3:D$2362,'USA Prestige by Season'!$A$3:$A$2362,$A5,'USA Prestige by Season'!$C$3:$C$2362,">="&$B$1,'USA Prestige by Season'!$C$3:$C$2362,"<="&$D$1) -> 0 | D5: =SUMIFS('USA Prestige by Season'!E$3:E$2362,'USA Prestige by Season'!$A$3:$A$2362,$A5,'USA Prestige by Season'!$C$3:$C$2362,">="&$B$1,'USA Prestige by Season'!$C$3:$C$2362,"<="&$D$1) -> 0 | E5: =SUMIFS('USA Prestige by Season'!F$3:F$2362,'USA Prestige by Season'!$A$3:$A$2362,$A5,'USA Prestige by Season'!$C$3:$C$2362,">="&$B$1,'USA Prestige by Season'!$C$3:$C$2362,"<="&$D$1) -> 0 | F5: =SUMIFS('USA Prestige by Season'!G$3:G$2362,'USA Prestige by Season'!$A$3:$A$2362,$A5,'USA Prestige by Season'!$C$3:$C$2362,">="&$B$1,'USA Prestige by Season'!$C$3:$C$2362,"<="&$D$1) -> 0 | G5: =SUMIFS('USA Prestige by Season'!H$3:H$2362,'USA Prestige by Season'!$A$3:$A$2362,$A5,'USA Prestige by Season'!$C$3:$C$2362,">="&$B$1,'USA Prestige by Season'!$C$3:$C$2362,"<="&$D$1) -> 0 | H5: =SUMIFS('USA Prestige by Season'!I$3:I$2362,'USA Prestige by Season'!$A$3:$A$2362,$A5,'USA Prestige by Season'!$C$3:$C$2362,">="&$B$1,'USA Prestige by Season'!$C$3:$C$2362,"<="&$D$1) -> 0 | I5: =SUMIFS('USA Prestige by Season'!J$3:J$2362,'USA Prestige by Season'!$A$3:$A$2362,$A5,'USA Prestige by Season'!$C$3:$C$2362,">="&$B$1,'USA Prestige by Season'!$C$3:$C$2362,"<="&$D$1) -> 0 | J5: =SUMIFS('USA Prestige by Season'!K$3:K$2362,'USA Prestige by Season'!$A$3:$A$2362,$A5,'USA Prestige by Season'!$C$3:$C$2362,">="&$B$1,'USA Prestige by Season'!$C$3:$C$2362,"<="&$D$1) -> 0 | ... AL5: =SUMIFS('USA Prestige by Season'!AM$3:AM$2362,'USA Prestige by Season'!$A$3:$A$2362,$A5,'USA Prestige by Season'!$C$3:$C$2362,">="&$B$1,'USA Prestige by Season'!$C$3:$C$2362,"<="&$D$1) -> 0 | AM5: =COUNTIFS('USA Prestige by Season'!$A$3:$A$2362,$A5,'USA Prestige by Season'!$C$3:$C$2362,">="&$B$1,'USA Prestige by Season'!$C$3:$C$2362,"<="&$D$1,'USA Prestige by Season'!$AN$3:$AN$2362,"<>") -> 1 | AN5: =SUMIFS('USA Prestige by Season'!$AO$3:$AO$2362,'USA Prestige by Season'!$A$3:$A$2362,$A5,'USA Prestige by Season'!$C$3:$C$2362,">="&$B$1,'USA Prestige by Season'!$C$3:$C$2362,"<="&$D$1) -> 0 | AO5: =IF(COUNTIFS('USA Prestige by Season'!$A$3:$A$2362,$A5,'USA Prestige by Season'!$C$3:$C$2362,">="&$B$1,'USA Prestige by Season'!$C$3:$C$2362,"<="&$D$1)>0,"Yes","No") -> Yes
A6: AC Massachusetts | C6: =SUMIFS('USA Prestige by Season'!D$3:D$2362,'USA Prestige by Season'!$A$3:$A$2362,$A6,'USA Prestige by Season'!$C$3:$C$2362,">="&$B$1,'USA Prestige by Season'!$C$3:$C$2362,"<="&$D$1) -> 0 | D6: =SUMIFS('USA Prestige by Season'!E$3:E$2362,'USA Prestige by Season'!$A$3:$A$2362,$A6,'USA Prestige by Season'!$C$3:$C$2362,">="&$B$1,'USA Prestige by Season'!$C$3:$C$2362,"<="&$D$1) -> 0 | E6: =SUMIFS('USA Prestige by Season'!F$3:F$2362,'USA Prestige by Season'!$A$3:$A$2362,$A6,'USA Prestige by Season'!$C$3:$C$2362,">="&$B$1,'USA Prestige by Season'!$C$3:$C$2362,"<="&$D$1) -> 0 | F6: =SUMIFS('USA Prestige by Season'!G$3:G$2362,'USA Prestige by Season'!$A$3:$A$2362,$A6,'USA Prestige by Season'!$C$3:$C$2362,">="&$B$1,'USA Prestige by Season'!$C$3:$C$2362,"<="&$D$1) -> 1 | G6: =SUMIFS('USA Prestige by Season'!H$3:H$2362,'USA Prestige by Season'!$A$3:$A$2362,$A6,'USA Prestige by Season'!$C$3:$C$2362,">="&$B$1,'USA Prestige by Season'!$C$3:$C$2362,"<="&$D$1) -> 1 | H6: =SUMIFS('USA Prestige by Season'!I$3:I$2362,'USA Prestige by Season'!$A$3:$A$2362,$A6,'USA Prestige by Season'!$C$3:$C$2362,">="&$B$1,'USA Prestige by Season'!$C$3:$C$2362,"<="&$D$1) -> 3 | I6: =SUMIFS('USA Prestige by Season'!J$3:J$2362,'USA Prestige by Season'!$A$3:$A$2362,$A6,'USA Prestige by Season'!$C$3:$C$2362,">="&$B$1,'USA Prestige by Season'!$C$3:$C$2362,"<="&$D$1) -> 0 | J6: =SUMIFS('USA Prestige by Season'!K$3:K$2362,'USA Prestige by Season'!$A$3:$A$2362,$A6,'USA Prestige by Season'!$C$3:$C$2362,">="&$B$1,'USA Prestige by Season'!$C$3:$C$2362,"<="&$D$1) -> 0 | ... AL6: =SUMIFS('USA Prestige by Season'!AM$3:AM$2362,'USA Prestige by Season'!$A$3:$A$2362,$A6,'USA Prestige by Season'!$C$3:$C$2362,">="&$B$1,'USA Prestige by Season'!$C$3:$C$2362,"<="&$D$1) -> 0 | AM6: =COUNTIFS('USA Prestige by Season'!$A$3:$A$2362,$A6,'USA Prestige by Season'!$C$3:$C$2362,">="&$B$1,'USA Prestige by Season'!$C$3:$C$2362,"<="&$D$1,'USA Prestige by Season'!$AN$3:$AN$2362,"<>") -> 4 | AN6: =SUMIFS('USA Prestige by Season'!$AO$3:$AO$2362,'USA Prestige by Season'!$A$3:$A$2362,$A6,'USA Prestige by Season'!$C$3:$C$2362,">="&$B$1,'USA Prestige by Season'!$C$3:$C$2362,"<="&$D$1) -> 0 | AO6: =IF(COUNTIFS('USA Prestige by Season'!$A$3:$A$2362,$A6,'USA Prestige by Season'!$C$3:$C$2362,">="&$B$1,'USA Prestige by Season'!$C$3:$C$2362,"<="&$D$1)>0,"Yes","No") -> Yes
A7: Aero | C7: =SUMIFS('USA Prestige by Season'!D$3:D$2362,'USA Prestige by Season'!$A$3:$A$2362,$A7,'USA Prestige by Season'!$C$3:$C$2362,">="&$B$1,'USA Prestige by Season'!$C$3:$C$2362,"<="&$D$1) -> 0 | D7: =SUMIFS('USA Prestige by Season'!E$3:E$2362,'USA Prestige by Season'!$A$3:$A$2362,$A7,'USA Prestige by Season'!$C$3:$C$2362,">="&$B$1,'USA Prestige by Season'!$C$3:$C$2362,"<="&$D$1) -> 0 | E7: =SUMIFS('USA Prestige by Season'!F$3:F$2362,'USA Prestige by Season'!$A$3:$A$2362,$A7,'USA Prestige by Season'!$C$3:$C$2362,">="&$B$1,'USA Prestige by Season'!$C$3:$C$2362,"<="&$D$1) -> 0 | F7: =SUMIFS('USA Prestige by Season'!G$3:G$2362,'USA Prestige by Season'!$A$3:$A$2362,$A7,'USA Prestige by Season'!$C$3:$C$2362,">="&$B$1,'USA Prestige by Season'!$C$3:$C$2362,"<="&$D$1) -> 0 | G7: =SUMIFS('USA Prestige by Season'!H$3:H$2362,'USA Prestige by Season'!$A$3:$A$2362,$A7,'USA Prestige by Season'!$C$3:$C$2362,">="&$B$1,'USA Prestige by Season'!$C$3:$C$2362,"<="&$D$1) -> 0 | H7: =SUMIFS('USA Prestige by Season'!I$3:I$2362,'USA Prestige by Season'!$A$3:$A$2362,$A7,'USA Prestige by Season'!$C$3:$C$2362,">="&$B$1,'USA Prestige by Season'!$C$3:$C$2362,"<="&$D$1) -> 0 | I7: =SUMIFS('USA Prestige by Season'!J$3:J$2362,'USA Prestige by Season'!$A$3:$A$2362,$A7,'USA Prestige by Season'!$C$3:$C$2362,">="&$B$1,'USA Prestige by Season'!$C$3:$C$2362,"<="&$D$1) -> 0 | J7: =SUMIFS('USA Prestige by Season'!K$3:K$2362,'USA Prestige by Season'!$A$3:$A$2362,$A7,'USA Prestige by Season'!$C$3:$C$2362,">="&$B$1,'USA Prestige by Season'!$C$3:$C$2362,"<="&$D$1) -> 0 | ... AL7: =SUMIFS('USA Prestige by Season'!AM$3:AM$2362,'USA Prestige by Season'!$A$3:$A$2362,$A7,'USA Prestige by Season'!$C$3:$C$2362,">="&$B$1,'USA Prestige by Season'!$C$3:$C$2362,"<="&$D$1) -> 0 | AM7: =COUNTIFS('USA Prestige by Season'!$A$3:$A$2362,$A7,'USA Prestige by Season'!$C$3:$C$2362,">="&$B$1,'USA Prestige by Season'!$C$3:$C$2362,"<="&$D$1,'USA Prestige by Season'!$AN$3:$AN$2362,"<>") -> 1 | AN7: =SUMIFS('USA Prestige by Season'!$AO$3:$AO$2362,'USA Prestige by Season'!$A$3:$A$2362,$A7,'USA Prestige by Season'!$C$3:$C$2362,">="&$B$1,'USA Prestige by Season'!$C$3:$C$2362,"<="&$D$1) -> 0 | AO7: =IF(COUNTIFS('USA Prestige by Season'!$A$3:$A$2362,$A7,'USA Prestige by Season'!$C$3:$C$2362,">="&$B$1,'USA Prestige by Season'!$C$3:$C$2362,"<="&$D$1)>0,"Yes","No") -> Yes
A8: Akitas | B8: 14870 | C8: =SUMIFS('USA Prestige by Season'!D$3:D$2362,'USA Prestige by Season'!$A$3:$A$2362,$A8,'USA Prestige by Season'!$C$3:$C$2362,">="&$B$1,'USA Prestige by Season'!$C$3:$C$2362,"<="&$D$1) -> 334 | D8: =SUMIFS('USA Prestige by Season'!E$3:E$2362,'USA Prestige by Season'!$A$3:$A$2362,$A8,'USA Prestige by Season'!$C$3:$C$2362,">="&$B$1,'USA Prestige by Season'!$C$3:$C$2362,"<="&$D$1) -> 357 | E8: =SUMIFS('USA Prestige by Season'!F$3:F$2362,'USA Prestige by Season'!$A$3:$A$2362,$A8,'USA Prestige by Season'!$C$3:$C$2362,">="&$B$1,'USA Prestige by Season'!$C$3:$C$2362,"<="&$D$1) -> 311 | F8: =SUMIFS('USA Prestige by Season'!G$3:G$2362,'USA Prestige by Season'!$A$3:$A$2362,$A8,'USA Prestige by Season'!$C$3:$C$2362,">="&$B$1,'USA Prestige by Season'!$C$3:$C$2362,"<="&$D$1) -> 2 | G8: =SUMIFS('USA Prestige by Season'!H$3:H$2362,'USA Prestige by Season'!$A$3:$A$2362,$A8,'USA Prestige by Season'!$C$3:$C$2362,">="&$B$1,'USA Prestige by Season'!$C$3:$C$2362,"<="&$D$1) -> 5 | H8: =SUMIFS('USA Prestige by Season'!I$3:I$2362,'USA Prestige by Season'!$A$3:$A$2362,$A8,'USA Prestige by Season'!$C$3:$C$2362,">="&$B$1,'USA Prestige by Season'!$C$3:$C$2362,"<="&$D$1) -> 0 | I8: =SUMIFS('USA Prestige by Season'!J$3:J$2362,'USA Prestige by Season'!$A$3:$A$2362,$A8,'USA Prestige by Season'!$C$3:$C$2362,">="&$B$1,'USA Prestige by Season'!$C$3:$C$2362,"<="&$D$1) -> 0 | J8: =SUMIFS('USA Prestige by Season'!K$3:K$2362,'USA Prestige by Season'!$A$3:$A$2362,$A8,'USA Prestige by Season'!$C$3:$C$2362,">="&$B$1,'USA Prestige by Season'!$C$3:$C$2362,"<="&$D$1) -> 0 | ... AL8: =SUMIFS('USA Prestige by Season'!AM$3:AM$2362,'USA Prestige by Season'!$A$3:$A$2362,$A8,'USA Prestige by Season'!$C$3:$C$2362,">="&$B$1,'USA Prestige by Season'!$C$3:$C$2362,"<="&$D$1) -> 0 | AM8: =COUNTIFS('USA Prestige by Season'!$A$3:$A$2362,$A8,'USA Prestige by Season'!$C$3:$C$2362,">="&$B$1,'USA Prestige by Season'!$C$3:$C$2362,"<="&$D$1,'USA Prestige by Season'!$AN$3:$AN$2362,"<>") -> 95 | AN8: =SUMIFS('USA Prestige by Season'!$AO$3:$AO$2362,'USA Prestige by Season'!$A$3:$A$2362,$A8,'USA Prestige by Season'!$C$3:$C$2362,">="&$B$1,'USA Prestige by Season'!$C$3:$C$2362,"<="&$D$1) -> 0 | AO8: =IF(COUNTIFS('USA Prestige by Season'!$A$3:$A$2362,$A8,'USA Prestige by Season'!$C$3:$C$2362,">="&$B$1,'USA Prestige by Season'!$C$3:$C$2362,"<="&$D$1)>0,"Yes","No") -> Yes
A9: Alaska Track & Field | C9: =SUMIFS('USA Prestige by Season'!D$3:D$2362,'USA Prestige by Season'!$A$3:$A$2362,$A9,'USA Prestige by Season'!$C$3:$C$2362,">="&$B$1,'USA Prestige by Season'!$C$3:$C$2362,"<="&$D$1) -> 0 | D9: =SUMIFS('USA Prestige by Season'!E$3:E$2362,'USA Prestige by Season'!$A$3:$A$2362,$A9,'USA Prestige by Season'!$C$3:$C$2362,">="&$B$1,'USA Prestige by Season'!$C$3:$C$2362,"<="&$D$1) -> 0 | E9: =SUMIFS('USA Prestige by Season'!F$3:F$2362,'USA Prestige by Season'!$A$3:$A$2362,$A9,'USA Prestige by Season'!$C$3:$C$2362,">="&$B$1,'USA Prestige by Season'!$C$3:$C$2362,"<="&$D$1) -> 1 | F9: =SUMIFS('USA Prestige by Season'!G$3:G$2362,'USA Prestige by Season'!$A$3:$A$2362,$A9,'USA Prestige by Season'!$C$3:$C$2362,">="&$B$1,'USA Prestige by Season'!$C$3:$C$2362,"<="&$D$1) -> 0 | G9: =SUMIFS('USA Prestige by Season'!H$3:H$2362,'USA Prestige by Season'!$A$3:$A$2362,$A9,'USA Prestige by Season'!$C$3:$C$2362,">="&$B$1,'USA Prestige by Season'!$C$3:$C$2362,"<="&$D$1) -> 0 | H9: =SUMIFS('USA Prestige by Season'!I$3:I$2362,'USA Prestige by Season'!$A$3:$A$2362,$A9,'USA Prestige by Season'!$C$3:$C$2362,">="&$B$1,'USA Prestige by Season'!$C$3:$C$2362,"<="&$D$1) -> 2 | I9: =SUMIFS('USA Prestige by Season'!J$3:J$2362,'USA Prestige by Season'!$A$3:$A$2362,$A9,'USA Prestige by Season'!$C$3:$C$2362,">="&$B$1,'USA Prestige by Season'!$C$3:$C$2362,"<="&$D$1) -> 0 | J9: =SUMIFS('USA Prestige by Season'!K$3:K$2362,'USA Prestige by Season'!$A$3:$A$2362,$A9,'USA Prestige by Season'!$C$3:$C$2362,">="&$B$1,'USA Prestige by Season'!$C$3:$C$2362,"<="&$D$1) -> 0 | ... AL9: =SUMIFS('USA Prestige by Season'!AM$3:AM$2362,'USA Prestige by Season'!$A$3:$A$2362,$A9,'USA Prestige by Season'!$C$3:$C$2362,">="&$B$1,'USA Prestige by Season'!$C$3:$C$2362,"<="&$D$1) -> 0 | AM9: =COUNTIFS('USA Prestige by Season'!$A$3:$A$2362,$A9,'USA Prestige by Season'!$C$3:$C$2362,">="&$B$1,'USA Prestige by Season'!$C$3:$C$2362,"<="&$D$1,'USA Prestige by Season'!$AN$3:$AN$2362,"<>") -> 1 | AN9: =SUMIFS('USA Prestige by Season'!$AO$3:$AO$2362,'USA Prestige by Season'!$A$3:$A$2362,$A9,'USA Prestige by Season'!$C$3:$C$2362,">="&$B$1,'USA Prestige by Season'!$C$3:$C$2362,"<="&$D$1) -> 0 | AO9: =IF(COUNTIFS('USA Prestige by Season'!$A$3:$A$2362,$A9,'USA Prestige by Season'!$C$3:$C$2362,">="&$B$1,'USA Prestige by Season'!$C$3:$C$2362,"<="&$D$1)>0,"Yes","No") -> Yes
A10: Alletichs | C10: =SUMIFS('USA Prestige by Season'!D$3:D$2362,'USA Prestige by Season'!$A$3:$A$2362,$A10,'USA Prestige by Season'!$C$3:$C$2362,">="&$B$1,'USA Prestige by Season'!$C$3:$C$2362,"<="&$D$1) -> 0 | D10: =SUMIFS('USA Prestige by Season'!E$3:E$2362,'USA Prestige by Season'!$A$3:$A$2362,$A10,'USA Prestige by Season'!$C$3:$C$2362,">="&$B$1,'USA Prestige by Season'!$C$3:$C$2362,"<="&$D$1) -> 2 | E10: =SUMIFS('USA Prestige by Season'!F$3:F$2362,'USA Prestige by Season'!$A$3:$A$2362,$A10,'USA Prestige by Season'!$C$3:$C$2362,">="&$B$1,'USA Prestige by Season'!$C$3:$C$2362,"<="&$D$1) -> 0 | F10: =SUMIFS('USA Prestige by Season'!G$3:G$2362,'USA Prestige by Season'!$A$3:$A$2362,$A10,'USA Prestige by Season'!$C$3:$C$2362,">="&$B$1,'USA Prestige by Season'!$C$3:$C$2362,"<="&$D$1) -> 2 | G10: =SUMIFS('USA Prestige by Season'!H$3:H$2362,'USA Prestige by Season'!$A$3:$A$2362,$A10,'USA Prestige by Season'!$C$3:$C$2362,">="&$B$1,'USA Prestige by Season'!$C$3:$C$2362,"<="&$D$1) -> 3 | H10: =SUMIFS('USA Prestige by Season'!I$3:I$2362,'USA Prestige by Season'!$A$3:$A$2362,$A10,'USA Prestige by Season'!$C$3:$C$2362,">="&$B$1,'USA Prestige by Season'!$C$3:$C$2362,"<="&$D$1) -> 1 | I10: =SUMIFS('USA Prestige by Season'!J$3:J$2362,'USA Prestige by Season'!$A$3:$A$2362,$A10,'USA Prestige by Season'!$C$3:$C$2362,">="&$B$1,'USA Prestige by Season'!$C$3:$C$2362,"<="&$D$1) -> 0 | J10: =SUMIFS('USA Prestige by Season'!K$3:K$2362,'USA Prestige by Season'!$A$3:$A$2362,$A10,'USA Prestige by Season'!$C$3:$C$2362,">="&$B$1,'USA Prestige by Season'!$C$3:$C$2362,"<="&$D$1) -> 0 | ... AL10: =SUMIFS('USA Prestige by Season'!AM$3:AM$2362,'USA Prestige by Season'!$A$3:$A$2362,$A10,'USA Prestige by Season'!$C$3:$C$2362,">="&$B$1,'USA Prestige by Season'!$C$3:$C$2362,"<="&$D$1) -> 0 | AM10: =COUNTIFS('USA Prestige by Season'!$A$3:$A$2362,$A10,'USA Prestige by Season'!$C$3:$C$2362,">="&$B$1,'USA Prestige by Season'!$C$3:$C$2362,"<="&$D$1,'USA Prestige by Season'!$AN$3:$AN$2362,"<>") -> 2 | AN10: =SUMIFS('USA Prestige by Season'!$AO$3:$AO$2362,'USA Prestige by Season'!$A$3:$A$2362,$A10,'USA Prestige by Season'!$C$3:$C$2362,">="&$B$1,'USA Prestige by Season'!$C$3:$C$2362,"<="&$D$1) -> 0 | AO10: =IF(COUNTIFS('USA Prestige by Season'!$A$3:$A$2362,$A10,'USA Prestige by Season'!$C$3:$C$2362,">="&$B$1,'USA Prestige by Season'!$C$3:$C$2362,"<="&$D$1)>0,"Yes","No") -> Yes
A11: America camp | C11: =SUMIFS('USA Prestige by Season'!D$3:D$2362,'USA Prestige by Season'!$A$3:$A$2362,$A11,'USA Prestige by Season'!$C$3:$C$2362,">="&$B$1,'USA Prestige by Season'!$C$3:$C$2362,"<="&$D$1) -> 0 | D11: =SUMIFS('USA Prestige by Season'!E$3:E$2362,'USA Prestige by Season'!$A$3:$A$2362,$A11,'USA Prestige by Season'!$C$3:$C$2362,">="&$B$1,'USA Prestige by Season'!$C$3:$C$2362,"<="&$D$1) -> 1 | E11: =SUMIFS('USA Prestige by Season'!F$3:F$2362,'USA Prestige by Season'!$A$3:$A$2362,$A11,'USA Prestige by Season'!$C$3:$C$2362,">="&$B$1,'USA Prestige by Season'!$C$3:$C$2362,"<="&$D$1) -> 0 | F11: =SUMIFS('USA Prestige by Season'!G$3:G$2362,'USA Prestige by Season'!$A$3:$A$2362,$A11,'USA Prestige by Season'!$C$3:$C$2362,">="&$B$1,'USA Prestige by Season'!$C$3:$C$2362,"<="&$D$1) -> 0 | G11: =SUMIFS('USA Prestige by Season'!H$3:H$2362,'USA Prestige by Season'!$A$3:$A$2362,$A11,'USA Prestige by Season'!$C$3:$C$2362,">="&$B$1,'USA Prestige by Season'!$C$3:$C$2362,"<="&$D$1) -> 0 | H11: =SUMIFS('USA Prestige by Season'!I$3:I$2362,'USA Prestige by Season'!$A$3:$A$2362,$A11,'USA Prestige by Season'!$C$3:$C$2362,">="&$B$1,'USA Prestige by Season'!$C$3:$C$2362,"<="&$D$1) -> 0 | I11: =SUMIFS('USA Prestige by Season'!J$3:J$2362,'USA Prestige by Season'!$A$3:$A$2362,$A11,'USA Prestige by Season'!$C$3:$C$2362,">="&$B$1,'USA Prestige by Season'!$C$3:$C$2362,"<="&$D$1) -> 0 | J11: =SUMIFS('USA Prestige by Season'!K$3:K$2362,'USA Prestige by Season'!$A$3:$A$2362,$A11,'USA Prestige by Season'!$C$3:$C$2362,">="&$B$1,'USA Prestige by Season'!$C$3:$C$2362,"<="&$D$1) -> 0 | ... AL11: =SUMIFS('USA Prestige by Season'!AM$3:AM$2362,'USA Prestige by Season'!$A$3:$A$2362,$A11,'USA Prestige by Season'!$C$3:$C$2362,">="&$B$1,'USA Prestige by Season'!$C$3:$C$2362,"<="&$D$1) -> 0 | AM11: =COUNTIFS('USA Prestige by Season'!$A$3:$A$2362,$A11,'USA Prestige by Season'!$C$3:$C$2362,">="&$B$1,'USA Prestige by Season'!$C$3:$C$2362,"<="&$D$1,'USA Prestige by Season'!$AN$3:$AN$2362,"<>") -> 1 | AN11: =SUMIFS('USA Prestige by Season'!$AO$3:$AO$2362,'USA Prestige by Season'!$A$3:$A$2362,$A11,'USA Prestige by Season'!$C$3:$C$2362,">="&$B$1,'USA Prestige by Season'!$C$3:$C$2362,"<="&$D$1) -> 0 | AO11: =IF(COUNTIFS('USA Prestige by Season'!$A$3:$A$2362,$A11,'USA Prestige by Season'!$C$3:$C$2362,">="&$B$1,'USA Prestige by Season'!$C$3:$C$2362,"<="&$D$1)>0,"Yes","No") -> Yes
A12: Apocalypse Track Club | C12: =SUMIFS('USA Prestige by Season'!D$3:D$2362,'USA Prestige by Season'!$A$3:$A$2362,$A12,'USA Prestige by Season'!$C$3:$C$2362,">="&$B$1,'USA Prestige by Season'!$C$3:$C$2362,"<="&$D$1) -> 0 | D12: =SUMIFS('USA Prestige by Season'!E$3:E$2362,'USA Prestige by Season'!$A$3:$A$2362,$A12,'USA Prestige by Season'!$C$3:$C$2362,">="&$B$1,'USA Prestige by Season'!$C$3:$C$2362,"<="&$D$1) -> 0 | E12: =SUMIFS('USA Prestige by Season'!F$3:F$2362,'USA Prestige by Season'!$A$3:$A$2362,$A12,'USA Prestige by Season'!$C$3:$C$2362,">="&$B$1,'USA Prestige by Season'!$C$3:$C$2362,"<="&$D$1) -> 0 | F12: =SUMIFS('USA Prestige by Season'!G$3:G$2362,'USA Prestige by Season'!$A$3:$A$2362,$A12,'USA Prestige by Season'!$C$3:$C$2362,">="&$B$1,'USA Prestige by Season'!$C$3:$C$2362,"<="&$D$1) -> 0 | G12: =SUMIFS('USA Prestige by Season'!H$3:H$2362,'USA Prestige by Season'!$A$3:$A$2362,$A12,'USA Prestige by Season'!$C$3:$C$2362,">="&$B$1,'USA Prestige by Season'!$C$3:$C$2362,"<="&$D$1) -> 1 | H12: =SUMIFS('USA Prestige by Season'!I$3:I$2362,'USA Prestige by Season'!$A$3:$A$2362,$A12,'USA Prestige by Season'!$C$3:$C$2362,">="&$B$1,'USA Prestige by Season'!$C$3:$C$2362,"<="&$D$1) -> 0 | I12: =SUMIFS('USA Prestige by Season'!J$3:J$2362,'USA Prestige by Season'!$A$3:$A$2362,$A12,'USA Prestige by Season'!$C$3:$C$2362,">="&$B$1,'USA Prestige by Season'!$C$3:$C$2362,"<="&$D$1) -> 0 | J12: =SUMIFS('USA Prestige by Season'!K$3:K$2362,'USA Prestige by Season'!$A$3:$A$2362,$A12,'USA Prestige by Season'!$C$3:$C$2362,">="&$B$1,'USA Prestige by Season'!$C$3:$C$2362,"<="&$D$1) -> 0 | ... AL12: =SUMIFS('USA Prestige by Season'!AM$3:AM$2362,'USA Prestige by Season'!$A$3:$A$2362,$A12,'USA Prestige by Season'!$C$3:$C$2362,">="&$B$1,'USA Prestige by Season'!$C$3:$C$2362,"<="&$D$1) -> 0 | AM12: =COUNTIFS('USA Prestige by Season'!$A$3:$A$2362,$A12,'USA Prestige by Season'!$C$3:$C$2362,">="&$B$1,'USA Prestige by Season'!$C$3:$C$2362,"<="&$D$1,'USA Prestige by Season'!$AN$3:$AN$2362,"<>") -> 1 | AN12: =SUMIFS('USA Prestige by Season'!$AO$3:$AO$2362,'USA Prestige by Season'!$A$3:$A$2362,$A12,'USA Prestige by Season'!$C$3:$C$2362,">="&$B$1,'USA Prestige by Season'!$C$3:$C$2362,"<="&$D$1) -> 0 | AO12: =IF(COUNTIFS('USA Prestige by Season'!$A$3:$A$2362,$A12,'USA Prestige by Season'!$C$3:$C$2362,">="&$B$1,'USA Prestige by Season'!$C$3:$C$2362,"<="&$D$1)>0,"Yes","No") -> Yes
A13: Arizona Wildcats | C13: =SUMIFS('USA Prestige by Season'!D$3:D$2362,'USA Prestige by Season'!$A$3:$A$2362,$A13,'USA Prestige by Season'!$C$3:$C$2362,">="&$B$1,'USA Prestige by Season'!$C$3:$C$2362,"<="&$D$1) -> 1 | D13: =SUMIFS('USA Prestige by Season'!E$3:E$2362,'USA Prestige by Season'!$A$3:$A$2362,$A13,'USA Prestige by Season'!$C$3:$C$2362,">="&$B$1,'USA Prestige by Season'!$C$3:$C$2362,"<="&$D$1) -> 0 | E13: =SUMIFS('USA Prestige by Season'!F$3:F$2362,'USA Prestige by Season'!$A$3:$A$2362,$A13,'USA Prestige by Season'!$C$3:$C$2362,">="&$B$1,'USA Prestige by Season'!$C$3:$C$2362,"<="&$D$1) -> 0 | F13: =SUMIFS('USA Prestige by Season'!G$3:G$2362,'USA Prestige by Season'!$A$3:$A$2362,$A13,'USA Prestige by Season'!$C$3:$C$2362,">="&$B$1,'USA Prestige by Season'!$C$3:$C$2362,"<="&$D$1) -> 0 | G13: =SUMIFS('USA Prestige by Season'!H$3:H$2362,'USA Prestige by Season'!$A$3:$A$2362,$A13,'USA Prestige by Season'!$C$3:$C$2362,">="&$B$1,'USA Prestige by Season'!$C$3:$C$2362,"<="&$D$1) -> 1 | H13: =SUMIFS('USA Prestige by Season'!I$3:I$2362,'USA Prestige by Season'!$A$3:$A$2362,$A13,'USA Prestige by Season'!$C$3:$C$2362,">="&$B$1,'USA Prestige by Season'!$C$3:$C$2362,"<="&$D$1) -> 3 | I13: =SUMIFS('USA Prestige by Season'!J$3:J$2362,'USA Prestige by Season'!$A$3:$A$2362,$A13,'USA Prestige by Season'!$C$3:$C$2362,">="&$B$1,'USA Prestige by Season'!$C$3:$C$2362,"<="&$D$1) -> 0 | J13: =SUMIFS('USA Prestige by Season'!K$3:K$2362,'USA Prestige by Season'!$A$3:$A$2362,$A13,'USA Prestige by Season'!$C$3:$C$2362,">="&$B$1,'USA Prestige by Season'!$C$3:$C$2362,"<="&$D$1) -> 0 | ... AL13: =SUMIFS('USA Prestige by Season'!AM$3:AM$2362,'USA Prestige by Season'!$A$3:$A$2362,$A13,'USA Prestige by Season'!$C$3:$C$2362,">="&$B$1,'USA Prestige by Season'!$C$3:$C$2362,"<="&$D$1) -> 0 | AM13: =COUNTIFS('USA Prestige by Season'!$A$3:$A$2362,$A13,'USA Prestige by Season'!$C$3:$C$2362,">="&$B$1,'USA Prestige by Season'!$C$3:$C$2362,"<="&$D$1,'USA Prestige by Season'!$AN$3:$AN$2362,"<>") -> 4 | AN13: =SUMIFS('USA Prestige by Season'!$AO$3:$AO$2362,'USA Prestige by Season'!$A$3:$A$2362,$A13,'USA Prestige by Season'!$C$3:$C$2362,">="&$B$1,'USA Prestige by Season'!$C$3:$C$2362,"<="&$D$1) -> 0 | AO13: =IF(COUNTIFS('USA Prestige by Season'!$A$3:$A$2362,$A13,'USA Prestige by Season'!$C$3:$C$2362,">="&$B$1,'USA Prestige by Season'!$C$3:$C$2362,"<="&$D$1)>0,"Yes","No") -> Yes
A14: Ascension Athletic Club | C14: =SUMIFS('USA Prestige by Season'!D$3:D$2362,'USA Prestige by Season'!$A$3:$A$2362,$A14,'USA Prestige by Season'!$C$3:$C$2362,">="&$B$1,'USA Prestige by Season'!$C$3:$C$2362,"<="&$D$1) -> 0 | D14: =SUMIFS('USA Prestige by Season'!E$3:E$2362,'USA Prestige by Season'!$A$3:$A$2362,$A14,'USA Prestige by Season'!$C$3:$C$2362,">="&$B$1,'USA Prestige by Season'!$C$3:$C$2362,"<="&$D$1) -> 0 | E14: =SUMIFS('USA Prestige by Season'!F$3:F$2362,'USA Prestige by Season'!$A$3:$A$2362,$A14,'USA Prestige by Season'!$C$3:$C$2362,">="&$B$1,'USA Prestige by Season'!$C$3:$C$2362,"<="&$D$1) -> 0 | F14: =SUMIFS('USA Prestige by Season'!G$3:G$2362,'USA Prestige by Season'!$A$3:$A$2362,$A14,'USA Prestige by Season'!$C$3:$C$2362,">="&$B$1,'USA Prestige by Season'!$C$3:$C$2362,"<="&$D$1) -> 0 | G14: =SUMIFS('USA Prestige by Season'!H$3:H$2362,'USA Prestige by Season'!$A$3:$A$2362,$A14,'USA Prestige by Season'!$C$3:$C$2362,">="&$B$1,'USA Prestige by Season'!$C$3:$C$2362,"<="&$D$1) -> 1 | H14: =SUMIFS('USA Prestige by Season'!I$3:I$2362,'USA Prestige by Season'!$A$3:$A$2362,$A14,'USA Prestige by Season'!$C$3:$C$2362,">="&$B$1,'USA Prestige by Season'!$C$3:$C$2362,"<="&$D$1) -> 0 | I14: =SUMIFS('USA Prestige by Season'!J$3:J$2362,'USA Prestige by Season'!$A$3:$A$2362,$A14,'USA Prestige by Season'!$C$3:$C$2362,">="&$B$1,'USA Prestige by Season'!$C$3:$C$2362,"<="&$D$1) -> 0 | J14: =SUMIFS('USA Prestige by Season'!K$3:K$2362,'USA Prestige by Season'!$A$3:$A$2362,$A14,'USA Prestige by Season'!$C$3:$C$2362,">="&$B$1,'USA Prestige by Season'!$C$3:$C$2362,"<="&$D$1) -> 0 | ... AL14: =SUMIFS('USA Prestige by Season'!AM$3:AM$2362,'USA Prestige by Season'!$A$3:$A$2362,$A14,'USA Prestige by Season'!$C$3:$C$2362,">="&$B$1,'USA Prestige by Season'!$C$3:$C$2362,"<="&$D$1) -> 0 | AM14: =COUNTIFS('USA Prestige by Season'!$A$3:$A$2362,$A14,'USA Prestige by Season'!$C$3:$C$2362,">="&$B$1,'USA Prestige by Season'!$C$3:$C$2362,"<="&$D$1,'USA Prestige by Season'!$AN$3:$AN$2362,"<>") -> 2 | AN14: =SUMIFS('USA Prestige by Season'!$AO$3:$AO$2362,'USA Prestige by Season'!$A$3:$A$2362,$A14,'USA Prestige by Season'!$C$3:$C$2362,">="&$B$1,'USA Prestige by Season'!$C$3:$C$2362,"<="&$D$1) -> 0 | AO14: =IF(COUNTIFS('USA Prestige by Season'!$A$3:$A$2362,$A14,'USA Prestige by Season'!$C$3:$C$2362,">="&$B$1,'USA Prestige by Season'!$C$3:$C$2362,"<="&$D$1)>0,"Yes","No") -> Yes
A15: Astoria TC | C15: =SUMIFS('USA Prestige by Season'!D$3:D$2362,'USA Prestige by Season'!$A$3:$A$2362,$A15,'USA Prestige by Season'!$C$3:$C$2362,">="&$B$1,'USA Prestige by Season'!$C$3:$C$2362,"<="&$D$1) -> 2 | D15: =SUMIFS('USA Prestige by Season'!E$3:E$2362,'USA Prestige by Season'!$A$3:$A$2362,$A15,'USA Prestige by Season'!$C$3:$C$2362,">="&$B$1,'USA Prestige by Season'!$C$3:$C$2362,"<="&$D$1) -> 7 | E15: =SUMIFS('USA Prestige by Season'!F$3:F$2362,'USA Prestige by Season'!$A$3:$A$2362,$A15,'USA Prestige by Season'!$C$3:$C$2362,">="&$B$1,'USA Prestige by Season'!$C$3:$C$2362,"<="&$D$1) -> 7 | F15: =SUMIFS('USA Prestige by Season'!G$3:G$2362,'USA Prestige by Season'!$A$3:$A$2362,$A15,'USA Prestige by Season'!$C$3:$C$2362,">="&$B$1,'USA Prestige by Season'!$C$3:$C$2362,"<="&$D$1) -> 0 | G15: =SUMIFS('USA Prestige by Season'!H$3:H$2362,'USA Prestige by Season'!$A$3:$A$2362,$A15,'USA Prestige by Season'!$C$3:$C$2362,">="&$B$1,'USA Prestige by Season'!$C$3:$C$2362,"<="&$D$1) -> 0 | H15: =SUMIFS('USA Prestige by Season'!I$3:I$2362,'USA Prestige by Season'!$A$3:$A$2362,$A15,'USA Prestige by Season'!$C$3:$C$2362,">="&$B$1,'USA Prestige by Season'!$C$3:$C$2362,"<="&$D$1) -> 0 | I15: =SUMIFS('USA Prestige by Season'!J$3:J$2362,'USA Prestige by Season'!$A$3:$A$2362,$A15,'USA Prestige by Season'!$C$3:$C$2362,">="&$B$1,'USA Prestige by Season'!$C$3:$C$2362,"<="&$D$1) -> 0 | J15: =SUMIFS('USA Prestige by Season'!K$3:K$2362,'USA Prestige by Season'!$A$3:$A$2362,$A15,'USA Prestige by Season'!$C$3:$C$2362,">="&$B$1,'USA Prestige by Season'!$C$3:$C$2362,"<="&$D$1) -> 0 | ... AL15: =SUMIFS('USA Prestige by Season'!AM$3:AM$2362,'USA Prestige by Season'!$A$3:$A$2362,$A15,'USA Prestige by Season'!$C$3:$C$2362,">="&$B$1,'USA Prestige by Season'!$C$3:$C$2362,"<="&$D$1) -> 0 | AM15: =COUNTIFS('USA Prestige by Season'!$A$3:$A$2362,$A15,'USA Prestige by Season'!$C$3:$C$2362,">="&$B$1,'USA Prestige by Season'!$C$3:$C$2362,"<="&$D$1,'USA Prestige by Season'!$AN$3:$AN$2362,"<>") -> 7 | AN15: =SUMIFS('USA Prestige by Season'!$AO$3:$AO$2362,'USA Prestige by Season'!$A$3:$A$2362,$A15,'USA Prestige by Season'!$C$3:$C$2362,">="&$B$1,'USA Prestige by Season'!$C$3:$C$2362,"<="&$D$1) -> 0 | AO15: =IF(COUNTIFS('USA Prestige by Season'!$A$3:$A$2362,$A15,'USA Prestige by Season'!$C$3:$C$2362,">="&$B$1,'USA Prestige by Season'!$C$3:$C$2362,"<="&$D$1)>0,"Yes","No") -> Yes
A16: Athletics East TC | B16: 93217 | C16: =SUMIFS('USA Prestige by Season'!D$3:D$2362,'USA Prestige by Season'!$A$3:$A$2362,$A16,'USA Prestige by Season'!$C$3:$C$2362,">="&$B$1,'USA Prestige by Season'!$C$3:$C$2362,"<="&$D$1) -> 0 | D16: =SUMIFS('USA Prestige by Season'!E$3:E$2362,'USA Prestige by Season'!$A$3:$A$2362,$A16,'USA Prestige by Season'!$C$3:$C$2362,">="&$B$1,'USA Prestige by Season'!$C$3:$C$2362,"<="&$D$1) -> 0 | E16: =SUMIFS('USA Prestige by Season'!F$3:F$2362,'USA Prestige by Season'!$A$3:$A$2362,$A16,'USA Prestige by Season'!$C$3:$C$2362,">="&$B$1,'USA Prestige by Season'!$C$3:$C$2362,"<="&$D$1) -> 0 | F16: =SUMIFS('USA Prestige by Season'!G$3:G$2362,'USA Prestige by Season'!$A$3:$A$2362,$A16,'USA Prestige by Season'!$C$3:$C$2362,">="&$B$1,'USA Prestige by Season'!$C$3:$C$2362,"<="&$D$1) -> 3 | G16: =SUMIFS('USA Prestige by Season'!H$3:H$2362,'USA Prestige by Season'!$A$3:$A$2362,$A16,'USA Prestige by Season'!$C$3:$C$2362,">="&$B$1,'USA Prestige by Season'!$C$3:$C$2362,"<="&$D$1) -> 2 | H16: =SUMIFS('USA Prestige by Season'!I$3:I$2362,'USA Prestige by Season'!$A$3:$A$2362,$A16,'USA Prestige by Season'!$C$3:$C$2362,">="&$B$1,'USA Prestige by Season'!$C$3:$C$2362,"<="&$D$1) -> 2 | I16: =SUMIFS('USA Prestige by Season'!J$3:J$2362,'USA Prestige by Season'!$A$3:$A$2362,$A16,'USA Prestige by Season'!$C$3:$C$2362,">="&$B$1,'USA Prestige by Season'!$C$3:$C$2362,"<="&$D$1) -> 0 | J16: =SUMIFS('USA Prestige by Season'!K$3:K$2362,'USA Prestige by Season'!$A$3:$A$2362,$A16,'USA Prestige by Season'!$C$3:$C$2362,">="&$B$1,'USA Prestige by Season'!$C$3:$C$2362,"<="&$D$1) -> 0 | ... AL16: =SUMIFS('USA Prestige by Season'!AM$3:AM$2362,'USA Prestige by Season'!$A$3:$A$2362,$A16,'USA Prestige by Season'!$C$3:$C$2362,">="&$B$1,'USA Prestige by Season'!$C$3:$C$2362,"<="&$D$1) -> 0 | AM16: =COUNTIFS('USA Prestige by Season'!$A$3:$A$2362,$A16,'USA Prestige by Season'!$C$3:$C$2362,">="&$B$1,'USA Prestige by Season'!$C$3:$C$2362,"<="&$D$1,'USA Prestige by Season'!$AN$3:$AN$2362,"<>") -> 1 | AN16: =SUMIFS('USA Prestige by Season'!$AO$3:$AO$2362,'USA Prestige by Season'!$A$3:$A$2362,$A16,'USA Prestige by Season'!$C$3:$C$2362,">="&$B$1,'USA Prestige by Season'!$C$3:$C$2362,"<="&$D$1) -> 0 | AO16: =IF(COUNTIFS('USA Prestige by Season'!$A$3:$A$2362,$A16,'USA Prestige by Season'!$C$3:$C$2362,">="&$B$1,'USA Prestige by Season'!$C$3:$C$2362,"<="&$D$1)>0,"Yes","No") -> Yes
A17: Athletictick | C17: =SUMIFS('USA Prestige by Season'!D$3:D$2362,'USA Prestige by Season'!$A$3:$A$2362,$A17,'USA Prestige by Season'!$C$3:$C$2362,">="&$B$1,'USA Prestige by Season'!$C$3:$C$2362,"<="&$D$1) -> 0 | D17: =SUMIFS('USA Prestige by Season'!E$3:E$2362,'USA Prestige by Season'!$A$3:$A$2362,$A17,'USA Prestige by Season'!$C$3:$C$2362,">="&$B$1,'USA Prestige by Season'!$C$3:$C$2362,"<="&$D$1) -> 0 | E17: =SUMIFS('USA Prestige by Season'!F$3:F$2362,'USA Prestige by Season'!$A$3:$A$2362,$A17,'USA Prestige by Season'!$C$3:$C$2362,">="&$B$1,'USA Prestige by Season'!$C$3:$C$2362,"<="&$D$1) -> 0 | F17: =SUMIFS('USA Prestige by Season'!G$3:G$2362,'USA Prestige by Season'!$A$3:$A$2362,$A17,'USA Prestige by Season'!$C$3:$C$2362,">="&$B$1,'USA Prestige by Season'!$C$3:$C$2362,"<="&$D$1) -> 0 | G17: =SUMIFS('USA Prestige by Season'!H$3:H$2362,'USA Prestige by Season'!$A$3:$A$2362,$A17,'USA Prestige by Season'!$C$3:$C$2362,">="&$B$1,'USA Prestige by Season'!$C$3:$C$2362,"<="&$D$1) -> 2 | H17: =SUMIFS('USA Prestige by Season'!I$3:I$2362,'USA Prestige by Season'!$A$3:$A$2362,$A17,'USA Prestige by Season'!$C$3:$C$2362,">="&$B$1,'USA Prestige by Season'!$C$3:$C$2362,"<="&$D$1) -> 2 | I17: =SUMIFS('USA Prestige by Season'!J$3:J$2362,'USA Prestige by Season'!$A$3:$A$2362,$A17,'USA Prestige by Season'!$C$3:$C$2362,">="&$B$1,'USA Prestige by Season'!$C$3:$C$2362,"<="&$D$1) -> 0 | J17: =SUMIFS('USA Prestige by Season'!K$3:K$2362,'USA Prestige by Season'!$A$3:$A$2362,$A17,'USA Prestige by Season'!$C$3:$C$2362,">="&$B$1,'USA Prestige by Season'!$C$3:$C$2362,"<="&$D$1) -> 0 | ... AL17: =SUMIFS('USA Prestige by Season'!AM$3:AM$2362,'USA Prestige by Season'!$A$3:$A$2362,$A17,'USA Prestige by Season'!$C$3:$C$2362,">="&$B$1,'USA Prestige by Season'!$C$3:$C$2362,"<="&$D$1) -> 0 | AM17: =COUNTIFS('USA Prestige by Season'!$A$3:$A$2362,$A17,'USA Prestige by Season'!$C$3:$C$2362,">="&$B$1,'USA Prestige by Season'!$C$3:$C$2362,"<="&$D$1,'USA Prestige by Season'!$AN$3:$AN$2362,"<>") -> 4 | AN17: =SUMIFS('USA Prestige by Season'!$AO$3:$AO$2362,'USA Prestige by Season'!$A$3:$A$2362,$A17,'USA Prestige by Season'!$C$3:$C$2362,">="&$B$1,'USA Prestige by Season'!$C$3:$C$2362,"<="&$D$1) -> 0 | AO17: =IF(COUNTIFS('USA Prestige by Season'!$A$3:$A$2362,$A17,'USA Prestige by Season'!$C$3:$C$2362,">="&$B$1,'USA Prestige by Season'!$C$3:$C$2362,"<="&$D$1)>0,"Yes","No") -> Yes
A18: Atlanta Athletics Club | C18: =SUMIFS('USA Prestige by Season'!D$3:D$2362,'USA Prestige by Season'!$A$3:$A$2362,$A18,'USA Prestige by Season'!$C$3:$C$2362,">="&$B$1,'USA Prestige by Season'!$C$3:$C$2362,"<="&$D$1) -> 5 | D18: =SUMIFS('USA Prestige by Season'!E$3:E$2362,'USA Prestige by Season'!$A$3:$A$2362,$A18,'USA Prestige by Season'!$C$3:$C$2362,">="&$B$1,'USA Prestige by Season'!$C$3:$C$2362,"<="&$D$1) -> 3 | E18: =SUMIFS('USA Prestige by Season'!F$3:F$2362,'USA Prestige by Season'!$A$3:$A$2362,$A18,'USA Prestige by Season'!$C$3:$C$2362,">="&$B$1,'USA Prestige by Season'!$C$3:$C$2362,"<="&$D$1) -> 2 | F18: =SUMIFS('USA Prestige by Season'!G$3:G$2362,'USA Prestige by Season'!$A$3:$A$2362,$A18,'USA Prestige by Season'!$C$3:$C$2362,">="&$B$1,'USA Prestige by Season'!$C$3:$C$2362,"<="&$D$1) -> 0 | G18: =SUMIFS('USA Prestige by Season'!H$3:H$2362,'USA Prestige by Season'!$A$3:$A$2362,$A18,'USA Prestige by Season'!$C$3:$C$2362,">="&$B$1,'USA Prestige by Season'!$C$3:$C$2362,"<="&$D$1) -> 0 | H18: =SUMIFS('USA Prestige by Season'!I$3:I$2362,'USA Prestige by Season'!$A$3:$A$2362,$A18,'USA Prestige by Season'!$C$3:$C$2362,">="&$B$1,'USA Prestige by Season'!$C$3:$C$2362,"<="&$D$1) -> 0 | I18: =SUMIFS('USA Prestige by Season'!J$3:J$2362,'USA Prestige by Season'!$A$3:$A$2362,$A18,'USA Prestige by Season'!$C$3:$C$2362,">="&$B$1,'USA Prestige by Season'!$C$3:$C$2362,"<="&$D$1) -> 0 | J18: =SUMIFS('USA Prestige by Season'!K$3:K$2362,'USA Prestige by Season'!$A$3:$A$2362,$A18,'USA Prestige by Season'!$C$3:$C$2362,">="&$B$1,'USA Prestige by Season'!$C$3:$C$2362,"<="&$D$1) -> 0 | ... AL18: =SUMIFS('USA Prestige by Season'!AM$3:AM$2362,'USA Prestige by Season'!$A$3:$A$2362,$A18,'USA Prestige by Season'!$C$3:$C$2362,">="&$B$1,'USA Prestige by Season'!$C$3:$C$2362,"<="&$D$1) -> 0 | AM18: =COUNTIFS('USA Prestige by Season'!$A$3:$A$2362,$A18,'USA Prestige by Season'!$C$3:$C$2362,">="&$B$1,'USA Prestige by Season'!$C$3:$C$2362,"<="&$D$1,'USA Prestige by Season'!$AN$3:$AN$2362,"<>") -> 5 | AN18: =SUMIFS('USA Prestige by Season'!$AO$3:$AO$2362,'USA Prestige by Season'!$A$3:$A$2362,$A18,'USA Prestige by Season'!$C$3:$C$2362,">="&$B$1,'USA Prestige by Season'!$C$3:$C$2362,"<="&$D$1) -> 0 | AO18: =IF(COUNTIFS('USA Prestige by Season'!$A$3:$A$2362,$A18,'USA Prestige by Season'!$C$3:$C$2362,">="&$B$1,'USA Prestige by Season'!$C$3:$C$2362,"<="&$D$1)>0,"Yes","No") -> Yes
A19: Atomic Storm AC | C19: =SUMIFS('USA Prestige by Season'!D$3:D$2362,'USA Prestige by Season'!$A$3:$A$2362,$A19,'USA Prestige by Season'!$C$3:$C$2362,">="&$B$1,'USA Prestige by Season'!$C$3:$C$2362,"<="&$D$1) -> 0 | D19: =SUMIFS('USA Prestige by Season'!E$3:E$2362,'USA Prestige by Season'!$A$3:$A$2362,$A19,'USA Prestige by Season'!$C$3:$C$2362,">="&$B$1,'USA Prestige by Season'!$C$3:$C$2362,"<="&$D$1) -> 0 | E19: =SUMIFS('USA Prestige by Season'!F$3:F$2362,'USA Prestige by Season'!$A$3:$A$2362,$A19,'USA Prestige by Season'!$C$3:$C$2362,">="&$B$1,'USA Prestige by Season'!$C$3:$C$2362,"<="&$D$1) -> 1 | F19: =SUMIFS('USA Prestige by Season'!G$3:G$2362,'USA Prestige by Season'!$A$3:$A$2362,$A19,'USA Prestige by Season'!$C$3:$C$2362,">="&$B$1,'USA Prestige by Season'!$C$3:$C$2362,"<="&$D$1) -> 0 | G19: =SUMIFS('USA Prestige by Season'!H$3:H$2362,'USA Prestige by Season'!$A$3:$A$2362,$A19,'USA Prestige by Season'!$C$3:$C$2362,">="&$B$1,'USA Prestige by Season'!$C$3:$C$2362,"<="&$D$1) -> 0 | H19: =SUMIFS('USA Prestige by Season'!I$3:I$2362,'USA Prestige by Season'!$A$3:$A$2362,$A19,'USA Prestige by Season'!$C$3:$C$2362,">="&$B$1,'USA Prestige by Season'!$C$3:$C$2362,"<="&$D$1) -> 0 | I19: =SUMIFS('USA Prestige by Season'!J$3:J$2362,'USA Prestige by Season'!$A$3:$A$2362,$A19,'USA Prestige by Season'!$C$3:$C$2362,">="&$B$1,'USA Prestige by Season'!$C$3:$C$2362,"<="&$D$1) -> 0 | J19: =SUMIFS('USA Prestige by Season'!K$3:K$2362,'USA Prestige by Season'!$A$3:$A$2362,$A19,'USA Prestige by Season'!$C$3:$C$2362,">="&$B$1,'USA Prestige by Season'!$C$3:$C$2362,"<="&$D$1) -> 0 | ... AL19: =SUMIFS('USA Prestige by Season'!AM$3:AM$2362,'USA Prestige by Season'!$A$3:$A$2362,$A19,'USA Prestige by Season'!$C$3:$C$2362,">="&$B$1,'USA Prestige by Season'!$C$3:$C$2362,"<="&$D$1) -> 0 | AM19: =COUNTIFS('USA Prestige by Season'!$A$3:$A$2362,$A19,'USA Prestige by Season'!$C$3:$C$2362,">="&$B$1,'USA Prestige by Season'!$C$3:$C$2362,"<="&$D$1,'USA Prestige by Season'!$AN$3:$AN$2362,"<>") -> 1 | AN19: =SUMIFS('USA Prestige by Season'!$AO$3:$AO$2362,'USA Prestige by Season'!$A$3:$A$2362,$A19,'USA Prestige by Season'!$C$3:$C$2362,">="&$B$1,'USA Prestige by Season'!$C$3:$C$2362,"<="&$D$1) -> 0 | AO19: =IF(COUNTIFS('USA Prestige by Season'!$A$3:$A$2362,$A19,'USA Prestige by Season'!$C$3:$C$2362,">="&$B$1,'USA Prestige by Season'!$C$3:$C$2362,"<="&$D$1)>0,"Yes","No") -> Yes
