Workbook

Sheet USA Prestige by Season
A1: Club | B1: Club User ID | C1: Season | D1: USA INC Gold | E1: USA INC Silver | F1: USA INC Bronze | G1: Overseas INC Gold | H1: Overseas INC Silver | I1: Overseas INC Bronze | J1: Olympic Games Gold | K1: Olympic Games Silver | L1: Olympic Games Bronze | M1: World Champ's Gold | N1: World Champ's Silver | O1: World Champ's Bronze | P1: World Junior Champ's Gold | Q1: World Junior Champ's Silver | R1: World Junior Champ's Bronze | S1: World U21 Champ's Gold | T1: World U21 Champ's Silver | U1: World U21 Champ's Bronze | V1: World Masters Champ's Gold | W1: World Masters Champ's Silver | X1: World Masters Champ's Bronze | Y1: Continental Champ's Gold | Z1: Continental Champ's Silver | AA1: Continental Champ's Bronze | AB1: Continental Junior Champ's Gold | AC1: Continental Junior Champ's Silver | AD1: Continental Junior Champ's Bronze | AE1: Continental U21 Champ's Gold | AF1: Continental U21 Champ's Silver | AG1: Continental U21 Champ's Bronze | AH1: Continental Masters Champ's Gold | AI1: Continental Masters Champ's Silver | AJ1: Continental Masters Champ's Bronze | AK1: Champions Cup Gold | AL1: Champions Cup Silver | AM1: Champions Cup Bronze | AN1: Champions Cup Position | AO1: Champions Cup Points
A3: _StarTrackers Athletic Cl... | C3: 23 | D3: 0 | E3: 0 | F3: 1 | G3: 0 | H3: 0 | I3: 0 | J3: 0 | K3: 0 | L3: 0 | M3: 0 | N3: 0 | O3: 0 | P3: 0 | Q3: 0 | R3: 0 | S3: 0 | T3: 0 | U3: 0 | V3: 0 | W3: 0 | X3: 0 | Y3: 0 | Z3: 0 | AA3: 0 | AB3: 0 | AC3: 0 | AD3: 0 | AE3: 0 | AF3: 0 | AG3: 0 | AH3: 0 | AI3: 0 | AJ3: 0 | AK3: 0 | AL3: 0 | AM3: 0
A4: _StarTrackers Athletic Cl... | C4: 24 | D4: 1 | E4: 0 | F4: 1 | G4: 0 | H4: 0 | I4: 0 | J4: 0 | K4: 0 | L4: 0 | M4: 0 | N4: 0 | O4: 0 | P4: 0 | Q4: 0 | R4: 0 | S4: 0 | T4: 0 | U4: 0 | V4: 0 | W4: 0 | X4: 0 | Y4: 0 | Z4: 0 | AA4: 0 | AB4: 0 | AC4: 0 | AD4: 0 | AE4: 0 | AF4: 0 | AG4: 0 | AH4: 0 | AI4: 0 | AJ4: 0 | AK4: 0 | AL4: 0 | AM4: 0
A5: _StarTrackers Athletic Cl... | C5: 26 | D5: 0 | E5: 1 | F5: 1 | G5: 1 | H5: 0 | I5: 0 | J5: 0 | K5: 0 | L5: 0 | M5: 0 | N5: 0 | O5: 0 | P5: 0 | Q5: 0 | R5: 0 | S5: 0 | T5: 0 | U5: 0 | V5: 0 | W5: 0 | X5: 0 | Y5: 0 | Z5: 0 | AA5: 0 | AB5: 0 | AC5: 0 | AD5: 0 | AE5: 0 | AF5: 0 | AG5: 0 | AH5: 0 | AI5: 0 | AJ5: 0 | AK5: 0 | AL5: 0 | AM5: 0
A6: _StarTrackers Athletic Cl... | C6: 27 | D6: 0 | E6: 0 | F6: 1 | G6: 0 | H6: 0 | I6: 0 | J6: 0 | K6: 0 | L6: 0 | M6: 0 | N6: 0 | O6: 0 | P6: 0 | Q6: 0 | R6: 0 | S6: 0 | T6: 0 | U6: 0 | V6: 0 | W6: 0 | X6: 0 | Y6: 0 | Z6: 0 | AA6: 0 | AB6: 0 | AC6: 2 | AD6: 0 | AE6: 0 | AF6: 0 | AG6: 0 | AH6: 0 | AI6: 0 | AJ6: 0 | AK6: 0 | AL6: 0 | AM6: 0
A7: _StarTrackers Athletic Cl... | C7: 28 | D7: 1 | E7: 0 | F7: 3 | G7: 1 | H7: 0 | I7: 0 | J7: 0 | K7: 0 | L7: 0 | M7: 0 | N7: 0 | O7: 0 | P7: 0 | Q7: 0 | R7: 0 | S7: 0 | T7: 0 | U7: 0 | V7: 0 | W7: 0 | X7: 0 | Y7: 0 | Z7: 0 | AA7: 0 | AB7: 0 | AC7: 0 | AD7: 0 | AE7: 0 | AF7: 0 | AG7: 0 | AH7: 0 | AI7: 0 | AJ7: 0 | AK7: 0 | AL7: 0 | AM7: 0
A8: _StarTrackers Athletic Cl... | C8: 29 | D8: 1 | E8: 1 | F8: 0 | G8: 1 | H8: 0 | I8: 0 | J8: 0 | K8: 0 | L8: 0 | M8: 0 | N8: 0 | O8: 0 | P8: 0 | Q8: 0 | R8: 0 | S8: 0 | T8: 0 | U8: 0 | V8: 0 | W8: 0 | X8: 0 | Y8: 0 | Z8: 0 | AA8: 0 | AB8: 0 | AC8: 0 | AD8: 0 | AE8: 0 | AF8: 0 | AG8: 0 | AH8: 0 | AI8: 0 | AJ8: 0 | AK8: 0 | AL8: 0 | AM8: 0
A9: _StarTrackers Athletic Cl... | C9: 30 | D9: 0 | E9: 1 | F9: 1 | G9: 0 | H9: 0 | I9: 0 | J9: 0 | K9: 0 | L9: 0 | M9: 0 | N9: 0 | O9: 0 | P9: 0 | Q9: 0 | R9: 0 | S9: 0 | T9: 0 | U9: 0 | V9: 0 | W9: 0 | X9: 0 | Y9: 0 | Z9: 0 | AA9: 0 | AB9: 0 | AC9: 0 | AD9: 0 | AE9: 0 | AF9: 0 | AG9: 0 | AH9: 0 | AI9: 0 | AJ9: 0 | AK9: 0 | AL9: 0 | AM9: 0
A10: _StarTrackers Athletic Cl... | C10: 32 | D10: 1 | E10: 1 | F10: 4 | G10: 0 | H10: 0 | I10: 0 | J10: 0 | K10: 0 | L10: 0 | M10: 0 | N10: 0 | O10: 0 | P10: 0 | Q10: 0 | R10: 0 | S10: 0 | T10: 0 | U10: 0 | V10: 0 | W10: 0 | X10: 0 | Y10: 0 | Z10: 0 | AA10: 0 | AB10: 0 | AC10: 0 | AD10: 0 | AE10: 0 | AF10: 0 | AG10: 0 | AH10: 0 | AI10: 0 | AJ10: 0 | AK10: 0 | AL10: 0 | AM10: 0
A11: _StarTrackers Athletic Cl... | C11: 33 | D11: 0 | E11: 0 | F11: 2 | G11: 0 | H11: 0 | I11: 0 | J11: 0 | K11: 0 | L11: 0 | M11: 0 | N11: 0 | O11: 0 | P11: 0 | Q11: 0 | R11: 0 | S11: 0 | T11: 0 | U11: 0 | V11: 0 | W11: 0 | X11: 0 | Y11: 0 | Z11: 0 | AA11: 0 | AB11: 0 | AC11: 1 | AD11: 0 | AE11: 0 | AF11: 0 | AG11: 0 | AH11: 1 | AI11: 0 | AJ11: 0 | AK11: 0 | AL11: 0 | AM11: 0
A12: _StarTrackers Athletic Cl... | C12: 34 | D12: 0 | E12: 1 | F12: 2 | G12: 0 | H12: 0 | I12: 1 | J12: 0 | K12: 0 | L12: 0 | M12: 0 | N12: 0 | O12: 0 | P12: 0 | Q12: 0 | R12: 0 | S12: 0 | T12: 0 | U12: 0 | V12: 0 | W12: 0 | X12: 0 | Y12: 0 | Z12: 0 | AA12: 0 | AB12: 0 | AC12: 0 | AD12: 0 | AE12: 0 | AF12: 0 | AG12: 0 | AH12: 0 | AI12: 0 | AJ12: 0 | AK12: 0 | AL12: 0 | AM12: 0
A13: 400 Masters | C13: 13 | D13: 1 | E13: 0 | F13: 1 | G13: 0 | H13: 0 | I13: 0 | J13: 0 | K13: 0 | L13: 0 | M13: 0 | N13: 0 | O13: 0 | P13: 0 | Q13: 0 | R13: 0 | S13: 0 | T13: 0 | U13: 0 | V13: 0 | W13: 0 | X13: 0 | Y13: 0 | Z13: 0 | AA13: 0 | AB13: 0 | AC13: 0 | AD13: 0 | AE13: 0 | AF13: 0 | AG13: 0 | AH13: 0 | AI13: 0 | AJ13: 0 | AK13: 0 | AL13: 0 | AM13: 0
A14: 400 Masters | C14: 14 | D14: 0 | E14: 0 | F14: 2 | G14: 0 | H14: 0 | I14: 0 | J14: 0 | K14: 0 | L14: 0 | M14: 0 | N14: 0 | O14: 0 | P14: 0 | Q14: 0 | R14: 0 | S14: 0 | T14: 0 | U14: 0 | V14: 0 | W14: 0 | X14: 0 | Y14: 0 | Z14: 0 | AA14: 0 | AB14: 0 | AC14: 0 | AD14: 0 | AE14: 0 | AF14: 0 | AG14: 0 | AH14: 0 | AI14: 0 | AJ14: 0 | AK14: 0 | AL14: 0 | AM14: 0
... A26: Aero | C26: 29 | D26: 0 | E26: 0 | F26: 0 | G26: 0 | H26: 0 | I26: 0 | J26: 0 | K26: 0 | L26: 0 | M26: 0 | N26: 0 | O26: 0 | P26: 0 | Q26: 0 | R26: 0 | S26: 0 | T26: 0 | U26: 0 | V26: 0 | W26: 0 | X26: 0 | Y26: 0 | Z26: 0 | AA26: 0 | AB26: 0 | AC26: 0 | AD26: 1 | AE26: 0 | AF26: 0 | AG26: 0 | AH26: 0 | AI26: 0 | AJ26: 0 | AK26: 0 | AL26: 0 | AM26: 0
A27: Akitas | B27: 14870 | C27: 13 | D27: 1 | E27: 2 | F27: 5 | G27: 0 | H27: 0 | I27: 0 | J27: 0 | K27: 0 | L27: 0 | M27: 0 | N27: 0 | O27: 0 | P27: 0 | Q27: 0 | R27: 0 | S27: 0 | T27: 0 | U27: 0 | V27: 0 | W27: 0 | X27: 0 | Y27: 0 | Z27: 0 | AA27: 0 | AB27: 0 | AC27: 0 | AD27: 0 | AE27: 0 | AF27: 0 | AG27: 0 | AH27: 0 | AI27: 0 | AJ27: 0 | AK27: 0 | AL27: 0 | AM27: 0
A28: Akitas | B28: 14870 | C28: 14 | D28: 1 | E28: 2 | F28: 1 | G28: 0 | H28: 0 | I28: 0 | J28: 0 | K28: 0 | L28: 0 | M28: 0 | N28: 0 | O28: 0 | P28: 0 | Q28: 0 | R28: 0 | S28: 0 | T28: 0 | U28: 0 | V28: 0 | W28: 0 | X28: 0 | Y28: 0 | Z28: 0 | AA28: 0 | AB28: 0 | AC28: 0 | AD28: 0 | AE28: 0 | AF28: 0 | AG28: 0 | AH28: 0 | AI28: 0 | AJ28: 0 | AK28: 0 | AL28: 0 | AM28: 0
A29: Akitas | B29: 14870 | C29: 15 | D29: 2 | E29: 4 | F29: 5 | G29: 0 | H29: 0 | I29: 0 | J29: 0 | K29: 0 | L29: 0 | M29: 0 | N29: 0 | O29: 0 | P29: 0 | Q29: 0 | R29: 0 | S29: 0 | T29: 0 | U29: 0 | V29: 0 | W29: 0 | X29: 0 | Y29: 0 | Z29: 0 | AA29: 0 | AB29: 0 | AC29: 0 | AD29: 0 | AE29: 0 | AF29: 0 | AG29: 0 | AH29: 0 | AI29: 0 | AJ29: 0 | AK29: 0 | AL29: 0 | AM29: 0
A30: Akitas | B30: 14870 | C30: 16 | D30: 1 | E30: 2 | F30: 6 | G30: 0 | H30: 0 | I30: 0 | J30: 0 | K30: 0 | L30: 0 | M30: 0 | N30: 0 | O30: 0 | P30: 0 | Q30: 0 | R30: 0 | S30: 0 | T30: 0 | U30: 0 | V30: 0 | W30: 0 | X30: 0 | Y30: 0 | Z30: 0 | AA30: 0 | AB30: 0 | AC30: 0 | AD30: 0 | AE30: 0 | AF30: 0 | AG30: 0 | AH30: 0 | AI30: 0 | AJ30: 0 | AK30: 0 | AL30: 0 | AM30: 0
A31: Akitas | B31: 14870 | C31: 17 | D31: 1 | E31: 2 | F31: 2 | G31: 0 | H31: 0 | I31: 0 | J31: 0 | K31: 0 | L31: 0 | M31: 0 | N31: 0 | O31: 0 | P31: 0 | Q31: 0 | R31: 0 | S31: 0 | T31: 0 | U31: 0 | V31: 0 | W31: 0 | X31: 0 | Y31: 0 | Z31: 0 | AA31: 0 | AB31: 0 | AC31: 0 | AD31: 0 | AE31: 0 | AF31: 0 | AG31: 0 | AH31: 0 | AI31: 0 | AJ31: 0 | AK31: 0 | AL31: 0 | AM31: 0
A32: Akitas | B32: 14870 | C32: 18 | D32: 2 | E32: 5 | F32: 6 | G32: 0 | H32: 0 | I32: 0 | J32: 0 | K32: 0 | L32: 0 | M32: 0 | N32: 0 | O32: 0 | P32: 0 | Q32: 0 | R32: 0 | S32: 0 | T32: 0 | U32: 0 | V32: 0 | W32: 0 | X32: 0 | Y32: 0 | Z32: 0 | AA32: 0 | AB32: 0 | AC32: 0 | AD32: 0 | AE32: 0 | AF32: 0 | AG32: 0 | AH32: 0 | AI32: 0 | AJ32: 0 | AK32: 0 | AL32: 0 | AM32: 0
A33: Akitas | B33: 14870 | C33: 19 | D33: 1 | E33: 4 | F33: 2 | G33: 0 | H33: 0 | I33: 0 | J33: 0 | K33: 0 | L33: 0 | M33: 0 | N33: 0 | O33: 0 | P33: 0 | Q33: 0 | R33: 0 | S33: 0 | T33: 0 | U33: 0 | V33: 0 | W33: 0 | X33: 0 | Y33: 0 | Z33: 0 | AA33: 0 | AB33: 0 | AC33: 0 | AD33: 0 | AE33: 0 | AF33: 0 | AG33: 0 | AH33: 0 | AI33: 0 | AJ33: 0 | AK33: 0 | AL33: 0 | AM33: 0
A34: Akitas | B34: 14870 | C34: 20 | D34: 3 | E34: 3 | F34: 3 | G34: 0 | H34: 0 | I34: 0 | J34: 0 | K34: 0 | L34: 0 | M34: 0 | N34: 0 | O34: 0 | P34: 0 | Q34: 0 | R34: 0 | S34: 0 | T34: 0 | U34: 0 | V34: 0 | W34: 0 | X34: 0 | Y34: 0 | Z34: 0 | AA34: 0 | AB34: 0 | AC34: 0 | AD34: 0 | AE34: 0 | AF34: 0 | AG34: 0 | AH34: 0 | AI34: 0 | AJ34: 0 | AK34: 0 | AL34: 0 | AM34: 0
A35: Akitas | B35: 14870 | C35: 21 | D35: 4 | E35: 0 | F35: 3 | G35: 0 | H35: 0 | I35: 0 | J35: 0 | K35: 0 | L35: 0 | M35: 0 | N35: 0 | O35: 0 | P35: 0 | Q35: 0 | R35: 0 | S35: 0 | T35: 0 | U35: 0 | V35: 0 | W35: 0 | X35: 0 | Y35: 0 | Z35: 0 | AA35: 0 | AB35: 0 | AC35: 0 | AD35: 0 | AE35: 0 | AF35: 0 | AG35: 0 | AH35: 0 | AI35: 0 | AJ35: 0 | AK35: 0 | AL35: 0 | AM35: 0
A36: Akitas | B36: 14870 | C36: 22 | D36: 4 | E36: 3 | F36: 2 | G36: 0 | H36: 0 | I36: 0 | J36: 0 | K36: 0 | L36: 0 | M36: 0 | N36: 0 | O36: 0 | P36: 0 | Q36: 0 | R36: 0 | S36: 0 | T36: 0 | U36: 0 | V36: 0 | W36: 0 | X36: 0 | Y36: 0 | Z36: 0 | AA36: 0 | AB36: 0 | AC36: 0 | AD36: 0 | AE36: 0 | AF36: 0 | AG36: 0 | AH36: 0 | AI36: 0 | AJ36: 0 | AK36: 0 | AL36: 0 | AM36: 0
A37: Akitas | B37: 14870 | C37: 23 | D37: 4 | E37: 2 | F37: 4 | G37: 0 | H37: 0 | I37: 0 | J37: 0 | K37: 0 | L37: 0 | M37: 0 | N37: 0 | O37: 0 | P37: 0 | Q37: 0 | R37: 0 | S37: 0 | T37: 0 | U37: 0 | V37: 0 | W37: 0 | X37: 0 | Y37: 0 | Z37: 0 | AA37: 0 | AB37: 0 | AC37: 0 | AD37: 0 | AE37: 0 | AF37: 0 | AG37: 0 | AH37: 0 | AI37: 0 | AJ37: 0 | AK37: 0 | AL37: 0 | AM37: 0
A38: Akitas | B38: 14870 | C38: 24 | D38: 4 | E38: 5 | F38: 2 | G38: 0 | H38: 0 | I38: 0 | J38: 0 | K38: 0 | L38: 0 | M38: 0 | N38: 0 | O38: 0 | P38: 0 | Q38: 0 | R38: 0 | S38: 0 | T38: 0 | U38: 0 | V38: 0 | W38: 0 | X38: 0 | Y38: 0 | Z38: 0 | AA38: 1 | AB38: 0 | AC38: 0 | AD38: 0 | AE38: 0 | AF38: 0 | AG38: 0 | AH38: 0 | AI38: 0 | AJ38: 0 | AK38: 0 | AL38: 0 | AM38: 0
... A121: Akitas | B121: 14870 | C121: 107 | D121: 2 | E121: 0 | F121: 1 | G121: 0 | H121: 0 | I121: 0 | J121: 0 | K121: 0 | L121: 0 | M121: 0 | N121: 0 | O121: 0 | P121: 0 | Q121: 0 | R121: 0 | S121: 0 | T121: 0 | U121: 0 | V121: 0 | W121: 0 | X121: 0 | Y121: 0 | Z121: 0 | AA121: 0 | AB121: 0 | AC121: 0 | AD121: 0 | AE121: 0 | AF121: 1 | AG121: 0 | AH121: 2 | AI121: 2 | AJ121: 0 | AK121: 0 | AL121: 0 | AM121: 0
A122: Alaska Track & Field | C122: 76 | D122: 0 | E122: 0 | F122: 1 | G122: 0 | H122: 0 | I122: 2 | J122: 0 | K122: 0 | L122: 0 | M122: 0 | N122: 0 | O122: 0 | P122: 0 | Q122: 0 | R122: 0 | S122: 0 | T122: 0 | U122: 0 | V122: 0 | W122: 0 | X122: 0 | Y122: 0 | Z122: 0 | AA122: 0 | AB122: 0 | AC122: 0 | AD122: 0 | AE122: 0 | AF122: 0 | AG122: 0 | AH122: 0 | AI122: 0 | AJ122: 0 | AK122: 0 | AL122: 0 | AM122: 0
A123: Alletichs | C123: 16 | D123: 0 | E123: 1 | F123: 0 | G123: 0 | H123: 2 | I123: 1 | J123: 0 | K123: 0 | L123: 0 | M123: 0 | N123: 0 | O123: 0 | P123: 0 | Q123: 0 | R123: 0 | S123: 0 | T123: 0 | U123: 0 | V123: 0 | W123: 0 | X123: 0 | Y123: 0 | Z123: 0 | AA123: 0 | AB123: 0 | AC123: 0 | AD123: 0 | AE123: 0 | AF123: 0 | AG123: 0 | AH123: 0 | AI123: 0 | AJ123: 0 | AK123: 0 | AL123: 0 | AM123: 0
A124: Alletichs | C124: 17 | D124: 0 | E124: 1 | F124: 0 | G124: 2 | H124: 1 | I124: 0 | J124: 0 | K124: 0 | L124: 0 | M124: 0 | N124: 0 | O124: 0 | P124: 0 | Q124: 0 | R124: 0 | S124: 0 | T124: 0 | U124: 0 | V124: 0 | W124: 0 | X124: 0 | Y124: 0 | Z124: 0 | AA124: 0 | AB124: 0 | AC124: 0 | AD124: 0 | AE124: 0 | AF124: 0 | AG124: 0 | AH124: 0 | AI124: 0 | AJ124: 0 | AK124: 0 | AL124: 0 | AM124: 0
A125: America camp | C125: 22 | D125: 0 | E125: 1 | F125: 0 | G125: 0 | H125: 0 | I125: 0 | J125: 0 | K125: 0 | L125: 0 | M125: 0 | N125: 0 | O125: 0 | P125: 0 | Q125: 0 | R125: 0 | S125: 0 | T125: 0 | U125: 0 | V125: 0 | W125: 0 | X125: 0 | Y125: 0 | Z125: 0 | AA125: 0 | AB125: 0 | AC125: 0 | AD125: 0 | AE125: 0 | AF125: 0 | AG125: 0 | AH125: 0 | AI125: 0 | AJ125: 0 | AK125: 0 | AL125: 0 | AM125: 0
A126: Apocalypse Track Club | C126: 33 | D126: 0 | E126: 0 | F126: 0 | G126: 0 | H126: 1 | I126: 0 | J126: 0 | K126: 0 | L126: 0 | M126: 0 | N126: 0 | O126: 0 | P126: 0 | Q126: 0 | R126: 0 | S126: 0 | T126: 0 | U126: 0 | V126: 0 | W126: 0 | X126: 0 | Y126: 0 | Z126: 0 | AA126: 0 | AB126: 0 | AC126: 0 | AD126: 0 | AE126: 0 | AF126: 0 | AG126: 0 | AH126: 0 | AI126: 0 | AJ126: 0 | AK126: 0 | AL126: 0 | AM126: 0
A127: Arizona Wildcats | C127: 77 | D127: 0 | E127: 0 | F127: 0 | G127: 0 | H127: 0 | I127: 0 | J127: 0 | K127: 0 | L127: 0 | M127: 0 | N127: 0 | O127: 0 | P127: 0 | Q127: 0 | R127: 0 | S127: 0 | T127: 0 | U127: 0 | V127: 0 | W127: 0 | X127: 0 | Y127: 0 | Z127: 0 | AA127: 0 | AB127: 0 | AC127: 1 | AD127: 0 | AE127: 0 | AF127: 0 | AG127: 0 | AH127: 0 | AI127: 0 | AJ127: 0 | AK127: 0 | AL127: 0 | AM127: 0
A128: Arizona Wildcats | C128: 79 | D128: 0 | E128: 0 | F128: 0 | G128: 0 | H128: 0 | I128: 0 | J128: 0 | K128: 0 | L128: 0 | M128: 0 | N128: 0 | O128: 0 | P128: 0 | Q128: 0 | R128: 0 | S128: 0 | T128: 0 | U128: 0 | V128: 0 | W128: 0 | X128: 0 | Y128: 0 | Z128: 0 | AA128: 0 | AB128: 1 | AC128: 1 | AD128: 0 | AE128: 0 | AF128: 1 | AG128: 1 | AH128: 0 | AI128: 0 | AJ128: 0 | AK128: 0 | AL128: 0 | AM128: 0
A129: Arizona Wildcats | C129: 80 | D129: 0 | E129: 0 | F129: 0 | G129: 0 | H129: 0 | I129: 1 | J129: 0 | K129: 0 | L129: 0 | M129: 0 | N129: 0 | O129: 0 | P129: 0 | Q129: 0 | R129: 0 | S129: 0 | T129: 0 | U129: 0 | V129: 0 | W129: 0 | X129: 0 | Y129: 0 | Z129: 0 | AA129: 0 | AB129: 0 | AC129: 0 | AD129: 0 | AE129: 0 | AF129: 0 | AG129: 0 | AH129: 0 | AI129: 0 | AJ129: 0 | AK129: 0 | AL129: 0 | AM129: 0
A130: Arizona Wildcats | C130: 81 | D130: 1 | E130: 0 | F130: 0 | G130: 0 | H130: 1 | I130: 2 | J130: 0 | K130: 0 | L130: 0 | M130: 0 | N130: 0 | O130: 0 | P130: 0 | Q130: 0 | R130: 0 | S130: 0 | T130: 0 | U130: 0 | V130: 0 | W130: 0 | X130: 0 | Y130: 0 | Z130: 0 | AA130: 0 | AB130: 0 | AC130: 0 | AD130: 0 | AE130: 0 | AF130: 0 | AG130: 0 | AH130: 0 | AI130: 0 | AJ130: 0 | AK130: 0 | AL130: 0 | AM130: 0
A131: Ascension Athletic Club | C131: 41 | D131: 0 | E131: 0 | F131: 0 | G131: 0 | H131: 0 | I131: 0 | J131: 0 | K131: 0 | L131: 0 | M131: 0 | N131: 0 | O131: 0 | P131: 0 | Q131: 0 | R131: 0 | S131: 0 | T131: 0 | U131: 0 | V131: 0 | W131: 0 | X131: 0 | Y131: 0 | Z131: 0 | AA131: 0 | AB131: 2 | AC131: 0 | AD131: 2 | AE131: 0 | AF131: 0 | AG131: 0 | AH131: 0 | AI131: 0 | AJ131: 0 | AK131: 0 | AL131: 0 | AM131: 0
A132: Ascension Athletic Club | C132: 42 | D132: 0 | E132: 0 | F132: 0 | G132: 0 | H132: 1 | I132: 0 | J132: 0 | K132: 0 | L132: 0 | M132: 0 | N132: 0 | O132: 0 | P132: 0 | Q132: 0 | R132: 0 | S132: 0 | T132: 0 | U132: 0 | V132: 0 | W132: 0 | X132: 0 | Y132: 0 | Z132: 0 | AA132: 0 | AB132: 0 | AC132: 0 | AD132: 0 | AE132: 0 | AF132: 0 | AG132: 0 | AH132: 0 | AI132: 0 | AJ132: 0 | AK132: 0 | AL132: 0 | AM132: 0
A133: Astoria TC | C133: 19 | D133: 0 | E133: 0 | F133: 1 | G133: 0 | H133: 0 | I133: 0 | J133: 0 | K133: 0 | L133: 0 | M133: 0 | N133: 0 | O133: 0 | P133: 0 | Q133: 0 | R133: 0 | S133: 0 | T133: 0 | U133: 0 | V133: 0 | W133: 0 | X133: 0 | Y133: 0 | Z133: 0 | AA133: 0 | AB133: 0 | AC133: 0 | AD133: 0 | AE133: 0 | AF133: 0 | AG133: 0 | AH133: 0 | AI133: 0 | AJ133: 0 | AK133: 0 | AL133: 0 | AM133: 0
... A139: Astoria TC | C139: 28 | D139: 1 | E139: 1 | F139: 0 | G139: 0 | H139: 0 | I139: 0 | J139: 0 | K139: 0 | L139: 0 | M139: 0 | N139: 0 | O139: 0 | P139: 0 | Q139: 0 | R139: 0 | S139: 0 | T139: 0 | U139: 0 | V139: 0 | W139: 0 | X139: 0 | Y139: 0 | Z139: 0 | AA139: 0 | AB139: 0 | AC139: 0 | AD139: 0 | AE139: 0 | AF139: 0 | AG139: 0 | AH139: 0 | AI139: 0 | AJ139: 0 | AK139: 0 | AL139: 0 | AM139: 0
A140: Athletics East TC | B140: 93217 | C140: 101 | D140: 0 | E140: 0 | F140: 0 | G140: 3 | H140: 2 | I140: 2 | J140: 0 | K140: 0 | L140: 0 | M140: 0 | N140: 0 | O140: 0 | P140: 0 | Q140: 0 | R140: 0 | S140: 0 | T140: 0 | U140: 0 | V140: 0 | W140: 0 | X140: 0 | Y140: 0 | Z140: 0 | AA140: 0 | AB140: 0 | AC140: 0 | AD140: 0 | AE140: 0 | AF140: 0 | AG140: 0 | AH140: 0 | AI140: 0 | AJ140: 0 | AK140: 0 | AL140: 0 | AM140: 0
A141: Athletictick | C141: 32 | D141: 0 | E141: 0 | F141: 0 | G141: 0 | H141: 0 | I141: 1 | J141: 0 | K141: 0 | L141: 0 | M141: 0 | N141: 0 | O141: 0 | P141: 0 | Q141: 0 | R141: 0 | S141: 0 | T141: 0 | U141: 0 | V141: 0 | W141: 0 | X141: 0 | Y141: 0 | Z141: 0 | AA141: 0 | AB141: 0 | AC141: 0 | AD141: 0 | AE141: 0 | AF141: 0 | AG141: 0 | AH141: 0 | AI141: 0 | AJ141: 0 | AK141: 0 | AL141: 0 | AM141: 0
A142: Athletictick | C142: 33 | D142: 0 | E142: 0 | F142: 0 | G142: 0 | H142: 0 | I142: 1 | J142: 0 | K142: 0 | L142: 0 | M142: 0 | N142: 0 | O142: 0 | P142: 0 | Q142: 0 | R142: 0 | S142: 0 | T142: 0 | U142: 0 | V142: 0 | W142: 0 | X142: 0 | Y142: 0 | Z142: 0 | AA142: 0 | AB142: 0 | AC142: 0 | AD142: 0 | AE142: 0 | AF142: 0 | AG142: 0 | AH142: 0 | AI142: 0 | AJ142: 0 | AK142: 0 | AL142: 0 | AM142: 0
A143: Athletictick | C143: 34 | D143: 0 | E143: 0 | F143: 0 | G143: 0 | H143: 1 | I143: 0 | J143: 0 | K143: 0 | L143: 0 | M143: 0 | N143: 0 | O143: 0 | P143: 0 | Q143: 0 | R143: 0 | S143: 0 | T143: 0 | U143: 0 | V143: 0 | W143: 0 | X143: 0 | Y143: 0 | Z143: 0 | AA143: 0 | AB143: 0 | AC143: 0 | AD143: 0 | AE143: 0 | AF143: 0 | AG143: 0 | AH143: 0 | AI143: 0 | AJ143: 0 | AK143: 0 | AL143: 0 | AM143: 0
A144: Athletictick | C144: 35 | D144: 0 | E144: 0 | F144: 0 | G144: 0 | H144: 1 | I144: 0 | J144: 0 | K144: 0 | L144: 0 | M144: 0 | N144: 0 | O144: 0 | P144: 0 | Q144: 0 | R144: 0 | S144: 0 | T144: 0 | U144: 0 | V144: 0 | W144: 0 | X144: 0 | Y144: 0 | Z144: 0 | AA144: 0 | AB144: 0 | AC144: 0 | AD144: 0 | AE144: 0 | AF144: 0 | AG144: 0 | AH144: 0 | AI144: 0 | AJ144: 0 | AK144: 0 | AL144: 0 | AM144: 0
A145: Atlanta Athletics Club | C145: 15 | D145: 1 | E145: 0 | F145: 0 | G145: 0 | H145: 0 | I145: 0 | J145: 0 | K145: 0 | L145: 0 | M145: 0 | N145: 0 | O145: 0 | P145: 0 | Q145: 0 | R145: 0 | S145: 0 | T145: 0 | U145: 0 | V145: 0 | W145: 0 | X145: 0 | Y145: 0 | Z145: 0 | AA145: 0 | AB145: 0 | AC145: 0 | AD145: 0 | AE145: 0 | AF145: 0 | AG145: 0 | AH145: 0 | AI145: 0 | AJ145: 0 | AK145: 0 | AL145: 0 | AM145: 0
A146: Atlanta Athletics Club | C146: 16 | D146: 0 | E146: 1 | F146: 1 | G146: 0 | H146: 0 | I146: 0 | J146: 0 | K146: 0 | L146: 0 | M146: 0 | N146: 0 | O146: 0 | P146: 0 | Q146: 1 | R146: 0 | S146: 0 | T146: 0 | U146: 0 | V146: 0 | W146: 0 | X146: 0 | Y146: 0 | Z146: 0 | AA146: 0 | AB146: 0 | AC146: 0 | AD146: 0 | AE146: 0 | AF146: 0 | AG146: 0 | AH146: 0 | AI146: 0 | AJ146: 0 | AK146: 0 | AL146: 0 | AM146: 0
A147: Atlanta Athletics Club | C147: 17 | D147: 2 | E147: 0 | F147: 0 | G147: 0 | H147: 0 | I147: 0 | J147: 0 | K147: 0 | L147: 0 | M147: 0 | N147: 0 | O147: 0 | P147: 0 | Q147: 0 | R147: 0 | S147: 0 | T147: 0 | U147: 0 | V147: 0 | W147: 0 | X147: 0 | Y147: 0 | Z147: 0 | AA147: 0 | AB147: 0 | AC147: 0 | AD147: 0 | AE147: 0 | AF147: 0 | AG147: 0 | AH147: 0 | AI147: 0 | AJ147: 0 | AK147: 0 | AL147: 0 | AM147: 0
A148: Atlanta Athletics Club | C148: 18 | D148: 1 | E148: 2 | F148: 1 | G148: 0 | H148: 0 | I148: 0 | J148: 0 | K148: 0 | L148: 0 | M148: 0 | N148: 0 | O148: 0 | P148: 0 | Q148: 0 | R148: 0 | S148: 0 | T148: 0 | U148: 0 | V148: 0 | W148: 0 | X148: 0 | Y148: 0 | Z148: 0 | AA148: 0 | AB148: 0 | AC148: 0 | AD148: 0 | AE148: 0 | AF148: 0 | AG148: 0 | AH148: 0 | AI148: 0 | AJ148: 0 | AK148: 0 | AL148: 0 | AM148: 0
A149: Atlanta Athletics Club | C149: 19 | D149: 1 | E149: 0 | F149: 0 | G149: 0 | H149: 0 | I149: 0 | J149: 0 | K149: 0 | L149: 0 | M149: 0 | N149: 0 | O149: 0 | P149: 0 | Q149: 0 | R149: 0 | S149: 0 | T149: 0 | U149: 0 | V149: 0 | W149: 0 | X149: 0 | Y149: 0 | Z149: 0 | AA149: 0 | AB149: 0 | AC149: 0 | AD149: 0 | AE149: 0 | AF149: 0 | AG149: 0 | AH149: 0 | AI149: 0 | AJ149: 0 | AK149: 0 | AL149: 0 | AM149: 0
A150: Atomic Storm AC | C150: 21 | D150: 0 | E150: 0 | F150: 1 | G150: 0 | H150: 0 | I150: 0 | J150: 0 | K150: 0 | L150: 0 | M150: 0 | N150: 0 | O150: 0 | P150: 0 | Q150: 0 | R150: 0 | S150: 0 | T150: 0 | U150: 0 | V150: 0 | W150: 0 | X150: 0 | Y150: 0 | Z150: 0 | AA150: 0 | AB150: 0 | AC150: 0 | AD150: 0 | AE150: 0 | AF150: 0 | AG150: 0 | AH150: 0 | AI150: 0 | AJ150: 0 | AK150: 0 | AL150: 0 | AM150: 0
A151: Auburndale | C151: 24 | D151: 0 | E151: 0 | F151: 0 | G151: 0 | H151: 1 | I151: 0 | J151: 0 | K151: 0 | L151: 0 | M151: 0 | N151: 0 | O151: 0 | P151: 0 | Q151: 0 | R151: 0 | S151: 0 | T151: 0 | U151: 0 | V151: 0 | W151: 0 | X151: 0 | Y151: 0 | Z151: 0 | AA151: 0 | AB151: 0 | AC151: 0 | AD151: 0 | AE151: 0 | AF151: 0 | AG151: 0 | AH151: 0 | AI151: 0 | AJ151: 0 | AK151: 0 | AL151: 0 | AM151: 0
A152: Auburndale | C152: 27 | D152: 0 | E152: 0 | F152: 0 | G152: 0 | H152: 1 | I152: 0 | J152: 0 | K152: 0 | L152: 0 | M152: 0 | N152: 0 | O152: 0 | P152: 0 | Q152: 0 | R152: 0 | S152: 0 | T152: 0 | U152: 0 | V152: 0 | W152: 0 | X152: 0 | Y152: 0 | Z152: 0 | AA152: 0 | AB152: 0 | AC152: 0 | AD152: 0 | AE152: 0 | AF152: 0 | AG152: 0 | AH152: 0 | AI152: 0 | AJ152: 0 | AK152: 0 | AL152: 0 | AM152: 0
... A192: Blaise's Running Club | C192: 78 | D192: 0 | E192: 0 | F192: 0 | G192: 0 | H192: 1 | I192: 0 | J192: 0 | K192: 0 | L192: 0 | M192: 0 | N192: 0 | O192: 0 | P192: 0 | Q192: 0 | R192: 0 | S192: 0 | T192: 0 | U192: 0 | V192: 0 | W192: 0 | X192: 0 | Y192: 0 | Z192: 0 | AA192: 0 | AB192: 0 | AC192: 0 | AD192: 0 | AE192: 0 | AF192: 0 | AG192: 0 | AH192: 0 | AI192: 0 | AJ192: 0 | AK192: 0 | AL192: 0 | AM192: 0
A193: Blue Ridge RC | B193: 19704 | C193: 14 | D193: 0 | E193: 1 | F193: 1 | G193: 0 | H193: 0 | I193: 0 | J193: 0 | K193: 0 | L193: 0 | M193: 0 | N193: 0 | O193: 0 | P193: 0 | Q193: 0 | R193: 0 | S193: 0 | T193: 0 | U193: 0 | V193: 0 | W193: 0 | X193: 0 | Y193: 0 | Z193: 0 | AA193: 0 | AB193: 0 | AC193: 0 | AD193: 0 | AE193: 0 | AF193: 0 | AG193: 0 | AH193: 0 | AI193: 0 | AJ193: 0 | AK193: 0 | AL193: 0 | AM193: 0
A194: Blue Ridge RC | B194: 19704 | C194: 15 | D194: 1 | E194: 1 | F194: 1 | G194: 0 | H194: 1 | I194: 0 | J194: 0 | K194: 0 | L194: 0 | M194: 0 | N194: 0 | O194: 0 | P194: 0 | Q194: 0 | R194: 0 | S194: 0 | T194: 0 | U194: 0 | V194: 0 | W194: 0 | X194: 0 | Y194: 0 | Z194: 0 | AA194: 0 | AB194: 0 | AC194: 0 | AD194: 0 | AE194: 0 | AF194: 0 | AG194: 0 | AH194: 0 | AI194: 0 | AJ194: 0 | AK194: 0 | AL194: 0 | AM194: 0
A195: Blue Ridge RC | B195: 19704 | C195: 16 | D195: 1 | E195: 1 | F195: 1 | G195: 3 | H195: 0 | I195: 0 | J195: 0 | K195: 0 | L195: 0 | M195: 0 | N195: 0 | O195: 0 | P195: 0 | Q195: 0 | R195: 0 | S195: 0 | T195: 0 | U195: 0 | V195: 0 | W195: 0 | X195: 0 | Y195: 0 | Z195: 0 | AA195: 0 | AB195: 0 | AC195: 0 | AD195: 0 | AE195: 0 | AF195: 0 | AG195: 0 | AH195: 0 | AI195: 0 | AJ195: 0 | AK195: 0 | AL195: 0 | AM195: 0
A196: Blue Ridge RC | B196: 19704 | C196: 17 | D196: 2 | E196: 0 | F196: 0 | G196: 1 | H196: 3 | I196: 0 | J196: 0 | K196: 0 | L196: 0 | M196: 0 | N196: 0 | O196: 0 | P196: 0 | Q196: 0 | R196: 0 | S196: 0 | T196: 0 | U196: 0 | V196: 0 | W196: 0 | X196: 0 | Y196: 0 | Z196: 0 | AA196: 0 | AB196: 0 | AC196: 0 | AD196: 0 | AE196: 0 | AF196: 0 | AG196: 0 | AH196: 0 | AI196: 0 | AJ196: 0 | AK196: 0 | AL196: 0 | AM196: 0
A197: Blue Ridge RC | B197: 19704 | C197: 18 | D197: 0 | E197: 1 | F197: 0 | G197: 6 | H197: 0 | I197: 0 | J197: 0 | K197: 0 | L197: 0 | M197: 0 | N197: 0 | O197: 0 | P197: 1 | Q197: 1 | R197: 0 | S197: 0 | T197: 0 | U197: 0 | V197: 0 | W197: 0 | X197: 0 | Y197: 0 | Z197: 0 | AA197: 0 | AB197: 0 | AC197: 0 | AD197: 0 | AE197: 0 | AF197: 0 | AG197: 0 | AH197: 0 | AI197: 0 | AJ197: 0 | AK197: 0 | AL197: 0 | AM197: 0
A198: Blue Ridge RC | B198: 19704 | C198: 19 | D198: 0 | E198: 0 | F198: 0 | G198: 3 | H198: 2 | I198: 0 | J198: 0 | K198: 0 | L198: 0 | M198: 0 | N198: 0 | O198: 0 | P198: 0 | Q198: 0 | R198: 0 | S198: 0 | T198: 0 | U198: 0 | V198: 0 | W198: 0 | X198: 0 | Y198: 0 | Z198: 0 | AA198: 0 | AB198: 0 | AC198: 0 | AD198: 0 | AE198: 0 | AF198: 0 | AG198: 0 | AH198: 0 | AI198: 0 | AJ198: 0 | AK198: 0 | AL198: 0 | AM198: 0
A199: Blue Ridge RC | B199: 19704 | C199: 20 | D199: 1 | E199: 2 | F199: 0 | G199: 6 | H199: 0 | I199: 0 | J199: 0 | K199: 0 | L199: 0 | M199: 0 | N199: 0 | O199: 0 | P199: 0 | Q199: 0 | R199: 0 | S199: 0 | T199: 0 | U199: 0 | V199: 0 | W199: 0 | X199: 0 | Y199: 0 | Z199: 0 | AA199: 0 | AB199: 0 | AC199: 0 | AD199: 0 | AE199: 0 | AF199: 0 | AG199: 0 | AH199: 0 | AI199: 0 | AJ199: 0 | AK199: 0 | AL199: 0 | AM199: 0
A200: Blue Ridge RC | B200: 19704 | C200: 21 | D200: 9 | E200: 2 | F200: 0 | G200: 8 | H200: 1 | I200: 0 | J200: 0 | K200: 0 | L200: 0 | M200: 0 | N200: 0 | O200: 0 | P200: 0 | Q200: 0 | R200: 0 | S200: 0 | T200: 0 | U200: 0 | V200: 0 | W200: 0 | X200: 0 | Y200: 0 | Z200: 0 | AA200: 0 | AB200: 0 | AC200: 0 | AD200: 0 | AE200: 0 | AF200: 0 | AG200: 0 | AH200: 0 | AI200: 0 | AJ200: 0 | AK200: 0 | AL200: 0 | AM200: 0
A201: Blue Ridge RC | B201: 19704 | C201: 22 | D201: 2 | E201: 0 | F201: 1 | G201: 7 | H201: 0 | I201: 0 | J201: 0 | K201: 0 | L201: 0 | M201: 0 | N201: 0 | O201: 0 | P201: 0 | Q201: 0 | R201: 0 | S201: 0 | T201: 0 | U201: 0 | V201: 0 | W201: 0 | X201: 0 | Y201: 0 | Z201: 0 | AA201: 0 | AB201: 0 | AC201: 0 | AD201: 0 | AE201: 0 | AF201: 0 | AG201: 0 | AH201: 0 | AI201: 0 | AJ201: 0 | AK201: 0 | AL201: 0 | AM201: 0
A202: Blue Ridge RC | B202: 19704 | C202: 23 | D202: 1 | E202: 0 | F202: 0 | G202: 6 | H202: 0 | I202: 1 | J202: 1 | K202: 1 | L202: 0 | M202: 0 | N202: 0 | O202: 0 | P202: 0 | Q202: 0 | R202: 0 | S202: 0 | T202: 0 | U202: 0 | V202: 0 | W202: 0 | X202: 0 | Y202: 0 | Z202: 0 | AA202: 0 | AB202: 0 | AC202: 0 | AD202: 0 | AE202: 0 | AF202: 0 | AG202: 0 | AH202: 0 | AI202: 0 | AJ202: 0 | AK202: 0 | AL202: 0 | AM202: 0
A203: Blue Ridge RC | B203: 19704 | C203: 24 | D203: 0 | E203: 0 | F203: 0 | G203: 2 | H203: 1 | I203: 0 | J203: 0 | K203: 0 | L203: 0 | M203: 0 | N203: 0 | O203: 0 | P203: 0 | Q203: 0 | R203: 0 | S203: 0 | T203: 0 | U203: 0 | V203: 0 | W203: 0 | X203: 0 | Y203: 3 | Z203: 2 | AA203: 2 | AB203: 0 | AC203: 0 | AD203: 0 | AE203: 0 | AF203: 0 | AG203: 0 | AH203: 0 | AI203: 0 | AJ203: 0 | AK203: 0 | AL203: 0 | AM203: 0
A204: Blue Ridge RC | B204: 19704 | C204: 25 | D204: 1 | E204: 1 | F204: 0 | G204: 3 | H204: 0 | I204: 0 | J204: 0 | K204: 0 | L204: 0 | M204: 0 | N204: 0 | O204: 0 | P204: 0 | Q204: 0 | R204: 0 | S204: 0 | T204: 0 | U204: 0 | V204: 0 | W204: 0 | X204: 0 | Y204: 0 | Z204: 0 | AA204: 0 | AB204: 0 | AC204: 1 | AD204: 1 | AE204: 0 | AF204: 0 | AG204: 0 | AH204: 0 | AI204: 0 | AJ204: 0 | AK204: 0 | AL204: 0 | AM204: 0 | AN204: 51 | AO204: 5772
A205: Blue Ridge RC | B205: 19704 | C205: 26 | D205: 0 | E205: 1 | F205: 0 | G205: 2 | H205: 0 | I205: 0 | J205: 0 | K205: 0 | L205: 0 | M205: 0 | N205: 0 | O205: 0 | P205: 2 | Q205: 0 | R205: 0 | S205: 0 | T205: 0 | U205: 0 | V205: 0 | W205: 0 | X205: 0 | Y205: 0 | Z205: 0 | AA205: 0 | AB205: 0 | AC205: 0 | AD205: 0 | AE205: 0 | AF205: 0 | AG205: 0 | AH205: 0 | AI205: 0 | AJ205: 0 | AK205: 0 | AL205: 0 | AM205: 0
A206: Blue Ridge RC | B206: 19704 | C206: 27 | D206: 2 | E206: 0 | F206: 2 | G206: 2 | H206: 0 | I206: 0 | J206: 0 | K206: 0 | L206: 0 | M206: 0 | N206: 0 | O206: 0 | P206: 0 | Q206: 0 | R206: 0 | S206: 0 | T206: 0 | U206: 0 | V206: 0 | W206: 0 | X206: 0 | Y206: 0 | Z206: 0 | AA206: 0 | AB206: 0 | AC206: 0 | AD206: 0 | AE206: 0 | AF206: 0 | AG206: 0 | AH206: 0 | AI206: 0 | AJ206: 0 | AK206: 0 | AL206: 0 | AM206: 0
A207: Blue Ridge RC | B207: 19704 | C207: 28 | D207: 1 | E207: 2 | F207: 1 | G207: 3 | H207: 1 | I207: 0 | J207: 0 | K207: 0 | L207: 0 | M207: 0 | N207: 0 | O207: 0 | P207: 0 | Q207: 0 | R207: 0 | S207: 0 | T207: 0 | U207: 0 | V207: 0 | W207: 0 | X207: 0 | Y207: 0 | Z207: 1 | AA207: 0 | AB207: 0 | AC207: 0 | AD207: 0 | AE207: 0 | AF207: 0 | AG207: 0 | AH207: 0 | AI207: 0 | AJ207: 0 | AK207: 0 | AL207: 0 | AM207: 0
A208: Blue Ridge RC | B208: 19704 | C208: 29 | D208: 1 | E208: 1 | F208: 2 | G208: 3 | H208: 1 | I208: 0 | J208: 0 | K208: 0 | L208: 0 | M208: 0 | N208: 0 | O208: 0 | P208: 0 | Q208: 0 | R208: 0 | S208: 0 | T208: 0 | U208: 0 | V208: 0 | W208: 0 | X208: 0 | Y208: 0 | Z208: 0 | AA208: 0 | AB208: 0 | AC208: 0 | AD208: 1 | AE208: 0 | AF208: 0 | AG208: 0 | AH208: 0 | AI208: 0 | AJ208: 0 | AK208: 0 | AL208: 0 | AM208: 0
A209: Blue Ridge RC | B209: 19704 | C209: 30 | D209: 2 | E209: 0 | F209: 0 | G209: 0 | H209: 0 | I209: 0 | J209: 0 | K209: 0 | L209: 0 | M209: 0 | N209: 0 | O209: 0 | P209: 0 | Q209: 0 | R209: 0 | S209: 0 | T209: 0 | U209: 0 | V209: 0 | W209: 0 | X209: 0 | Y209: 0 | Z209: 1 | AA209: 0 | AB209: 0 | AC209: 0 | AD209: 0 | AE209: 0 | AF209: 0 | AG209: 0 | AH209: 0 | AI209: 0 | AJ209: 0 | AK209: 0 | AL209: 0 | AM209: 0 | AN209: 49 | AO209: 1520
A210: Blue Ridge RC | B210: 19704 | C210: 31 | D210: 2 | E210: 2 | F210: 0 | G210: 0 | H210: 0 | I210: 0 | J210: 0 | K210: 0 | L210: 0 | M210: 0 | N210: 0 | O210: 0 | P210: 0 | Q210: 0 | R210: 0 | S210: 0 | T210: 0 | U210: 0 | V210: 0 | W210: 0 | X210: 0 | Y210: 0 | Z210: 0 | AA210: 0 | AB210: 0 | AC210: 0 | AD210: 0 | AE210: 0 | AF210: 0 | AG210: 0 | AH210: 0 | AI210: 0 | AJ210: 0 | AK210: 0 | AL210: 0 | AM210: 0
A211: Blue Ridge RC | B211: 19704 | C211: 32 | D211: 0 | E211: 1 | F211: 0 | G211: 0 | H211: 1 | I211: 0 | J211: 0 | K211: 0 | L211: 0 | M211: 0 | N211: 0 | O211: 0 | P211: 0 | Q211: 0 | R211: 0 | S211: 0 | T211: 0 | U211: 0 | V211: 0 | W211: 0 | X211: 0 | Y211: 0 | Z211: 1 | AA211: 0 | AB211: 0 | AC211: 0 | AD211: 0 | AE211: 0 | AF211: 0 | AG211: 0 | AH211: 0 | AI211: 0 | AJ211: 0 | AK211: 0 | AL211: 0 | AM211: 0
A212: Blue Ridge RC | B212: 19704 | C212: 33 | D212: 2 | E212: 1 | F212: 0 | G212: 2 | H212: 0 | I212: 0 | J212: 0 | K212: 0 | L212: 0 | M212: 0 | N212: 0 | O212: 0 | P212: 0 | Q212: 0 | R212: 0 | S212: 0 | T212: 0 | U212: 0 | V212: 0 | W212: 0 | X212: 0 | Y212: 0 | Z212: 0 | AA212: 0 | AB212: 0 | AC212: 0 | AD212: 0 | AE212: 0 | AF212: 0 | AG212: 0 | AH212: 1 | AI212: 0 | AJ212: 0 | AK212: 0 | AL212: 0 | AM212: 0
A213: Blue Ridge RC | B213: 19704 | C213: 37 | D213: 0 | E213: 0 | F213: 0 | G213: 0 | H213: 0 | I213: 0 | J213: 0 | K213: 0 | L213: 0 | M213: 0 | N213: 0 | O213: 0 | P213: 0 | Q213: 0 | R213: 0 | S213: 0 | T213: 0 | U213: 0 | V213: 0 | W213: 0 | X213: 0 | Y213: 0 | Z213: 0 | AA213: 0 | AB213: 3 | AC213: 0 | AD213: 0 | AE213: 0 | AF213: 0 | AG213: 0 | AH213: 0 | AI213: 0 | AJ213: 0 | AK213: 0 | AL213: 0 | AM213: 0
A214: Blue Ridge RC | B214: 19704 | C214: 38 | D214: 0 | E214: 0 | F214: 2 | G214: 0 | H214: 0 | I214: 0 | J214: 0 | K214: 0 | L214: 0 | M214: 0 | N214: 0 | O214: 0 | P214: 0 | Q214: 0 | R214: 0 | S214: 0 | T214: 0 | U214: 0 | V214: 0 | W214: 0 | X214: 0 | Y214: 0 | Z214: 0 | AA214: 0 | AB214: 0 | AC214: 0 | AD214: 0 | AE214: 0 | AF214: 0 | AG214: 0 | AH214: 0 | AI214: 0 | AJ214: 0 | AK214: 0 | AL214: 0 | AM214: 0
A215: Blue Ridge RC | B215: 19704 | C215: 39 | D215: 0 | E215: 2 | F215: 6 | G215: 2 | H215: 0 | I215: 0 | J215: 0 | K215: 0 | L215: 0 | M215: 0 | N215: 0 | O215: 0 | P215: 0 | Q215: 0 | R215: 0 | S215: 0 | T215: 0 | U215: 0 | V215: 0 | W215: 0 | X215: 0 | Y215: 0 | Z215: 0 | AA215: 0 | AB215: 0 | AC215: 0 | AD215: 0 | AE215: 1 | AF215: 0 | AG215: 1 | AH215: 0 | AI215: 0 | AJ215: 0 | AK215: 0 | AL215: 0 | AM215: 0
A216: Blue Ridge RC | B216: 19704 | C216: 40 | D216: 1 | E216: 3 | F216: 3 | G216: 2 | H216: 0 | I216: 0 | J216: 0 | K216: 0 | L216: 0 | M216: 0 | N216: 0 | O216: 0 | P216: 0 | Q216: 0 | R216: 0 | S216: 0 | T216: 0 | U216: 0 | V216: 0 | W216: 0 | X216: 0 | Y216: 2 | Z216: 0 | AA216: 0 | AB216: 0 | AC216: 0 | AD216: 0 | AE216: 0 | AF216: 0 | AG216: 0 | AH216: 0 | AI216: 0 | AJ216: 0 | AK216: 0 | AL216: 0 | AM216: 0
A217: Blue Ridge RC | B217: 19704 | C217: 41 | D217: 3 | E217: 5 | F217: 9 | G217: 2 | H217: 1 | I217: 0 | J217: 0 | K217: 0 | L217: 0 | M217: 0 | N217: 0 | O217: 0 | P217: 0 | Q217: 0 | R217: 0 | S217: 0 | T217: 0 | U217: 0 | V217: 0 | W217: 0 | X217: 0 | Y217: 0 | Z217: 0 | AA217: 0 | AB217: 0 | AC217: 1 | AD217: 0 | AE217: 0 | AF217: 0 | AG217: 0 | AH217: 0 | AI217: 0 | AJ217: 0 | AK217: 0 | AL217: 0 | AM217: 0
A218: Blue Ridge RC | B218: 19704 | C218: 42 | D218: 4 | E218: 4 | F218: 4 | G218: 1 | H218: 1 | I218: 1 | J218: 0 | K218: 0 | L218: 0 | M218: 0 | N218: 0 | O218: 0 | P218: 0 | Q218: 0 | R218: 0 | S218: 0 | T218: 0 | U218: 0 | V218: 0 | W218: 0 | X218: 0 | Y218: 2 | Z218: 1 | AA218: 0 | AB218: 0 | AC218: 0 | AD218: 0 | AE218: 0 | AF218: 0 | AG218: 0 | AH218: 0 | AI218: 0 | AJ218: 0 | AK218: 0 | AL218: 0 | AM218: 0
A219: Blue Ridge RC | B219: 19704 | C219: 43 | D219: 5 | E219: 5 | F219: 1 | G219: 1 | H219: 3 | I219: 1 | J219: 2 | K219: 0 | L219: 0 | M219: 0 | N219: 0 | O219: 0 | P219: 0 | Q219: 0 | R219: 0 | S219: 0 | T219: 0 | U219: 0 | V219: 0 | W219: 0 | X219: 0 | Y219: 0 | Z219: 0 | AA219: 0 | AB219: 0 | AC219: 0 | AD219: 0 | AE219: 0 | AF219: 0 | AG219: 0 | AH219: 0 | AI219: 0 | AJ219: 0 | AK219: 0 | AL219: 0 | AM219: 0
A220: Blue Ridge RC | B220: 19704 | C220: 44 | D220: 9 | E220: 4 | F220: 2 | G220: 0 | H220: 0 | I220: 0 | J220: 0 | K220: 0 | L220: 0 | M220: 0 | N220: 0 | O220: 0 | P220: 0 | Q220: 0 | R220: 0 | S220: 0 | T220: 0 | U220: 0 | V220: 0 | W220: 0 | X220: 0 | Y220: 1 | Z220: 2 | AA220: 1 | AB220: 0 | AC220: 0 | AD220: 0 | AE220: 0 | AF220: 0 | AG220: 0 | AH220: 0 | AI220: 0 | AJ220: 0 | AK220: 0 | AL220: 0 | AM220: 0
A221: Blue Ridge RC | B221: 19704 | C221: 49 | D221: 0 | E221: 0 | F221: 0 | G221: 0 | H221: 0 | I221: 0 | J221: 0 | K221: 0 | L221: 0 | M221: 0 | N221: 0 | O221: 0 | P221: 0 | Q221: 0 | R221: 0 | S221: 0 | T221: 0 | U221: 0 | V221: 0 | W221: 0 | X221: 0 | Y221: 0 | Z221: 0 | AA221: 0 | AB221: 0 | AC221: 0 | AD221: 0 | AE221: 0 | AF221: 0 | AG221: 1 | AH221: 0 | AI221: 0 | AJ221: 0 | AK221: 0 | AL221: 0 | AM221: 0
... A223: Blue Ridge RC | B223: 19704 | C223: 52 | D223: 3 | E223: 0 | F223: 1 | G223: 3 | H223: 1 | I223: 1 | J223: 0 | K223: 0 | L223: 0 | M223: 0 | N223: 0 | O223: 0 | P223: 0 | Q223: 0 | R223: 0 | S223: 0 | T223: 0 | U223: 0 | V223: 0 | W223: 0 | X223: 0 | Y223: 2 | Z223: 0 | AA223: 0 | AB223: 0 | AC223: 0 | AD223: 0 | AE223: 0 | AF223: 0 | AG223: 0 | AH223: 0 | AI223: 0 | AJ223: 0 | AK223: 0 | AL223: 0 | AM223: 0
A224: Blue Ridge RC | B224: 19704 | C224: 53 | D224: 5 | E224: 4 | F224: 1 | G224: 4 | H224: 2 | I224: 1 | J224: 0 | K224: 0 | L224: 0 | M224: 0 | N224: 0 | O224: 0 | P224: 0 | Q224: 0 | R224: 0 | S224: 0 | T224: 0 | U224: 0 | V224: 0 | W224: 0 | X224: 0 | Y224: 0 | Z224: 0 | AA224: 0 | AB224: 0 | AC224: 0 | AD224: 0 | AE224: 2 | AF224: 0 | AG224: 0 | AH224: 0 | AI224: 0 | AJ224: 0 | AK224: 0 | AL224: 0 | AM224: 0 | AN224: 54 | AO224: 1992
A225: Blue Ridge RC | B225: 19704 | C225: 54 | D225: 4 | E225: 2 | F225: 0 | G225: 5 | H225: 2 | I225: 0 | J225: 0 | K225: 0 | L225: 0 | M225: 0 | N225: 0 | O225: 0 | P225: 0 | Q225: 0 | R225: 0 | S225: 1 | T225: 0 | U225: 0 | V225: 0 | W225: 0 | X225: 0 | Y225: 1 | Z225: 0 | AA225: 1 | AB225: 0 | AC225: 0 | AD225: 0 | AE225: 0 | AF225: 0 | AG225: 0 | AH225: 0 | AI225: 0 | AJ225: 0 | AK225: 0 | AL225: 0 | AM225: 0
A226: Blue Ridge RC | B226: 19704 | C226: 55 | D226: 5 | E226: 1 | F226: 1 | G226: 0 | H226: 0 | I226: 0 | J226: 0 | K226: 0 | L226: 1 | M226: 0 | N226: 0 | O226: 0 | P226: 0 | Q226: 0 | R226: 0 | S226: 0 | T226: 0 | U226: 0 | V226: 0 | W226: 0 | X226: 0 | Y226: 0 | Z226: 0 | AA226: 0 | AB226: 0 | AC226: 0 | AD226: 0 | AE226: 2 | AF226: 2 | AG226: 1 | AH226: 0 | AI226: 0 | AJ226: 0 | AK226: 5 | AL226: 6 | AM226: 7 | AN226: 3 | AO226: 52391
A227: Blue Ridge RC | B227: 19704 | C227: 56 | D227: 5 | E227: 1 | F227: 1 | G227: 0 | H227: 0 | I227: 0 | J227: 0 | K227: 0 | L227: 0 | M227: 0 | N227: 0 | O227: 0 | P227: 0 | Q227: 0 | R227: 0 | S227: 0 | T227: 0 | U227: 0 | V227: 0 | W227: 0 | X227: 0 | Y227: 2 | Z227: 1 | AA227: 1 | AB227: 0 | AC227: 0 | AD227: 0 | AE227: 0 | AF227: 0 | AG227: 0 | AH227: 0 | AI227: 0 | AJ227: 0 | AK227: 0 | AL227: 0 | AM227: 0
A228: Blue Ridge RC | B228: 19704 | C228: 57 | D228: 7 | E228: 3 | F228: 1 | G228: 0 | H228: 0 | I228: 0 | J228: 0 | K228: 0 | L228: 0 | M228: 0 | N228: 0 | O228: 0 | P228: 0 | Q228: 0 | R228: 0 | S228: 0 | T228: 0 | U228: 0 | V228: 0 | W228: 0 | X228: 0 | Y228: 0 | Z228: 0 | AA228: 0 | AB228: 0 | AC228: 1 | AD228: 0 | AE228: 0 | AF228: 0 | AG228: 1 | AH228: 0 | AI228: 0 | AJ228: 0 | AK228: 0 | AL228: 0 | AM228: 0
A229: Blue Ridge RC | B229: 19704 | C229: 58 | D229: 5 | E229: 5 | F229: 3 | G229: 0 | H229: 0 | I229: 0 | J229: 0 | K229: 0 | L229: 0 | M229: 0 | N229: 0 | O229: 0 | P229: 0 | Q229: 0 | R229: 0 | S229: 0 | T229: 0 | U229: 0 | V229: 0 | W229: 0 | X229: 0 | Y229: 4 | Z229: 1 | AA229: 1 | AB229: 0 | AC229: 0 | AD229: 0 | AE229: 0 | AF229: 0 | AG229: 0 | AH229: 0 | AI229: 0 | AJ229: 0 | AK229: 0 | AL229: 0 | AM229: 0
A230: Blue Ridge RC | B230: 19704 | C230: 59 | D230: 7 | E230: 4 | F230: 3 | G230: 0 | H230: 0 | I230: 1 | J230: 1 | K230: 0 | L230: 1 | M230: 0 | N230: 0 | O230: 0 | P230: 0 | Q230: 0 | R230: 0 | S230: 0 | T230: 0 | U230: 0 | V230: 0 | W230: 0 | X230: 0 | Y230: 0 | Z230: 0 | AA230: 0 | AB230: 0 | AC230: 0 | AD230: 0 | AE230: 1 | AF230: 0 | AG230: 1 | AH230: 2 | AI230: 0 | AJ230: 0 | AK230: 0 | AL230: 0 | AM230: 0
A231: Blue Ridge RC | B231: 19704 | C231: 60 | D231: 5 | E231: 2 | F231: 1 | G231: 0 | H231: 0 | I231: 0 | J231: 0 | K231: 0 | L231: 0 | M231: 0 | N231: 0 | O231: 0 | P231: 0 | Q231: 1 | R231: 0 | S231: 0 | T231: 0 | U231: 0 | V231: 0 | W231: 0 | X231: 0 | Y231: 5 | Z231: 2 | AA231: 1 | AB231: 0 | AC231: 0 | AD231: 0 | AE231: 0 | AF231: 0 | AG231: 0 | AH231: 0 | AI231: 0 | AJ231: 0 | AK231: 0 | AL231: 0 | AM231: 0
A232: Blue Ridge RC | B232: 19704 | C232: 61 | D232: 9 | E232: 11 | F232: 7 | G232: 1 | H232: 0 | I232: 1 | J232: 0 | K232: 0 | L232: 0 | M232: 0 | N232: 0 | O232: 1 | P232: 0 | Q232: 0 | R232: 0 | S232: 0 | T232: 0 | U232: 0 | V232: 0 | W232: 0 | X232: 0 | Y232: 0 | Z232: 0 | AA232: 0 | AB232: 0 | AC232: 0 | AD232: 1 | AE232: 0 | AF232: 0 | AG232: 0 | AH232: 0 | AI232: 0 | AJ232: 0 | AK232: 1 | AL232: 0 | AM232: 0 | AN232: 56 | AO232: 1277
A233: Blue Ridge RC | B233: 19704 | C233: 62 | D233: 13 | E233: 8 | F233: 5 | G233: 0 | H233: 0 | I233: 0 | J233: 0 | K233: 0 | L233: 0 | M233: 0 | N233: 0 | O233: 0 | P233: 0 | Q233: 0 | R233: 0 | S233: 0 | T233: 1 | U233: 0 | V233: 0 | W233: 0 | X233: 0 | Y233: 6 | Z233: 0 | AA233: 3 | AB233: 0 | AC233: 0 | AD233: 0 | AE233: 0 | AF233: 0 | AG233: 0 | AH233: 0 | AI233: 0 | AJ233: 0 | AK233: 0 | AL233: 0 | AM233: 0
A234: Blue Ridge RC | B234: 19704 | C234: 63 | D234: 15 | E234: 4 | F234: 6 | G234: 1 | H234: 0 | I234: 0 | J234: 0 | K234: 3 | L234: 0 | M234: 0 | N234: 0 | O234: 0 | P234: 0 | Q234: 0 | R234: 0 | S234: 0 | T234: 0 | U234: 0 | V234: 0 | W234: 0 | X234: 0 | Y234: 0 | Z234: 0 | AA234: 0 | AB234: 0 | AC234: 0 | AD234: 0 | AE234: 0 | AF234: 0 | AG234: 0 | AH234: 0 | AI234: 0 | AJ234: 0 | AK234: 0 | AL234: 0 | AM234: 0 | AN234: 56 | AO234: 6813
A235: Blue Ridge RC | B235: 19704 | C235: 64 | D235: 16 | E235: 10 | F235: 6 | G235: 0 | H235: 0 | I235: 0 | J235: 0 | K235: 0 | L235: 0 | M235: 0 | N235: 0 | O235: 0 | P235: 0 | Q235: 0 | R235: 0 | S235: 1 | T235: 1 | U235: 1 | V235: 0 | W235: 0 | X235: 0 | Y235: 7 | Z235: 0 | AA235: 2 | AB235: 0 | AC235: 0 | AD235: 0 | AE235: 0 | AF235: 0 | AG235: 0 | AH235: 0 | AI235: 0 | AJ235: 0 | AK235: 0 | AL235: 0 | AM235: 0 | AN235: 58 | AO235: 5942
A236: Blue Ridge RC | B236: 19704 | C236: 65 | D236: 19 | E236: 11 | F236: 3 | G236: 0 | H236: 0 | I236: 0 | J236: 0 | K236: 0 | L236: 0 | M236: 1 | N236: 0 | O236: 1 | P236: 0 | Q236: 0 | R236: 0 | S236: 0 | T236: 0 | U236: 0 | V236: 0 | W236: 0 | X236: 0 | Y236: 0 | Z236: 0 | AA236: 0 | AB236: 0 | AC236: 0 | AD236: 0 | AE236: 1 | AF236: 1 | AG236: 2 | AH236: 1 | AI236: 0 | AJ236: 0 | AK236: 0 | AL236: 0 | AM236: 0 | AN236: 53 | AO236: 5407
A237: Blue Ridge RC | B237: 19704 | C237: 66 | D237: 16 | E237: 6 | F237: 10 | G237: 3 | H237: 0 | I237: 0 | J237: 0 | K237: 0 | L237: 0 | M237: 0 | N237: 0 | O237: 0 | P237: 0 | Q237: 0 | R237: 0 | S237: 0 | T237: 1 | U237: 1 | V237: 0 | W237: 0 | X237: 0 | Y237: 7 | Z237: 2 | AA237: 2 | AB237: 0 | AC237: 0 | AD237: 0 | AE237: 0 | AF237: 0 | AG237: 0 | AH237: 0 | AI237: 0 | AJ237: 0 | AK237: 0 | AL237: 0 | AM237: 0 | AN237: 51 | AO237: 3852
A238: Blue Ridge RC | B238: 19704 | C238: 67 | D238: 23 | E238: 15 | F238: 4 | G238: 1 | H238: 1 | I238: 1 | J238: 0 | K238: 1 | L238: 0 | M238: 0 | N238: 0 | O238: 0 | P238: 0 | Q238: 0 | R238: 0 | S238: 0 | T238: 0 | U238: 0 | V238: 0 | W238: 0 | X238: 0 | Y238: 0 | Z238: 0 | AA238: 0 | AB238: 0 | AC238: 0 | AD238: 0 | AE238: 2 | AF238: 0 | AG238: 0 | AH238: 0 | AI238: 0 | AJ238: 0 | AK238: 0 | AL238: 0 | AM238: 0 | AN238: 51 | AO238: 8308
A239: Blue Ridge RC | B239: 19704 | C239: 68 | D239: 26 | E239: 8 | F239: 6 | G239: 2 | H239: 0 | I239: 0 | J239: 0 | K239: 0 | L239: 0 | M239: 0 | N239: 0 | O239: 0 | P239: 0 | Q239: 0 | R239: 0 | S239: 0 | T239: 0 | U239: 0 | V239: 0 | W239: 0 | X239: 0 | Y239: 8 | Z239: 0 | AA239: 4 | AB239: 0 | AC239: 0 | AD239: 0 | AE239: 0 | AF239: 0 | AG239: 0 | AH239: 0 | AI239: 0 | AJ239: 0 | AK239: 0 | AL239: 0 | AM239: 0 | AN239: 51 | AO239: 6903
...

Sheet Club Totals
A1: Season Range | B1: 10 | C1: to | D1: 107
A2: Club | B2: Club User ID | C2: USA INC Gold | D2: USA INC Silver | E2: USA INC Bronze | F2: Overseas INC Gold | G2: Overseas INC Silver | H2: Overseas INC Bronze | I2: Olympic Games Gold | J2: Olympic Games Silver | K2: Olympic Games Bronze | L2: World Champ's Gold | M2: World Champ's Silver | N2: World Champ's Bronze | O2: World Junior Champ's Gold | P2: World Junior Champ's Silver | Q2: World Junior Champ's Bronze | R2: World U21 Champ's Gold | S2: World U21 Champ's Silver | T2: World U21 Champ's Bronze | U2: World Masters Champ's Gold | V2: World Masters Champ's Silver | W2: World Masters Champ's Bronze | X2: Continental Champ's Gold | Y2: Continental Champ's Silver | Z2: Continental Champ's Bronze | AA2: Continental Junior Champ's Gold | AB2: Continental Junior Champ's Silver | AC2: Continental Junior Champ's Bronze | AD2: Continental U21 Champ's Gold | AE2: Continental U21 Champ's Silver | AF2: Continental U21 Champ's Bronze | AG2: Continental Masters Champ's Gold | AH2: Continental Masters Champ's Silver | AI2: Continental Masters Champ's Bronze | AJ2: Champions Cup Gold | AK2: Champions Cup Silver | AL2: Champions Cup Bronze | AM2: Champions Cup Entries | AN2: Champions Cup Points | AO2: Has Range Data
A3: _StarTrackers Athletic Cl... | C3: =SUMIFS('USA Prestige by Season'!D$3:D$2362,'USA Prestige by Season'!$A$3:$A$2362,$A3,'USA Prestige by Season'!$C$3:$C$2362,">="&$B$1,'USA Prestige by Season'!$C$3:$C$2362,"<="&$D$1) -> 4 | D3: =SUMIFS('USA Prestige by Season'!E$3:E$2362,'USA Prestige by Season'!$A$3:$A$2362,$A3,'USA Prestige by Season'!$C$3:$C$2362,">="&$B$1,'USA Prestige by Season'!$C$3:$C$2362,"<="&$D$1) -> 5 | E3: =SUMIFS('USA Prestige by Season'!F$3:F$2362,'USA Prestige by Season'!$A$3:$A$2362,$A3,'USA Prestige by Season'!$C$3:$C$2362,">="&$B$1,'USA Prestige by Season'!$C$3:$C$2362,"<="&$D$1) -> 16 | F3: =SUMIFS('USA Prestige by Season'!G$3:G$2362,'USA Prestige by Season'!$A$3:$A$2362,$A3,'USA Prestige by Season'!$C$3:$C$2362,">="&$B$1,'USA Prestige by Season'!$C$3:$C$2362,"<="&$D$1) -> 3 | G3: =SUMIFS('USA Prestige by Season'!H$3:H$2362,'USA Prestige by Season'!$A$3:$A$2362,$A3,'USA Prestige by Season'!$C$3:$C$2362,">="&$B$1,'USA Prestige by Season'!$C$3:$C$2362,"<="&$D$1) -> 0 | H3: =SUMIFS('USA Prestige by Season'!I$3:I$2362,'USA Prestige by Season'!$A$3:$A$2362,$A3,'USA Prestige by Season'!$C$3:$C$2362,">="&$B$1,'USA Prestige by Season'!$C$3:$C$2362,"<="&$D$1) -> 1 | I3: =SUMIFS('USA Prestige by Season'!J$3:J$2362,'USA Prestige by Season'!$A$3:$A$2362,$A3,'USA Prestige by Season'!$C$3:$C$2362,">="&$B$1,'USA Prestige by Season'!$C$3:$C$2362,"<="&$D$1) -> 0 | J3: =SUMIFS('USA Prestige by Season'!K$3:K$2362,'USA Prestige by Season'!$A$3:$A$2362,$A3,'USA Prestige by Season'!$C$3:$C$2362,">="&$B$1,'USA Prestige by Season'!$C$3:$C$2362,"<="&$D$1) -> 0 | ... AL3: =SUMIFS('USA Prestige by Season'!AM$3:AM$2362,'USA Prestige by Season'!$A$3:$A$2362,$A3,'USA Prestige by Season'!$C$3:$C$2362,">="&$B$1,'USA Prestige by Season'!$C$3:$C$2362,"<="&$D$1) -> 0 | AM3: =COUNTIFS('USA Prestige by Season'!$A$3:$A$2362,$A3,'USA Prestige by Season'!$C$3:$C$2362,">="&$B$1,'USA Prestige by Season'!$C$3:$C$2362,"<="&$D$1,'USA Prestige by Season'!$AN$3:$AN$2362,"<>") -> 10 | AN3: =SUMIFS('USA Prestige by Season'!$AO$3:$AO$2362,'USA Prestige by Season'!$A$3:$A$2362,$A3,'USA Prestige by Season'!$C$3:$C$2362,">="&$B$1,'USA Prestige by Season'!$C$3:$C$2362,"<="&$D$1) -> 0 | AO3: =IF(COUNTIFS('USA Prestige by Season'!$A$3:$A$2362,$A3,'USA Prestige by Season'!$C$3:$C$2362,">="&$B$1,'USA Prestige by Season'!$C$3:$C$2362,"<="&$D$1)>0,"Yes","No") -> Yes
A4: 400 Masters | C4: =SUMIFS('USA Prestige by Season'!D$3:D$2362,'USA Prestige by Season'!$A$3:$A$2362,$A4,'USA Prestige by Season'!$C$3:$C$2362,">="&$B$1,'USA Prestige by Season'!$C$3:$C$2362,"<="&$D$1) -> 5 | D4: =SUMIFS('USA Prestige by Season'!E$3:E$2362,'USA Prestige by Season'!$A$3:$A$2362,$A4,'USA Prestige by Season'!$C$3:$C$2362,">="&$B$1,'USA Prestige by Season'!$C$3:$C$2362,"<="&$D$1) -> 1 | E4: =SUMIFS('USA Prestige by Season'!F$3:F$2362,'USA Prestige by Season'!$A$3:$A$2362,$A4,'USA Prestige by Season'!$C$3:$C$2362,">="&$B$1,'USA Prestige by Season'!$C$3:$C$2362,"<="&$D$1) -> 4 | F4: =SUMIFS('USA Prestige by Season'!G$3:G$2362,'USA Prestige by Season'!$A$3:$A$2362,$A4,'USA Prestige by Season'!$C$3:$C$2362,">="&$B$1,'USA Prestige by Season'!$C$3:$C$2362,"<="&$D$1) -> 0 | G4: =SUMIFS('USA Prestige by Season'!H$3:H$2362,'USA Prestige by Season'!$A$3:$A$2362,$A4,'USA Prestige by Season'!$C$3:$C$2362,">="&$B$1,'USA Prestige by Season'!$C$3:$C$2362,"<="&$D$1) -> 1 | H4: =SUMIFS('USA Prestige by Season'!I$3:I$2362,'USA Prestige by Season'!$A$3:$A$2362,$A4,'USA Prestige by Season'!$C$3:$C$2362,">="&$B$1,'USA Prestige by Season'!$C$3:$C$2362,"<="&$D$1) -> 0 | I4: =SUMIFS('USA Prestige by Season'!J$3:J$2362,'USA Prestige by Season'!$A$3:$A$2362,$A4,'USA Prestige by Season'!$C$3:$C$2362,">="&$B$1,'USA Prestige by Season'!$C$3:$C$2362,"<="&$D$1) -> 0 | J4: =SUMIFS('USA Prestige by Season'!K$3:K$2362,'USA Prestige by Season'!$A$3:$A$2362,$A4,'USA Prestige by Season'!$C$3:$C$2362,">="&$B$1,'USA Prestige by Season'!$C$3:$C$2362,"<="&$D$1) -> 0 | ... AL4: =SUMIFS('USA Prestige by Season'!AM$3:AM$2362,'USA Prestige by Season'!$A$3:$A$2362,$A4,'USA Prestige by Season'!$C$3:$C$2362,">="&$B$1,'USA Prestige by Season'!$C$3:$C$2362,"<="&$D$1) -> 0 | AM4: =COUNTIFS('USA Prestige by Season'!$A$3:$A$2362,$A4,'USA Prestige by Season'!$C$3:$C$2362,">="&$B$1,'USA Prestige by Season'!$C$3:$C$2362,"<="&$D$1,'USA Prestige by Season'!$AN$3:$AN$2362,"<>") -> 8 | AN4: =SUMIFS('USA Prestige by Season'!$AO$3:$AO$2362,'USA Prestige by Season'!$A$3:$A$2362,$A4,'USA Prestige by Season'!$C$3:$C$2362,">="&$B$1,'USA Prestige by Season'!$C$3:$C$2362,"<="&$D$1) -> 0 | AO4: =IF(COUNTIFS('USA Prestige by Season'!$A$3:$A$2362,$A4,'USA Prestige by Season'!$C$3:$C$2362,">="&$B$1,'USA Prestige by Season'!$C$3:$C$2362,"<="&$D$1)>0,"Yes","No") -> Yes
A5: AC Khorbin | C5: =SUMIFS('USA Prestige by Season'!D$3:D$2362,'USA Prestige by Season'!$A$3:$A$2362,$A5,'USA Prestige by Season'!$C$3:$C$2362,">="&$B$1,'USA Prestige by Season'!$C$3:$C$2362,"<="&$D$1) -> 0 | D5: =SUMIFS('USA Prestige by Season'!E$3:E$2362,'USA Prestige by Season'!$A$3:$A$2362,$A5,'USA Prestige by Season'!$C$3:$C$2362,">="&$B$1,'USA Prestige by Season'!$C$3:$C$2362,"<="&$D$1) -> 0 | E5: =SUMIFS('USA Prestige by Season'!F$3:F$2362,'USA Prestige by Season'!$A$3:$A$2362,$A5,'USA Prestige by Season'!$C$3:$C$2362,">="&$B$1,'USA Prestige by Season'!$C$3:$C$2362,"<="&$D$1) -> 0 | F5: =SUMIFS('USA Prestige by Season'!G$3:G$2362,'USA Prestige by Season'!$A$3:$A$2362,$A5,'USA Prestige by Season'!$C$3:$C$2362,">="&$B$1,'USA Prestige by Season'!$C$3:$C$2362,"<="&$D$1) -> 0 | G5: =SUMIFS('USA Prestige by Season'!H$3:H$2362,'USA Prestige by Season'!$A$3:$A$2362,$A5,'USA Prestige by Season'!$C$3:$C$2362,">="&$B$1,'USA Prestige by Season'!$C$3:$C$2362,"<="&$D$1) -> 0 | H5: =SUMIFS('USA Prestige by Season'!I$3:I$2362,'USA Prestige by Season'!$A$3:$A$2362,$A5,'USA Prestige by Season'!$C$3:$C$2362,">="&$B$1,'USA Prestige by Season'!$C$3:$C$2362,"<="&$D$1) -> 0 | I5: =SUMIFS('USA Prestige by Season'!J$3:J$2362,'USA Prestige by Season'!$A$3:$A$2362,$A5,'USA Prestige by Season'!$C$3:$C$2362,">="&$B$1,'USA Prestige by Season'!$C$3:$C$2362,"<="&$D$1) -> 0 | J5: =SUMIFS('USA Prestige by Season'!K$3:K$2362,'USA Prestige by Season'!$A$3:$A$2362,$A5,'USA Prestige by Season'!$C$3:$C$2362,">="&$B$1,'USA Prestige by Season'!$C$3:$C$2362,"<="&$D$1) -> 0 | ... AL5: =SUMIFS('USA Prestige by Season'!AM$3:AM$2362,'USA Prestige by Season'!$A$3:$A$2362,$A5,'USA Prestige by Season'!$C$3:$C$2362,">="&$B$1,'USA Prestige by Season'!$C$3:$C$2362,"<="&$D$1) -> 0 | AM5: =COUNTIFS('USA Prestige by Season'!$A$3:$A$2362,$A5,'USA Prestige by Season'!$C$3:$C$2362,">="&$B$1,'USA Prestige by Season'!$C$3:$C$2362,"<="&$D$1,'USA Prestige by Season'!$AN$3:$AN$2362,"<>") -> 1 | AN5: =SUMIFS('USA Prestige by Season'!$AO$3:$AO$2362,'USA Prestige by Season'!$A$3:$A$2362,$A5,'USA Prestige by Season'!$C$3:$C$2362,">="&$B$1,'USA Prestige by Season'!$C$3:$C$2362,"<="&$D$1) -> 0 | AO5: =IF(COUNTIFS('USA Prestige by Season'!$A$3:$A$2362,$A5,'USA Prestige by Season'!$C$3:$C$2362,">="&$B$1,'USA Prestige by Season'!$C$3:$C$2362,"<="&$D$1)>0,"Yes","No") -> Yes
A6: AC Massachusetts | C6: =SUMIFS('USA Prestige by Season'!D$3:D$2362,'USA Prestige by Season'!$A$3:$A$2362,$A6,'USA Prestige by Season'!$C$3:$C$2362,">="&$B$1,'USA Prestige by Season'!$C$3:$C$2362,"<="&$D$1) -> 0 | D6: =SUMIFS('USA Prestige by Season'!E$3:E$2362,'USA Prestige by Season'!$A$3:$A$2362,$A6,'USA Prestige by Season'!$C$3:$C$2362,">="&$B$1,'USA Prestige by Season'!$C$3:$C$2362,"<="&$D$1) -> 0 | E6: =SUMIFS('USA Prestige by Season'!F$3:F$2362,'USA Prestige by Season'!$A$3:$A$2362,$A6,'USA Prestige by Season'!$C$3:$C$2362,">="&$B$1,'USA Prestige by Season'!$C$3:$C$2362,"<="&$D$1) -> 0 | F6: =SUMIFS('USA Prestige by Season'!G$3:G$2362,'USA Prestige by Season'!$A$3:$A$2362,$A6,'USA Prestige by Season'!$C$3:$C$2362,">="&$B$1,'USA Prestige by Season'!$C$3:$C$2362,"<="&$D$1) -> 1 | G6: =SUMIFS('USA Prestige by Season'!H$3:H$2362,'USA Prestige by Season'!$A$3:$A$2362,$A6,'USA Prestige by Season'!$C$3:$C$2362,">="&$B$1,'USA Prestige by Season'!$C$3:$C$2362,"<="&$D$1) -> 1 | H6: =SUMIFS('USA Prestige by Season'!I$3:I$2362,'USA Prestige by Season'!$A$3:$A$2362,$A6,'USA Prestige by Season'!$C$3:$C$2362,">="&$B$1,'USA Prestige by Season'!$C$3:$C$2362,"<="&$D$1) -> 3 | I6: =SUMIFS('USA Prestige by Season'!J$3:J$2362,'USA Prestige by Season'!$A$3:$A$2362,$A6,'USA Prestige by Season'!$C$3:$C$2362,">="&$B$1,'USA Prestige by Season'!$C$3:$C$2362,"<="&$D$1) -> 0 | J6: =SUMIFS('USA Prestige by Season'!K$3:K$2362,'USA Prestige by Season'!$A$3:$A$2362,$A6,'USA Prestige by Season'!$C$3:$C$2362,">="&$B$1,'USA Prestige by Season'!$C$3:$C$2362,"<="&$D$1) -> 0 | ... AL6: =SUMIFS('USA Prestige by Season'!AM$3:AM$2362,'USA Prestige by Season'!$A$3:$A$2362,$A6,'USA Prestige by Season'!$C$3:$C$2362,">="&$B$1,'USA Prestige by Season'!$C$3:$C$2362,"<="&$D$1) -> 0 | AM6: =COUNTIFS('USA Prestige by Season'!$A$3:$A$2362,$A6,'USA Prestige by Season'!$C$3:$C$2362,">="&$B$1,'USA Prestige by Season'!$C$3:$C$2362,"<="&$D$1,'USA Prestige by Season'!$AN$3:$AN$2362,"<>") -> 4 | AN6: =SUMIFS('USA Prestige by Season'!$AO$3:$AO$2362,'USA Prestige by Season'!$A$3:$A$2362,$A6,'USA Prestige by Season'!$C$3:$C$2362,">="&$B$1,'USA Prestige by Season'!$C$3:$C$2362,"<="&$D$1) -> 0 | AO6: =IF(COUNTIFS('USA Prestige by Season'!$A$3:$A$2362,$A6,'USA Prestige by Season'!$C$3:$C$2362,">="&$B$1,'USA Prestige by Season'!$C$3:$C$2362,"<="&$D$1)>0,"Yes","No") -> Yes
A7: Aero | C7: =SUMIFS('USA Prestige by Season'!D$3:D$2362,'USA Prestige by Season'!$A$3:$A$2362,$A7,'USA Prestige by Season'!$C$3:$C$2362,">="&$B$1,'USA Prestige by Season'!$C$3:$C$2362,"<="&$D$1) -> 0 | D7: =SUMIFS('USA Prestige by Season'!E$3:E$2362,'USA Prestige by Season'!$A$3:$A$2362,$A7,'USA Prestige by Season'!$C$3:$C$2362,">="&$B$1,'USA Prestige by Season'!$C$3:$C$2362,"<="&$D$1) -> 0 | E7: =SUMIFS('USA Prestige by Season'!F$3:F$2362,'USA Prestige by Season'!$A$3:$A$2362,$A7,'USA Prestige by Season'!$C$3:$C$2362,">="&$B$1,'USA Prestige by Season'!$C$3:$C$2362,"<="&$D$1) -> 0 | F7: =SUMIFS('USA Prestige by Season'!G$3:G$2362,'USA Prestige by Season'!$A$3:$A$2362,$A7,'USA Prestige by Season'!$C$3:$C$2362,">="&$B$1,'USA Prestige by Season'!$C$3:$C$2362,"<="&$D$1) -> 0 | G7: =SUMIFS('USA Prestige by Season'!H$3:H$2362,'USA Prestige by Season'!$A$3:$A$2362,$A7,'USA Prestige by Season'!$C$3:$C$2362,">="&$B$1,'USA Prestige by Season'!$C$3:$C$2362,"<="&$D$1) -> 0 | H7: =SUMIFS('USA Prestige by Season'!I$3:I$2362,'USA Prestige by Season'!$A$3:$A$2362,$A7,'USA Prestige by Season'!$C$3:$C$2362,">="&$B$1,'USA Prestige by Season'!$C$3:$C$2362,"<="&$D$1) -> 0 | I7: =SUMIFS('USA Prestige by Season'!J$3:J$2362,'USA Prestige by Season'!$A$3:$A$2362,$A7,'USA Prestige by Season'!$C$3:$C$2362,">="&$B$1,'USA Prestige by Season'!$C$3:$C$2362,"<="&$D$1) -> 0 | J7: =SUMIFS('USA Prestige by Season'!K$3:K$2362,'USA Prestige by Season'!$A$3:$A$2362,$A7,'USA Prestige by Season'!$C$3:$C$2362,">="&$B$1,'USA Prestige by Season'!$C$3:$C$2362,"<="&$D$1) -> 0 | ... AL7: =SUMIFS('USA Prestige by Season'!AM$3:AM$2362,'USA Prestige by Season'!$A$3:$A$2362,$A7,'USA Prestige by Season'!$C$3:$C$2362,">="&$B$1,'USA Prestige by Season'!$C$3:$C$2362,"<="&$D$1) -> 0 | AM7: =COUNTIFS('USA Prestige by Season'!$A$3:$A$2362,$A7,'USA Prestige by Season'!$C$3:$C$2362,">="&$B$1,'USA Prestige by Season'!$C$3:$C$2362,"<="&$D$1,'USA Prestige by Season'!$AN$3:$AN$2362,"<>") -> 1 | AN7: =SUMIFS('USA Prestige by Season'!$AO$3:$AO$2362,'USA Prestige by Season'!$A$3:$A$2362,$A7,'USA Prestige by Season'!$C$3:$C$2362,">="&$B$1,'USA Prestige by Season'!$C$3:$C$2362,"<="&$D$1) -> 0 | AO7: =IF(COUNTIFS('USA Prestige by Season'!$A$3:$A$2362,$A7,'USA Prestige by Season'!$C$3:$C$2362,">="&$B$1,'USA Prestige by Season'!$C$3:$C$2362,"<="&$D$1)>0,"Yes","No") -> Yes
A8: Akitas | B8: 14870 | C8: =SUMIFS('USA Prestige by Season'!D$3:D$2362,'USA Prestige by Season'!$A$3:$A$2362,$A8,'USA Prestige by Season'!$C$3:$C$2362,">="&$B$1,'USA Prestige by Season'!$C$3:$C$2362,"<="&$D$1) -> 334 | D8: =SUMIFS('USA Prestige by Season'!E$3:E$2362,'USA Prestige by Season'!$A$3:$A$2362,$A8,'USA Prestige by Season'!$C$3:$C$2362,">="&$B$1,'USA Prestige by Season'!$C$3:$C$2362,"<="&$D$1) -> 357 | E8: =SUMIFS('USA Prestige by Season'!F$3:F$2362,'USA Prestige by Season'!$A$3:$A$2362,$A8,'USA Prestige by Season'!$C$3:$C$2362,">="&$B$1,'USA Prestige by Season'!$C$3:$C$2362,"<="&$D$1) -> 311 | F8: =SUMIFS('USA Prestige by Season'!G$3:G$2362,'USA Prestige by Season'!$A$3:$A$2362,$A8,'USA Prestige by Season'!$C$3:$C$2362,">="&$B$1,'USA Prestige by Season'!$C$3:$C$2362,"<="&$D$1) -> 2 | G8: =SUMIFS('USA Prestige by Season'!H$3:H$2362,'USA Prestige by Season'!$A$3:$A$2362,$A8,'USA Prestige by Season'!$C$3:$C$2362,">="&$B$1,'USA Prestige by Season'!$C$3:$C$2362,"<="&$D$1) -> 5 | H8: =SUMIFS('USA Prestige by Season'!I$3:I$2362,'USA Prestige by Season'!$A$3:$A$2362,$A8,'USA Prestige by Season'!$C$3:$C$2362,">="&$B$1,'USA Prestige by Season'!$C$3:$C$2362,"<="&$D$1) -> 0 | I8: =SUMIFS('USA Prestige by Season'!J$3:J$2362,'USA Prestige by Season'!$A$3:$A$2362,$A8,'USA Prestige by Season'!$C$3:$C$2362,">="&$B$1,'USA Prestige by Season'!$C$3:$C$2362,"<="&$D$1) -> 0 | J8: =SUMIFS('USA Prestige by Season'!K$3:K$2362,'USA Prestige by Season'!$A$3:$A$2362,$A8,'USA Prestige by Season'!$C$3:$C$2362,">="&$B$1,'USA Prestige by Season'!$C$3:$C$2362,"<="&$D$1) -> 0 | ... AL8: =SUMIFS('USA Prestige by Season'!AM$3:AM$2362,'USA Prestige by Season'!$A$3:$A$2362,$A8,'USA Prestige by Season'!$C$3:$C$2362,">="&$B$1,'USA Prestige by Season'!$C$3:$C$2362,"<="&$D$1) -> 0 | AM8: =COUNTIFS('USA Prestige by Season'!$A$3:$A$2362,$A8,'USA Prestige by Season'!$C$3:$C$2362,">="&$B$1,'USA Prestige by Season'!$C$3:$C$2362,"<="&$D$1,'USA Prestige by Season'!$AN$3:$AN$2362,"<>") -> 95 | AN8: =SUMIFS('USA Prestige by Season'!$AO$3:$AO$2362,'USA Prestige by Season'!$A$3:$A$2362,$A8,'USA Prestige by Season'!$C$3:$C$2362,">="&$B$1,'USA Prestige by Season'!$C$3:$C$2362,"<="&$D$1) -> 0 | AO8: =IF(COUNTIFS('USA Prestige by Season'!$A$3:$A$2362,$A8,'USA Prestige by Season'!$C$3:$C$2362,">="&$B$1,'USA Prestige by Season'!$C$3:$C$2362,"<="&$D$1)>0,"Yes","No") -> Yes
A9: Alaska Track & Field | C9: =SUMIFS('USA Prestige by Season'!D$3:D$2362,'USA Prestige by Season'!$A$3:$A$2362,$A9,'USA Prestige by Season'!$C$3:$C$2362,">="&$B$1,'USA Prestige by Season'!$C$3:$C$2362,"<="&$D$1) -> 0 | D9: =SUMIFS('USA Prestige by Season'!E$3:E$2362,'USA Prestige by Season'!$A$3:$A$2362,$A9,'USA Prestige by Season'!$C$3:$C$2362,">="&$B$1,'USA Prestige by Season'!$C$3:$C$2362,"<="&$D$1) -> 0 | E9: =SUMIFS('USA Prestige by Season'!F$3:F$2362,'USA Prestige by Season'!$A$3:$A$2362,$A9,'USA Prestige by Season'!$C$3:$C$2362,">="&$B$1,'USA Prestige by Season'!$C$3:$C$2362,"<="&$D$1) -> 1 | F9: =SUMIFS('USA Prestige by Season'!G$3:G$2362,'USA Prestige by Season'!$A$3:$A$2362,$A9,'USA Prestige by Season'!$C$3:$C$2362,">="&$B$1,'USA Prestige by Season'!$C$3:$C$2362,"<="&$D$1) -> 0 | G9: =SUMIFS('USA Prestige by Season'!H$3:H$2362,'USA Prestige by Season'!$A$3:$A$2362,$A9,'USA Prestige by Season'!$C$3:$C$2362,">="&$B$1,'USA Prestige by Season'!$C$3:$C$2362,"<="&$D$1) -> 0 | H9: =SUMIFS('USA Prestige by Season'!I$3:I$2362,'USA Prestige by Season'!$A$3:$A$2362,$A9,'USA Prestige by Season'!$C$3:$C$2362,">="&$B$1,'USA Prestige by Season'!$C$3:$C$2362,"<="&$D$1) -> 2 | I9: =SUMIFS('USA Prestige by Season'!J$3:J$2362,'USA Prestige by Season'!$A$3:$A$2362,$A9,'USA Prestige by Season'!$C$3:$C$2362,">="&$B$1,'USA Prestige by Season'!$C$3:$C$2362,"<="&$D$1) -> 0 | J9: =SUMIFS('USA Prestige by Season'!K$3:K$2362,'USA Prestige by Season'!$A$3:$A$2362,$A9,'USA Prestige by Season'!$C$3:$C$2362,">="&$B$1,'USA Prestige by Season'!$C$3:$C$2362,"<="&$D$1) -> 0 | ... AL9: =SUMIFS('USA Prestige by Season'!AM$3:AM$2362,'USA Prestige by Season'!$A$3:$A$2362,$A9,'USA Prestige by Season'!$C$3:$C$2362,">="&$B$1,'USA Prestige by Season'!$C$3:$C$2362,"<="&$D$1) -> 0 | AM9: =COUNTIFS('USA Prestige by Season'!$A$3:$A$2362,$A9,'USA Prestige by Season'!$C$3:$C$2362,">="&$B$1,'USA Prestige by Season'!$C$3:$C$2362,"<="&$D$1,'USA Prestige by Season'!$AN$3:$AN$2362,"<>") -> 1 | AN9: =SUMIFS('USA Prestige by Season'!$AO$3:$AO$2362,'USA Prestige by Season'!$A$3:$A$2362,$A9,'USA Prestige by Season'!$C$3:$C$2362,">="&$B$1,'USA Prestige by Season'!$C$3:$C$2362,"<="&$D$1) -> 0 | AO9: =IF(COUNTIFS('USA Prestige by Season'!$A$3:$A$2362,$A9,'USA Prestige by Season'!$C$3:$C$2362,">="&$B$1,'USA Prestige by Season'!$C$3:$C$2362,"<="&$D$1)>0,"Yes","No") -> Yes
A10: Alletichs | C10: =SUMIFS('USA Prestige by Season'!D$3:D$2362,'USA Prestige by Season'!$A$3:$A$2362,$A10,'USA Prestige by Season'!$C$3:$C$2362,">="&$B$1,'USA Prestige by Season'!$C$3:$C$2362,"<="&$D$1) -> 0 | D10: =SUMIFS('USA Prestige by Season'!E$3:E$2362,'USA Prestige by Season'!$A$3:$A$2362,$A10,'USA Prestige by Season'!$C$3:$C$2362,">="&$B$1,'USA Prestige by Season'!$C$3:$C$2362,"<="&$D$1) -> 2 | E10: =SUMIFS('USA Prestige by Season'!F$3:F$2362,'USA Prestige by Season'!$A$3:$A$2362,$A10,'USA Prestige by Season'!$C$3:$C$2362,">="&$B$1,'USA Prestige by Season'!$C$3:$C$2362,"<="&$D$1) -> 0 | F10: =SUMIFS('USA Prestige by Season'!G$3:G$2362,'USA Prestige by Season'!$A$3:$A$2362,$A10,'USA Prestige by Season'!$C$3:$C$2362,">="&$B$1,'USA Prestige by Season'!$C$3:$C$2362,"<="&$D$1) -> 2 | G10: =SUMIFS('USA Prestige by Season'!H$3:H$2362,'USA Prestige by Season'!$A$3:$A$2362,$A10,'USA Prestige by Season'!$C$3:$C$2362,">="&$B$1,'USA Prestige by Season'!$C$3:$C$2362,"<="&$D$1) -> 3 | H10: =SUMIFS('USA Prestige by Season'!I$3:I$2362,'USA Prestige by Season'!$A$3:$A$2362,$A10,'USA Prestige by Season'!$C$3:$C$2362,">="&$B$1,'USA Prestige by Season'!$C$3:$C$2362,"<="&$D$1) -> 1 | I10: =SUMIFS('USA Prestige by Season'!J$3:J$2362,'USA Prestige by Season'!$A$3:$A$2362,$A10,'USA Prestige by Season'!$C$3:$C$2362,">="&$B$1,'USA Prestige by Season'!$C$3:$C$2362,"<="&$D$1) -> 0 | J10: =SUMIFS('USA Prestige by Season'!K$3:K$2362,'USA Prestige by Season'!$A$3:$A$2362,$A10,'USA Prestige by Season'!$C$3:$C$2362,">="&$B$1,'USA Prestige by Season'!$C$3:$C$2362,"<="&$D$1) -> 0 | ... AL10: =SUMIFS('USA Prestige by Season'!AM$3:AM$2362,'USA Prestige by Season'!$A$3:$A$2362,$A10,'USA Prestige by Season'!$C$3:$C$2362,">="&$B$1,'USA Prestige by Season'!$C$3:$C$2362,"<="&$D$1) -> 0 | AM10: =COUNTIFS('USA Prestige by Season'!$A$3:$A$2362,$A10,'USA Prestige by Season'!$C$3:$C$2362,">="&$B$1,'USA Prestige by Season'!$C$3:$C$2362,"<="&$D$1,'USA Prestige by Season'!$AN$3:$AN$2362,"<>") -> 2 | AN10: =SUMIFS('USA Prestige by Season'!$AO$3:$AO$2362,'USA Prestige by Season'!$A$3:$A$2362,$A10,'USA Prestige by Season'!$C$3:$C$2362,">="&$B$1,'USA Prestige by Season'!$C$3:$C$2362,"<="&$D$1) -> 0 | AO10: =IF(COUNTIFS('USA Prestige by Season'!$A$3:$A$2362,$A10,'USA Prestige by Season'!$C$3:$C$2362,">="&$B$1,'USA Prestige by Season'!$C$3:$C$2362,"<="&$D$1)>0,"Yes","No") -> Yes
A11: America camp | C11: =SUMIFS('USA Prestige by Season'!D$3:D$2362,'USA Prestige by Season'!$A$3:$A$2362,$A11,'USA Prestige by Season'!$C$3:$C$2362,">="&$B$1,'USA Prestige by Season'!$C$3:$C$2362,"<="&$D$1) -> 0 | D11: =SUMIFS('USA Prestige by Season'!E$3:E$2362,'USA Prestige by Season'!$A$3:$A$2362,$A11,'USA Prestige by Season'!$C$3:$C$2362,">="&$B$1,'USA Prestige by Season'!$C$3:$C$2362,"<="&$D$1) -> 1 | E11: =SUMIFS('USA Prestige by Season'!F$3:F$2362,'USA Prestige by Season'!$A$3:$A$2362,$A11,'USA Prestige by Season'!$C$3:$C$2362,">="&$B$1,'USA Prestige by Season'!$C$3:$C$2362,"<="&$D$1) -> 0 | F11: =SUMIFS('USA Prestige by Season'!G$3:G$2362,'USA Prestige by Season'!$A$3:$A$2362,$A11,'USA Prestige by Season'!$C$3:$C$2362,">="&$B$1,'USA Prestige by Season'!$C$3:$C$2362,"<="&$D$1) -> 0 | G11: =SUMIFS('USA Prestige by Season'!H$3:H$2362,'USA Prestige by Season'!$A$3:$A$2362,$A11,'USA Prestige by Season'!$C$3:$C$2362,">="&$B$1,'USA Prestige by Season'!$C$3:$C$2362,"<="&$D$1) -> 0 | H11: =SUMIFS('USA Prestige by Season'!I$3:I$2362,'USA Prestige by Season'!$A$3:$A$2362,$A11,'USA Prestige by Season'!$C$3:$C$2362,">="&$B$1,'USA Prestige by Season'!$C$3:$C$2362,"<="&$D$1) -> 0 | I11: =SUMIFS('USA Prestige by Season'!J$3:J$2362,'USA Prestige by Season'!$A$3:$A$2362,$A11,'USA Prestige by Season'!$C$3:$C$2362,">="&$B$1,'USA Prestige by Season'!$C$3:$C$2362,"<="&$D$1) -> 0 | J11: =SUMIFS('USA Prestige by Season'!K$3:K$2362,'USA Prestige by Season'!$A$3:$A$2362,$A11,'USA Prestige by Season'!$C$3:$C$2362,">="&$B$1,'USA Prestige by Season'!$C$3:$C$2362,"<="&$D$1) -> 0 | ... AL11: =SUMIFS('USA Prestige by Season'!AM$3:AM$2362,'USA Prestige by Season'!$A$3:$A$2362,$A11,'USA Prestige by Season'!$C$3:$C$2362,">="&$B$1,'USA Prestige by Season'!$C$3:$C$2362,"<="&$D$1) -> 0 | AM11: =COUNTIFS('USA Prestige by Season'!$A$3:$A$2362,$A11,'USA Prestige by Season'!$C$3:$C$2362,">="&$B$1,'USA Prestige by Season'!$C$3:$C$2362,"<="&$D$1,'USA Prestige by Season'!$AN$3:$AN$2362,"<>") -> 1 | AN11: =SUMIFS('USA Prestige by Season'!$AO$3:$AO$2362,'USA Prestige by Season'!$A$3:$A$2362,$A11,'USA Prestige by Season'!$C$3:$C$2362,">="&$B$1,'USA Prestige by Season'!$C$3:$C$2362,"<="&$D$1) -> 0 | AO11: =IF(COUNTIFS('USA Prestige by Season'!$A$3:$A$2362,$A11,'USA Prestige by Season'!$C$3:$C$2362,">="&$B$1,'USA Prestige by Season'!$C$3:$C$2362,"<="&$D$1)>0,"Yes","No") -> Yes
A12: Apocalypse Track Club | C12: =SUMIFS('USA Prestige by Season'!D$3:D$2362,'USA Prestige by Season'!$A$3:$A$2362,$A12,'USA Prestige by Season'!$C$3:$C$2362,">="&$B$1,'USA Prestige by Season'!$C$3:$C$2362,"<="&$D$1) -> 0 | D12: =SUMIFS('USA Prestige by Season'!E$3:E$2362,'USA Prestige by Season'!$A$3:$A$2362,$A12,'USA Prestige by Season'!$C$3:$C$2362,">="&$B$1,'USA Prestige by Season'!$C$3:$C$2362,"<="&$D$1) -> 0 | E12: =SUMIFS('USA Prestige by Season'!F$3:F$2362,'USA Prestige by Season'!$A$3:$A$2362,$A12,'USA Prestige by Season'!$C$3:$C$2362,">="&$B$1,'USA Prestige by Season'!$C$3:$C$2362,"<="&$D$1) -> 0 | F12: =SUMIFS('USA Prestige by Season'!G$3:G$2362,'USA Prestige by Season'!$A$3:$A$2362,$A12,'USA Prestige by Season'!$C$3:$C$2362,">="&$B$1,'USA Prestige by Season'!$C$3:$C$2362,"<="&$D$1) -> 0 | G12: =SUMIFS('USA Prestige by Season'!H$3:H$2362,'USA Prestige by Season'!$A$3:$A$2362,$A12,'USA Prestige by Season'!$C$3:$C$2362,">="&$B$1,'USA Prestige by Season'!$C$3:$C$2362,"<="&$D$1) -> 1 | H12: =SUMIFS('USA Prestige by Season'!I$3:I$2362,'USA Prestige by Season'!$A$3:$A$2362,$A12,'USA Prestige by Season'!$C$3:$C$2362,">="&$B$1,'USA Prestige by Season'!$C$3:$C$2362,"<="&$D$1) -> 0 | I12: =SUMIFS('USA Prestige by Season'!J$3:J$2362,'USA Prestige by Season'!$A$3:$A$2362,$A12,'USA Prestige by Season'!$C$3:$C$2362,">="&$B$1,'USA Prestige by Season'!$C$3:$C$2362,"<="&$D$1) -> 0 | J12: =SUMIFS('USA Prestige by Season'!K$3:K$2362,'USA Prestige by Season'!$A$3:$A$2362,$A12,'USA Prestige by Season'!$C$3:$C$2362,">="&$B$1,'USA Prestige by Season'!$C$3:$C$2362,"<="&$D$1) -> 0 | ... AL12: =SUMIFS('USA Prestige by Season'!AM$3:AM$2362,'USA Prestige by Season'!$A$3:$A$2362,$A12,'USA Prestige by Season'!$C$3:$C$2362,">="&$B$1,'USA Prestige by Season'!$C$3:$C$2362,"<="&$D$1) -> 0 | AM12: =COUNTIFS('USA Prestige by Season'!$A$3:$A$2362,$A12,'USA Prestige by Season'!$C$3:$C$2362,">="&$B$1,'USA Prestige by Season'!$C$3:$C$2362,"<="&$D$1,'USA Prestige by Season'!$AN$3:$AN$2362,"<>") -> 1 | AN12: =SUMIFS('USA Prestige by Season'!$AO$3:$AO$2362,'USA Prestige by Season'!$A$3:$A$2362,$A12,'USA Prestige by Season'!$C$3:$C$2362,">="&$B$1,'USA Prestige by Season'!$C$3:$C$2362,"<="&$D$1) -> 0 | AO12: =IF(COUNTIFS('USA Prestige by Season'!$A$3:$A$2362,$A12,'USA Prestige by Season'!$C$3:$C$2362,">="&$B$1,'USA Prestige by Season'!$C$3:$C$2362,"<="&$D$1)>0,"Yes","No") -> Yes
A13: Arizona Wildcats | C13: =SUMIFS('USA Prestige by Season'!D$3:D$2362,'USA Prestige by Season'!$A$3:$A$2362,$A13,'USA Prestige by Season'!$C$3:$C$2362,">="&$B$1,'USA Prestige by Season'!$C$3:$C$2362,"<="&$D$1) -> 1 | D13: =SUMIFS('USA Prestige by Season'!E$3:E$2362,'USA Prestige by Season'!$A$3:$A$2362,$A13,'USA Prestige by Season'!$C$3:$C$2362,">="&$B$1,'USA Prestige by Season'!$C$3:$C$2362,"<="&$D$1) -> 0 | E13: =SUMIFS('USA Prestige by Season'!F$3:F$2362,'USA Prestige by Season'!$A$3:$A$2362,$A13,'USA Prestige by Season'!$C$3:$C$2362,">="&$B$1,'USA Prestige by Season'!$C$3:$C$2362,"<="&$D$1) -> 0 | F13: =SUMIFS('USA Prestige by Season'!G$3:G$2362,'USA Prestige by Season'!$A$3:$A$2362,$A13,'USA Prestige by Season'!$C$3:$C$2362,">="&$B$1,'USA Prestige by Season'!$C$3:$C$2362,"<="&$D$1) -> 0 | G13: =SUMIFS('USA Prestige by Season'!H$3:H$2362,'USA Prestige by Season'!$A$3:$A$2362,$A13,'USA Prestige by Season'!$C$3:$C$2362,">="&$B$1,'USA Prestige by Season'!$C$3:$C$2362,"<="&$D$1) -> 1 | H13: =SUMIFS('USA Prestige by Season'!I$3:I$2362,'USA Prestige by Season'!$A$3:$A$2362,$A13,'USA Prestige by Season'!$C$3:$C$2362,">="&$B$1,'USA Prestige by Season'!$C$3:$C$2362,"<="&$D$1) -> 3 | I13: =SUMIFS('USA Prestige by Season'!J$3:J$2362,'USA Prestige by Season'!$A$3:$A$2362,$A13,'USA Prestige by Season'!$C$3:$C$2362,">="&$B$1,'USA Prestige by Season'!$C$3:$C$2362,"<="&$D$1) -> 0 | J13: =SUMIFS('USA Prestige by Season'!K$3:K$2362,'USA Prestige by Season'!$A$3:$A$2362,$A13,'USA Prestige by Season'!$C$3:$C$2362,">="&$B$1,'USA Prestige by Season'!$C$3:$C$2362,"<="&$D$1) -> 0 | ... AL13: =SUMIFS('USA Prestige by Season'!AM$3:AM$2362,'USA Prestige by Season'!$A$3:$A$2362,$A13,'USA Prestige by Season'!$C$3:$C$2362,">="&$B$1,'USA Prestige by Season'!$C$3:$C$2362,"<="&$D$1) -> 0 | AM13: =COUNTIFS('USA Prestige by Season'!$A$3:$A$2362,$A13,'USA Prestige by Season'!$C$3:$C$2362,">="&$B$1,'USA Prestige by Season'!$C$3:$C$2362,"<="&$D$1,'USA Prestige by Season'!$AN$3:$AN$2362,"<>") -> 4 | AN13: =SUMIFS('USA Prestige by Season'!$AO$3:$AO$2362,'USA Prestige by Season'!$A$3:$A$2362,$A13,'USA Prestige by Season'!$C$3:$C$2362,">="&$B$1,'USA Prestige by Season'!$C$3:$C$2362,"<="&$D$1) -> 0 | AO13: =IF(COUNTIFS('USA Prestige by Season'!$A$3:$A$2362,$A13,'USA Prestige by Season'!$C$3:$C$2362,">="&$B$1,'USA Prestige by Season'!$C$3:$C$2362,"<="&$D$1)>0,"Yes","No") -> Yes
A14: Ascension Athletic Club | C14: =SUMIFS('USA Prestige by Season'!D$3:D$2362,'USA Prestige by Season'!$A$3:$A$2362,$A14,'USA Prestige by Season'!$C$3:$C$2362,">="&$B$1,'USA Prestige by Season'!$C$3:$C$2362,"<="&$D$1) -> 0 | D14: =SUMIFS('USA Prestige by Season'!E$3:E$2362,'USA Prestige by Season'!$A$3:$A$2362,$A14,'USA Prestige by Season'!$C$3:$C$2362,">="&$B$1,'USA Prestige by Season'!$C$3:$C$2362,"<="&$D$1) -> 0 | E14: =SUMIFS('USA Prestige by Season'!F$3:F$2362,'USA Prestige by Season'!$A$3:$A$2362,$A14,'USA Prestige by Season'!$C$3:$C$2362,">="&$B$1,'USA Prestige by Season'!$C$3:$C$2362,"<="&$D$1) -> 0 | F14: =SUMIFS('USA Prestige by Season'!G$3:G$2362,'USA Prestige by Season'!$A$3:$A$2362,$A14,'USA Prestige by Season'!$C$3:$C$2362,">="&$B$1,'USA Prestige by Season'!$C$3:$C$2362,"<="&$D$1) -> 0 | G14: =SUMIFS('USA Prestige by Season'!H$3:H$2362,'USA Prestige by Season'!$A$3:$A$2362,$A14,'USA Prestige by Season'!$C$3:$C$2362,">="&$B$1,'USA Prestige by Season'!$C$3:$C$2362,"<="&$D$1) -> 1 | H14: =SUMIFS('USA Prestige by Season'!I$3:I$2362,'USA Prestige by Season'!$A$3:$A$2362,$A14,'USA Prestige by Season'!$C$3:$C$2362,">="&$B$1,'USA Prestige by Season'!$C$3:$C$2362,"<="&$D$1) -> 0 | I14: =SUMIFS('USA Prestige by Season'!J$3:J$2362,'USA Prestige by Season'!$A$3:$A$2362,$A14,'USA Prestige by Season'!$C$3:$C$2362,">="&$B$1,'USA Prestige by Season'!$C$3:$C$2362,"<="&$D$1) -> 0 | J14: =SUMIFS('USA Prestige by Season'!K$3:K$2362,'USA Prestige by Season'!$A$3:$A$2362,$A14,'USA Prestige by Season'!$C$3:$C$2362,">="&$B$1,'USA Prestige by Season'!$C$3:$C$2362,"<="&$D$1) -> 0 | ... AL14: =SUMIFS('USA Prestige by Season'!AM$3:AM$2362,'USA Prestige by Season'!$A$3:$A$2362,$A14,'USA Prestige by Season'!$C$3:$C$2362,">="&$B$1,'USA Prestige by Season'!$C$3:$C$2362,"<="&$D$1) -> 0 | AM14: =COUNTIFS('USA Prestige by Season'!$A$3:$A$2362,$A14,'USA Prestige by Season'!$C$3:$C$2362,">="&$B$1,'USA Prestige by Season'!$C$3:$C$2362,"<="&$D$1,'USA Prestige by Season'!$AN$3:$AN$2362,"<>") -> 2 | AN14: =SUMIFS('USA Prestige by Season'!$AO$3:$AO$2362,'USA Prestige by Season'!$A$3:$A$2362,$A14,'USA Prestige by Season'!$C$3:$C$2362,">="&$B$1,'USA Prestige by Season'!$C$3:$C$2362,"<="&$D$1) -> 0 | AO14: =IF(COUNTIFS('USA Prestige by Season'!$A$3:$A$2362,$A14,'USA Prestige by Season'!$C$3:$C$2362,">="&$B$1,'USA Prestige by Season'!$C$3:$C$2362,"<="&$D$1)>0,"Yes","No") -> Yes
A15: Astoria TC | C15: =SUMIFS('USA Prestige by Season'!D$3:D$2362,'USA Prestige by Season'!$A$3:$A$2362,$A15,'USA Prestige by Season'!$C$3:$C$2362,">="&$B$1,'USA Prestige by Season'!$C$3:$C$2362,"<="&$D$1) -> 2 | D15: =SUMIFS('USA Prestige by Season'!E$3:E$2362,'USA Prestige by Season'!$A$3:$A$2362,$A15,'USA Prestige by Season'!$C$3:$C$2362,">="&$B$1,'USA Prestige by Season'!$C$3:$C$2362,"<="&$D$1) -> 7 | E15: =SUMIFS('USA Prestige by Season'!F$3:F$2362,'USA Prestige by Season'!$A$3:$A$2362,$A15,'USA Prestige by Season'!$C$3:$C$2362,">="&$B$1,'USA Prestige by Season'!$C$3:$C$2362,"<="&$D$1) -> 7 | F15: =SUMIFS('USA Prestige by Season'!G$3:G$2362,'USA Prestige by Season'!$A$3:$A$2362,$A15,'USA Prestige by Season'!$C$3:$C$2362,">="&$B$1,'USA Prestige by Season'!$C$3:$C$2362,"<="&$D$1) -> 0 | G15: =SUMIFS('USA Prestige by Season'!H$3:H$2362,'USA Prestige by Season'!$A$3:$A$2362,$A15,'USA Prestige by Season'!$C$3:$C$2362,">="&$B$1,'USA Prestige by Season'!$C$3:$C$2362,"<="&$D$1) -> 0 | H15: =SUMIFS('USA Prestige by Season'!I$3:I$2362,'USA Prestige by Season'!$A$3:$A$2362,$A15,'USA Prestige by Season'!$C$3:$C$2362,">="&$B$1,'USA Prestige by Season'!$C$3:$C$2362,"<="&$D$1) -> 0 | I15: =SUMIFS('USA Prestige by Season'!J$3:J$2362,'USA Prestige by Season'!$A$3:$A$2362,$A15,'USA Prestige by Season'!$C$3:$C$2362,">="&$B$1,'USA Prestige by Season'!$C$3:$C$2362,"<="&$D$1) -> 0 | J15: =SUMIFS('USA Prestige by Season'!K$3:K$2362,'USA Prestige by Season'!$A$3:$A$2362,$A15,'USA Prestige by Season'!$C$3:$C$2362,">="&$B$1,'USA Prestige by Season'!$C$3:$C$2362,"<="&$D$1) -> 0 | ... AL15: =SUMIFS('USA Prestige by Season'!AM$3:AM$2362,'USA Prestige by Season'!$A$3:$A$2362,$A15,'USA Prestige by Season'!$C$3:$C$2362,">="&$B$1,'USA Prestige by Season'!$C$3:$C$2362,"<="&$D$1) -> 0 | AM15: =COUNTIFS('USA Prestige by Season'!$A$3:$A$2362,$A15,'USA Prestige by Season'!$C$3:$C$2362,">="&$B$1,'USA Prestige by Season'!$C$3:$C$2362,"<="&$D$1,'USA Prestige by Season'!$AN$3:$AN$2362,"<>") -> 7 | AN15: =SUMIFS('USA Prestige by Season'!$AO$3:$AO$2362,'USA Prestige by Season'!$A$3:$A$2362,$A15,'USA Prestige by Season'!$C$3:$C$2362,">="&$B$1,'USA Prestige by Season'!$C$3:$C$2362,"<="&$D$1) -> 0 | AO15: =IF(COUNTIFS('USA Prestige by Season'!$A$3:$A$2362,$A15,'USA Prestige by Season'!$C$3:$C$2362,">="&$B$1,'USA Prestige by Season'!$C$3:$C$2362,"<="&$D$1)>0,"Yes","No") -> Yes
A16: Athletics East TC | B16: 93217 | C16: =SUMIFS('USA Prestige by Season'!D$3:D$2362,'USA Prestige by Season'!$A$3:$A$2362,$A16,'USA Prestige by Season'!$C$3:$C$2362,">="&$B$1,'USA Prestige by Season'!$C$3:$C$2362,"<="&$D$1) -> 0 | D16: =SUMIFS('USA Prestige by Season'!E$3:E$2362,'USA Prestige by Season'!$A$3:$A$2362,$A16,'USA Prestige by Season'!$C$3:$C$2362,">="&$B$1,'USA Prestige by Season'!$C$3:$C$2362,"<="&$D$1) -> 0 | E16: =SUMIFS('USA Prestige by Season'!F$3:F$2362,'USA Prestige by Season'!$A$3:$A$2362,$A16,'USA Prestige by Season'!$C$3:$C$2362,">="&$B$1,'USA Prestige by Season'!$C$3:$C$2362,"<="&$D$1) -> 0 | F16: =SUMIFS('USA Prestige by Season'!G$3:G$2362,'USA Prestige by Season'!$A$3:$A$2362,$A16,'USA Prestige by Season'!$C$3:$C$2362,">="&$B$1,'USA Prestige by Season'!$C$3:$C$2362,"<="&$D$1) -> 3 | G16: =SUMIFS('USA Prestige by Season'!H$3:H$2362,'USA Prestige by Season'!$A$3:$A$2362,$A16,'USA Prestige by Season'!$C$3:$C$2362,">="&$B$1,'USA Prestige by Season'!$C$3:$C$2362,"<="&$D$1) -> 2 | H16: =SUMIFS('USA Prestige by Season'!I$3:I$2362,'USA Prestige by Season'!$A$3:$A$2362,$A16,'USA Prestige by Season'!$C$3:$C$2362,">="&$B$1,'USA Prestige by Season'!$C$3:$C$2362,"<="&$D$1) -> 2 | I16: =SUMIFS('USA Prestige by Season'!J$3:J$2362,'USA Prestige by Season'!$A$3:$A$2362,$A16,'USA Prestige by Season'!$C$3:$C$2362,">="&$B$1,'USA Prestige by Season'!$C$3:$C$2362,"<="&$D$1) -> 0 | J16: =SUMIFS('USA Prestige by Season'!K$3:K$2362,'USA Prestige by Season'!$A$3:$A$2362,$A16,'USA Prestige by Season'!$C$3:$C$2362,">="&$B$1,'USA Prestige by Season'!$C$3:$C$2362,"<="&$D$1) -> 0 | ... AL16: =SUMIFS('USA Prestige by Season'!AM$3:AM$2362,'USA Prestige by Season'!$A$3:$A$2362,$A16,'USA Prestige by Season'!$C$3:$C$2362,">="&$B$1,'USA Prestige by Season'!$C$3:$C$2362,"<="&$D$1) -> 0 | AM16: =COUNTIFS('USA Prestige by Season'!$A$3:$A$2362,$A16,'USA Prestige by Season'!$C$3:$C$2362,">="&$B$1,'USA Prestige by Season'!$C$3:$C$2362,"<="&$D$1,'USA Prestige by Season'!$AN$3:$AN$2362,"<>") -> 1 | AN16: =SUMIFS('USA Prestige by Season'!$AO$3:$AO$2362,'USA Prestige by Season'!$A$3:$A$2362,$A16,'USA Prestige by Season'!$C$3:$C$2362,">="&$B$1,'USA Prestige by Season'!$C$3:$C$2362,"<="&$D$1) -> 0 | AO16: =IF(COUNTIFS('USA Prestige by Season'!$A$3:$A$2362,$A16,'USA Prestige by Season'!$C$3:$C$2362,">="&$B$1,'USA Prestige by Season'!$C$3:$C$2362,"<="&$D$1)>0,"Yes","No") -> Yes
A17: Athletictick | C17: =SUMIFS('USA Prestige by Season'!D$3:D$2362,'USA Prestige by Season'!$A$3:$A$2362,$A17,'USA Prestige by Season'!$C$3:$C$2362,">="&$B$1,'USA Prestige by Season'!$C$3:$C$2362,"<="&$D$1) -> 0 | D17: =SUMIFS('USA Prestige by Season'!E$3:E$2362,'USA Prestige by Season'!$A$3:$A$2362,$A17,'USA Prestige by Season'!$C$3:$C$2362,">="&$B$1,'USA Prestige by Season'!$C$3:$C$2362,"<="&$D$1) -> 0 | E17: =SUMIFS('USA Prestige by Season'!F$3:F$2362,'USA Prestige by Season'!$A$3:$A$2362,$A17,'USA Prestige by Season'!$C$3:$C$2362,">="&$B$1,'USA Prestige by Season'!$C$3:$C$2362,"<="&$D$1) -> 0 | F17: =SUMIFS('USA Prestige by Season'!G$3:G$2362,'USA Prestige by Season'!$A$3:$A$2362,$A17,'USA Prestige by Season'!$C$3:$C$2362,">="&$B$1,'USA Prestige by Season'!$C$3:$C$2362,"<="&$D$1) -> 0 | G17: =SUMIFS('USA Prestige by Season'!H$3:H$2362,'USA Prestige by Season'!$A$3:$A$2362,$A17,'USA Prestige by Season'!$C$3:$C$2362,">="&$B$1,'USA Prestige by Season'!$C$3:$C$2362,"<="&$D$1) -> 2 | H17: =SUMIFS('USA Prestige by Season'!I$3:I$2362,'USA Prestige by Season'!$A$3:$A$2362,$A17,'USA Prestige by Season'!$C$3:$C$2362,">="&$B$1,'USA Prestige by Season'!$C$3:$C$2362,"<="&$D$1) -> 2 | I17: =SUMIFS('USA Prestige by Season'!J$3:J$2362,'USA Prestige by Season'!$A$3:$A$2362,$A17,'USA Prestige by Season'!$C$3:$C$2362,">="&$B$1,'USA Prestige by Season'!$C$3:$C$2362,"<="&$D$1) -> 0 | J17: =SUMIFS('USA Prestige by Season'!K$3:K$2362,'USA Prestige by Season'!$A$3:$A$2362,$A17,'USA Prestige by Season'!$C$3:$C$2362,">="&$B$1,'USA Prestige by Season'!$C$3:$C$2362,"<="&$D$1) -> 0 | ... AL17: =SUMIFS('USA Prestige by Season'!AM$3:AM$2362,'USA Prestige by Season'!$A$3:$A$2362,$A17,'USA Prestige by Season'!$C$3:$C$2362,">="&$B$1,'USA Prestige by Season'!$C$3:$C$2362,"<="&$D$1) -> 0 | AM17: =COUNTIFS('USA Prestige by Season'!$A$3:$A$2362,$A17,'USA Prestige by Season'!$C$3:$C$2362,">="&$B$1,'USA Prestige by Season'!$C$3:$C$2362,"<="&$D$1,'USA Prestige by Season'!$AN$3:$AN$2362,"<>") -> 4 | AN17: =SUMIFS('USA Prestige by Season'!$AO$3:$AO$2362,'USA Prestige by Season'!$A$3:$A$2362,$A17,'USA Prestige by Season'!$C$3:$C$2362,">="&$B$1,'USA Prestige by Season'!$C$3:$C$2362,"<="&$D$1) -> 0 | AO17: =IF(COUNTIFS('USA Prestige by Season'!$A$3:$A$2362,$A17,'USA Prestige by Season'!$C$3:$C$2362,">="&$B$1,'USA Prestige by Season'!$C$3:$C$2362,"<="&$D$1)>0,"Yes","No") -> Yes
A18: Atlanta Athletics Club | C18: =SUMIFS('USA Prestige by Season'!D$3:D$2362,'USA Prestige by Season'!$A$3:$A$2362,$A18,'USA Prestige by Season'!$C$3:$C$2362,">="&$B$1,'USA Prestige by Season'!$C$3:$C$2362,"<="&$D$1) -> 5 | D18: =SUMIFS('USA Prestige by Season'!E$3:E$2362,'USA Prestige by Season'!$A$3:$A$2362,$A18,'USA Prestige by Season'!$C$3:$C$2362,">="&$B$1,'USA Prestige by Season'!$C$3:$C$2362,"<="&$D$1) -> 3 | E18: =SUMIFS('USA Prestige by Season'!F$3:F$2362,'USA Prestige by Season'!$A$3:$A$2362,$A18,'USA Prestige by Season'!$C$3:$C$2362,">="&$B$1,'USA Prestige by Season'!$C$3:$C$2362,"<="&$D$1) -> 2 | F18: =SUMIFS('USA Prestige by Season'!G$3:G$2362,'USA Prestige by Season'!$A$3:$A$2362,$A18,'USA Prestige by Season'!$C$3:$C$2362,">="&$B$1,'USA Prestige by Season'!$C$3:$C$2362,"<="&$D$1) -> 0 | G18: =SUMIFS('USA Prestige by Season'!H$3:H$2362,'USA Prestige by Season'!$A$3:$A$2362,$A18,'USA Prestige by Season'!$C$3:$C$2362,">="&$B$1,'USA Prestige by Season'!$C$3:$C$2362,"<="&$D$1) -> 0 | H18: =SUMIFS('USA Prestige by Season'!I$3:I$2362,'USA Prestige by Season'!$A$3:$A$2362,$A18,'USA Prestige by Season'!$C$3:$C$2362,">="&$B$1,'USA Prestige by Season'!$C$3:$C$2362,"<="&$D$1) -> 0 | I18: =SUMIFS('USA Prestige by Season'!J$3:J$2362,'USA Prestige by Season'!$A$3:$A$2362,$A18,'USA Prestige by Season'!$C$3:$C$2362,">="&$B$1,'USA Prestige by Season'!$C$3:$C$2362,"<="&$D$1) -> 0 | J18: =SUMIFS('USA Prestige by Season'!K$3:K$2362,'USA Prestige by Season'!$A$3:$A$2362,$A18,'USA Prestige by Season'!$C$3:$C$2362,">="&$B$1,'USA Prestige by Season'!$C$3:$C$2362,"<="&$D$1) -> 0 | ... AL18: =SUMIFS('USA Prestige by Season'!AM$3:AM$2362,'USA Prestige by Season'!$A$3:$A$2362,$A18,'USA Prestige by Season'!$C$3:$C$2362,">="&$B$1,'USA Prestige by Season'!$C$3:$C$2362,"<="&$D$1) -> 0 | AM18: =COUNTIFS('USA Prestige by Season'!$A$3:$A$2362,$A18,'USA Prestige by Season'!$C$3:$C$2362,">="&$B$1,'USA Prestige by Season'!$C$3:$C$2362,"<="&$D$1,'USA Prestige by Season'!$AN$3:$AN$2362,"<>") -> 5 | AN18: =SUMIFS('USA Prestige by Season'!$AO$3:$AO$2362,'USA Prestige by Season'!$A$3:$A$2362,$A18,'USA Prestige by Season'!$C$3:$C$2362,">="&$B$1,'USA Prestige by Season'!$C$3:$C$2362,"<="&$D$1) -> 0 | AO18: =IF(COUNTIFS('USA Prestige by Season'!$A$3:$A$2362,$A18,'USA Prestige by Season'!$C$3:$C$2362,">="&$B$1,'USA Prestige by Season'!$C$3:$C$2362,"<="&$D$1)>0,"Yes","No") -> Yes
A19: Atomic Storm AC | C19: =SUMIFS('USA Prestige by Season'!D$3:D$2362,'USA Prestige by Season'!$A$3:$A$2362,$A19,'USA Prestige by Season'!$C$3:$C$2362,">="&$B$1,'USA Prestige by Season'!$C$3:$C$2362,"<="&$D$1) -> 0 | D19: =SUMIFS('USA Prestige by Season'!E$3:E$2362,'USA Prestige by Season'!$A$3:$A$2362,$A19,'USA Prestige by Season'!$C$3:$C$2362,">="&$B$1,'USA Prestige by Season'!$C$3:$C$2362,"<="&$D$1) -> 0 | E19: =SUMIFS('USA Prestige by Season'!F$3:F$2362,'USA Prestige by Season'!$A$3:$A$2362,$A19,'USA Prestige by Season'!$C$3:$C$2362,">="&$B$1,'USA Prestige by Season'!$C$3:$C$2362,"<="&$D$1) -> 1 | F19: =SUMIFS('USA Prestige by Season'!G$3:G$2362,'USA Prestige by Season'!$A$3:$A$2362,$A19,'USA Prestige by Season'!$C$3:$C$2362,">="&$B$1,'USA Prestige by Season'!$C$3:$C$2362,"<="&$D$1) -> 0 | G19: =SUMIFS('USA Prestige by Season'!H$3:H$2362,'USA Prestige by Season'!$A$3:$A$2362,$A19,'USA Prestige by Season'!$C$3:$C$2362,">="&$B$1,'USA Prestige by Season'!$C$3:$C$2362,"<="&$D$1) -> 0 | H19: =SUMIFS('USA Prestige by Season'!I$3:I$2362,'USA Prestige by Season'!$A$3:$A$2362,$A19,'USA Prestige by Season'!$C$3:$C$2362,">="&$B$1,'USA Prestige by Season'!$C$3:$C$2362,"<="&$D$1) -> 0 | I19: =SUMIFS('USA Prestige by Season'!J$3:J$2362,'USA Prestige by Season'!$A$3:$A$2362,$A19,'USA Prestige by Season'!$C$3:$C$2362,">="&$B$1,'USA Prestige by Season'!$C$3:$C$2362,"<="&$D$1) -> 0 | J19: =SUMIFS('USA Prestige by Season'!K$3:K$2362,'USA Prestige by Season'!$A$3:$A$2362,$A19,'USA Prestige by Season'!$C$3:$C$2362,">="&$B$1,'USA Prestige by Season'!$C$3:$C$2362,"<="&$D$1) -> 0 | ... AL19: =SUMIFS('USA Prestige by Season'!AM$3:AM$2362,'USA Prestige by Season'!$A$3:$A$2362,$A19,'USA Prestige by Season'!$C$3:$C$2362,">="&$B$1,'USA Prestige by Season'!$C$3:$C$2362,"<="&$D$1) -> 0 | AM19: =COUNTIFS('USA Prestige by Season'!$A$3:$A$2362,$A19,'USA Prestige by Season'!$C$3:$C$2362,">="&$B$1,'USA Prestige by Season'!$C$3:$C$2362,"<="&$D$1,'USA Prestige by Season'!$AN$3:$AN$2362,"<>") -> 1 | AN19: =SUMIFS('USA Prestige by Season'!$AO$3:$AO$2362,'USA Prestige by Season'!$A$3:$A$2362,$A19,'USA Prestige by Season'!$C$3:$C$2362,">="&$B$1,'USA Prestige by Season'!$C$3:$C$2362,"<="&$D$1) -> 0 | AO19: =IF(COUNTIFS('USA Prestige by Season'!$A$3:$A$2362,$A19,'USA Prestige by Season'!$C$3:$C$2362,">="&$B$1,'USA Prestige by Season'!$C$3:$C$2362,"<="&$D$1)>0,"Yes","No") -> Yes
A20: Auburndale | C20: =SUMIFS('USA Prestige by Season'!D$3:D$2362,'USA Prestige by Season'!$A$3:$A$2362,$A20,'USA Prestige by Season'!$C$3:$C$2362,">="&$B$1,'USA Prestige by Season'!$C$3:$C$2362,"<="&$D$1) -> 0 | D20: =SUMIFS('USA Prestige by Season'!E$3:E$2362,'USA Prestige by Season'!$A$3:$A$2362,$A20,'USA Prestige by Season'!$C$3:$C$2362,">="&$B$1,'USA Prestige by Season'!$C$3:$C$2362,"<="&$D$1) -> 0 | E20: =SUMIFS('USA Prestige by Season'!F$3:F$2362,'USA Prestige by Season'!$A$3:$A$2362,$A20,'USA Prestige by Season'!$C$3:$C$2362,">="&$B$1,'USA Prestige by Season'!$C$3:$C$2362,"<="&$D$1) -> 0 | F20: =SUMIFS('USA Prestige by Season'!G$3:G$2362,'USA Prestige by Season'!$A$3:$A$2362,$A20,'USA Prestige by Season'!$C$3:$C$2362,">="&$B$1,'USA Prestige by Season'!$C$3:$C$2362,"<="&$D$1) -> 0 | G20: =SUMIFS('USA Prestige by Season'!H$3:H$2362,'USA Prestige by Season'!$A$3:$A$2362,$A20,'USA Prestige by Season'!$C$3:$C$2362,">="&$B$1,'USA Prestige by Season'!$C$3:$C$2362,"<="&$D$1) -> 2 | H20: =SUMIFS('USA Prestige by Season'!I$3:I$2362,'USA Prestige by Season'!$A$3:$A$2362,$A20,'USA Prestige by Season'!$C$3:$C$2362,">="&$B$1,'USA Prestige by Season'!$C$3:$C$2362,"<="&$D$1) -> 0 | I20: =SUMIFS('USA Prestige by Season'!J$3:J$2362,'USA Prestige by Season'!$A$3:$A$2362,$A20,'USA Prestige by Season'!$C$3:$C$2362,">="&$B$1,'USA Prestige by Season'!$C$3:$C$2362,"<="&$D$1) -> 0 | J20: =SUMIFS('USA Prestige by Season'!K$3:K$2362,'USA Prestige by Season'!$A$3:$A$2362,$A20,'USA Prestige by Season'!$C$3:$C$2362,">="&$B$1,'USA Prestige by Season'!$C$3:$C$2362,"<="&$D$1) -> 0 | ... AL20: =SUMIFS('USA Prestige by Season'!AM$3:AM$2362,'USA Prestige by Season'!$A$3:$A$2362,$A20,'USA Prestige by Season'!$C$3:$C$2362,">="&$B$1,'USA Prestige by Season'!$C$3:$C$2362,"<="&$D$1) -> 0 | AM20: =COUNTIFS('USA Prestige by Season'!$A$3:$A$2362,$A20,'USA Prestige by Season'!$C$3:$C$2362,">="&$B$1,'USA Prestige by Season'!$C$3:$C$2362,"<="&$D$1,'USA Prestige by Season'!$AN$3:$AN$2362,"<>") -> 7 | AN20: =SUMIFS('USA Prestige by Season'!$AO$3:$AO$2362,'USA Prestige by Season'!$A$3:$A$2362,$A20,'USA Prestige by Season'!$C$3:$C$2362,">="&$B$1,'USA Prestige by Season'!$C$3:$C$2362,"<="&$D$1) -> 0 | AO20: =IF(COUNTIFS('USA Prestige by Season'!$A$3:$A$2362,$A20,'USA Prestige by Season'!$C$3:$C$2362,">="&$B$1,'USA Prestige by Season'!$C$3:$C$2362,"<="&$D$1)>0,"Yes","No") -> Yes
A21: Awill Track Club | C21: =SUMIFS('USA Prestige by Season'!D$3:D$2362,'USA Prestige by Season'!$A$3:$A$2362,$A21,'USA Prestige by Season'!$C$3:$C$2362,">="&$B$1,'USA Prestige by Season'!$C$3:$C$2362,"<="&$D$1) -> 1 | D21: =SUMIFS('USA Prestige by Season'!E$3:E$2362,'USA Prestige by Season'!$A$3:$A$2362,$A21,'USA Prestige by Season'!$C$3:$C$2362,">="&$B$1,'USA Prestige by Season'!$C$3:$C$2362,"<="&$D$1) -> 3 | E21: =SUMIFS('USA Prestige by Season'!F$3:F$2362,'USA Prestige by Season'!$A$3:$A$2362,$A21,'USA Prestige by Season'!$C$3:$C$2362,">="&$B$1,'USA Prestige by Season'!$C$3:$C$2362,"<="&$D$1) -> 1 | F21: =SUMIFS('USA Prestige by Season'!G$3:G$2362,'USA Prestige by Season'!$A$3:$A$2362,$A21,'USA Prestige by Season'!$C$3:$C$2362,">="&$B$1,'USA Prestige by Season'!$C$3:$C$2362,"<="&$D$1) -> 0 | G21: =SUMIFS('USA Prestige by Season'!H$3:H$2362,'USA Prestige by Season'!$A$3:$A$2362,$A21,'USA Prestige by Season'!$C$3:$C$2362,">="&$B$1,'USA Prestige by Season'!$C$3:$C$2362,"<="&$D$1) -> 0 | H21: =SUMIFS('USA Prestige by Season'!I$3:I$2362,'USA Prestige by Season'!$A$3:$A$2362,$A21,'USA Prestige by Season'!$C$3:$C$2362,">="&$B$1,'USA Prestige by Season'!$C$3:$C$2362,"<="&$D$1) -> 0 | I21: =SUMIFS('USA Prestige by Season'!J$3:J$2362,'USA Prestige by Season'!$A$3:$A$2362,$A21,'USA Prestige by Season'!$C$3:$C$2362,">="&$B$1,'USA Prestige by Season'!$C$3:$C$2362,"<="&$D$1) -> 0 | J21: =SUMIFS('USA Prestige by Season'!K$3:K$2362,'USA Prestige by Season'!$A$3:$A$2362,$A21,'USA Prestige by Season'!$C$3:$C$2362,">="&$B$1,'USA Prestige by Season'!$C$3:$C$2362,"<="&$D$1) -> 0 | ... AL21: =SUMIFS('USA Prestige by Season'!AM$3:AM$2362,'USA Prestige by Season'!$A$3:$A$2362,$A21,'USA Prestige by Season'!$C$3:$C$2362,">="&$B$1,'USA Prestige by Season'!$C$3:$C$2362,"<="&$D$1) -> 0 | AM21: =COUNTIFS('USA Prestige by Season'!$A$3:$A$2362,$A21,'USA Prestige by Season'!$C$3:$C$2362,">="&$B$1,'USA Prestige by Season'!$C$3:$C$2362,"<="&$D$1,'USA Prestige by Season'!$AN$3:$AN$2362,"<>") -> 1 | AN21: =SUMIFS('USA Prestige by Season'!$AO$3:$AO$2362,'USA Prestige by Season'!$A$3:$A$2362,$A21,'USA Prestige by Season'!$C$3:$C$2362,">="&$B$1,'USA Prestige by Season'!$C$3:$C$2362,"<="&$D$1) -> 0 | AO21: =IF(COUNTIFS('USA Prestige by Season'!$A$3:$A$2362,$A21,'USA Prestige by Season'!$C$3:$C$2362,">="&$B$1,'USA Prestige by Season'!$C$3:$C$2362,"<="&$D$1)>0,"Yes","No") -> Yes
A22: Balls of Steel | C22: =SUMIFS('USA Prestige by Season'!D$3:D$2362,'USA Prestige by Season'!$A$3:$A$2362,$A22,'USA Prestige by Season'!$C$3:$C$2362,">="&$B$1,'USA Prestige by Season'!$C$3:$C$2362,"<="&$D$1) -> 0 | D22: =SUMIFS('USA Prestige by Season'!E$3:E$2362,'USA Prestige by Season'!$A$3:$A$2362,$A22,'USA Prestige by Season'!$C$3:$C$2362,">="&$B$1,'USA Prestige by Season'!$C$3:$C$2362,"<="&$D$1) -> 0 | E22: =SUMIFS('USA Prestige by Season'!F$3:F$2362,'USA Prestige by Season'!$A$3:$A$2362,$A22,'USA Prestige by Season'!$C$3:$C$2362,">="&$B$1,'USA Prestige by Season'!$C$3:$C$2362,"<="&$D$1) -> 0 | F22: =SUMIFS('USA Prestige by Season'!G$3:G$2362,'USA Prestige by Season'!$A$3:$A$2362,$A22,'USA Prestige by Season'!$C$3:$C$2362,">="&$B$1,'USA Prestige by Season'!$C$3:$C$2362,"<="&$D$1) -> 0 | G22: =SUMIFS('USA Prestige by Season'!H$3:H$2362,'USA Prestige by Season'!$A$3:$A$2362,$A22,'USA Prestige by Season'!$C$3:$C$2362,">="&$B$1,'USA Prestige by Season'!$C$3:$C$2362,"<="&$D$1) -> 0 | H22: =SUMIFS('USA Prestige by Season'!I$3:I$2362,'USA Prestige by Season'!$A$3:$A$2362,$A22,'USA Prestige by Season'!$C$3:$C$2362,">="&$B$1,'USA Prestige by Season'!$C$3:$C$2362,"<="&$D$1) -> 0 | I22: =SUMIFS('USA Prestige by Season'!J$3:J$2362,'USA Prestige by Season'!$A$3:$A$2362,$A22,'USA Prestige by Season'!$C$3:$C$2362,">="&$B$1,'USA Prestige by Season'!$C$3:$C$2362,"<="&$D$1) -> 0 | J22: =SUMIFS('USA Prestige by Season'!K$3:K$2362,'USA Prestige by Season'!$A$3:$A$2362,$A22,'USA Prestige by Season'!$C$3:$C$2362,">="&$B$1,'USA Prestige by Season'!$C$3:$C$2362,"<="&$D$1) -> 0 | ... AL22: =SUMIFS('USA Prestige by Season'!AM$3:AM$2362,'USA Prestige by Season'!$A$3:$A$2362,$A22,'USA Prestige by Season'!$C$3:$C$2362,">="&$B$1,'USA Prestige by Season'!$C$3:$C$2362,"<="&$D$1) -> 0 | AM22: =COUNTIFS('USA Prestige by Season'!$A$3:$A$2362,$A22,'USA Prestige by Season'!$C$3:$C$2362,">="&$B$1,'USA Prestige by Season'!$C$3:$C$2362,"<="&$D$1,'USA Prestige by Season'!$AN$3:$AN$2362,"<>") -> 1 | AN22: =SUMIFS('USA Prestige by Season'!$AO$3:$AO$2362,'USA Prestige by Season'!$A$3:$A$2362,$A22,'USA Prestige by Season'!$C$3:$C$2362,">="&$B$1,'USA Prestige by Season'!$C$3:$C$2362,"<="&$D$1) -> 0 | AO22: =IF(COUNTIFS('USA Prestige by Season'!$A$3:$A$2362,$A22,'USA Prestige by Season'!$C$3:$C$2362,">="&$B$1,'USA Prestige by Season'!$C$3:$C$2362,"<="&$D$1)>0,"Yes","No") -> Yes
A23: Balotelli's Ballers | C23: =SUMIFS('USA Prestige by Season'!D$3:D$2362,'USA Prestige by Season'!$A$3:$A$2362,$A23,'USA Prestige by Season'!$C$3:$C$2362,">="&$B$1,'USA Prestige by Season'!$C$3:$C$2362,"<="&$D$1) -> 0 | D23: =SUMIFS('USA Prestige by Season'!E$3:E$2362,'USA Prestige by Season'!$A$3:$A$2362,$A23,'USA Prestige by Season'!$C$3:$C$2362,">="&$B$1,'USA Prestige by Season'!$C$3:$C$2362,"<="&$D$1) -> 0 | E23: =SUMIFS('USA Prestige by Season'!F$3:F$2362,'USA Prestige by Season'!$A$3:$A$2362,$A23,'USA Prestige by Season'!$C$3:$C$2362,">="&$B$1,'USA Prestige by Season'!$C$3:$C$2362,"<="&$D$1) -> 0 | F23: =SUMIFS('USA Prestige by Season'!G$3:G$2362,'USA Prestige by Season'!$A$3:$A$2362,$A23,'USA Prestige by Season'!$C$3:$C$2362,">="&$B$1,'USA Prestige by Season'!$C$3:$C$2362,"<="&$D$1) -> 1 | G23: =SUMIFS('USA Prestige by Season'!H$3:H$2362,'USA Prestige by Season'!$A$3:$A$2362,$A23,'USA Prestige by Season'!$C$3:$C$2362,">="&$B$1,'USA Prestige by Season'!$C$3:$C$2362,"<="&$D$1) -> 0 | H23: =SUMIFS('USA Prestige by Season'!I$3:I$2362,'USA Prestige by Season'!$A$3:$A$2362,$A23,'USA Prestige by Season'!$C$3:$C$2362,">="&$B$1,'USA Prestige by Season'!$C$3:$C$2362,"<="&$D$1) -> 0 | I23: =SUMIFS('USA Prestige by Season'!J$3:J$2362,'USA Prestige by Season'!$A$3:$A$2362,$A23,'USA Prestige by Season'!$C$3:$C$2362,">="&$B$1,'USA Prestige by Season'!$C$3:$C$2362,"<="&$D$1) -> 0 | J23: =SUMIFS('USA Prestige by Season'!K$3:K$2362,'USA Prestige by Season'!$A$3:$A$2362,$A23,'USA Prestige by Season'!$C$3:$C$2362,">="&$B$1,'USA Prestige by Season'!$C$3:$C$2362,"<="&$D$1) -> 0 | ... AL23: =SUMIFS('USA Prestige by Season'!AM$3:AM$2362,'USA Prestige by Season'!$A$3:$A$2362,$A23,'USA Prestige by Season'!$C$3:$C$2362,">="&$B$1,'USA Prestige by Season'!$C$3:$C$2362,"<="&$D$1) -> 0 | AM23: =COUNTIFS('USA Prestige by Season'!$A$3:$A$2362,$A23,'USA Prestige by Season'!$C$3:$C$2362,">="&$B$1,'USA Prestige by Season'!$C$3:$C$2362,"<="&$D$1,'USA Prestige by Season'!$AN$3:$AN$2362,"<>") -> 1 | AN23: =SUMIFS('USA Prestige by Season'!$AO$3:$AO$2362,'USA Prestige by Season'!$A$3:$A$2362,$A23,'USA Prestige by Season'!$C$3:$C$2362,">="&$B$1,'USA Prestige by Season'!$C$3:$C$2362,"<="&$D$1) -> 0 | AO23: =IF(COUNTIFS('USA Prestige by Season'!$A$3:$A$2362,$A23,'USA Prestige by Season'!$C$3:$C$2362,">="&$B$1,'USA Prestige by Season'!$C$3:$C$2362,"<="&$D$1)>0,"Yes","No") -> Yes
A24: Beat Me | C24: =SUMIFS('USA Prestige by Season'!D$3:D$2362,'USA Prestige by Season'!$A$3:$A$2362,$A24,'USA Prestige by Season'!$C$3:$C$2362,">="&$B$1,'USA Prestige by Season'!$C$3:$C$2362,"<="&$D$1) -> 0 | D24: =SUMIFS('USA Prestige by Season'!E$3:E$2362,'USA Prestige by Season'!$A$3:$A$2362,$A24,'USA Prestige by Season'!$C$3:$C$2362,">="&$B$1,'USA Prestige by Season'!$C$3:$C$2362,"<="&$D$1) -> 0 | E24: =SUMIFS('USA Prestige by Season'!F$3:F$2362,'USA Prestige by Season'!$A$3:$A$2362,$A24,'USA Prestige by Season'!$C$3:$C$2362,">="&$B$1,'USA Prestige by Season'!$C$3:$C$2362,"<="&$D$1) -> 1 | F24: =SUMIFS('USA Prestige by Season'!G$3:G$2362,'USA Prestige by Season'!$A$3:$A$2362,$A24,'USA Prestige by Season'!$C$3:$C$2362,">="&$B$1,'USA Prestige by Season'!$C$3:$C$2362,"<="&$D$1) -> 0 | G24: =SUMIFS('USA Prestige by Season'!H$3:H$2362,'USA Prestige by Season'!$A$3:$A$2362,$A24,'USA Prestige by Season'!$C$3:$C$2362,">="&$B$1,'USA Prestige by Season'!$C$3:$C$2362,"<="&$D$1) -> 0 | H24: =SUMIFS('USA Prestige by Season'!I$3:I$2362,'USA Prestige by Season'!$A$3:$A$2362,$A24,'USA Prestige by Season'!$C$3:$C$2362,">="&$B$1,'USA Prestige by Season'!$C$3:$C$2362,"<="&$D$1) -> 0 | I24: =SUMIFS('USA Prestige by Season'!J$3:J$2362,'USA Prestige by Season'!$A$3:$A$2362,$A24,'USA Prestige by Season'!$C$3:$C$2362,">="&$B$1,'USA Prestige by Season'!$C$3:$C$2362,"<="&$D$1) -> 0 | J24: =SUMIFS('USA Prestige by Season'!K$3:K$2362,'USA Prestige by Season'!$A$3:$A$2362,$A24,'USA Prestige by Season'!$C$3:$C$2362,">="&$B$1,'USA Prestige by Season'!$C$3:$C$2362,"<="&$D$1) -> 0 | ... AL24: =SUMIFS('USA Prestige by Season'!AM$3:AM$2362,'USA Prestige by Season'!$A$3:$A$2362,$A24,'USA Prestige by Season'!$C$3:$C$2362,">="&$B$1,'USA Prestige by Season'!$C$3:$C$2362,"<="&$D$1) -> 0 | AM24: =COUNTIFS('USA Prestige by Season'!$A$3:$A$2362,$A24,'USA Prestige by Season'!$C$3:$C$2362,">="&$B$1,'USA Prestige by Season'!$C$3:$C$2362,"<="&$D$1,'USA Prestige by Season'!$AN$3:$AN$2362,"<>") -> 3 | AN24: =SUMIFS('USA Prestige by Season'!$AO$3:$AO$2362,'USA Prestige by Season'!$A$3:$A$2362,$A24,'USA Prestige by Season'!$C$3:$C$2362,">="&$B$1,'USA Prestige by Season'!$C$3:$C$2362,"<="&$D$1) -> 0 | AO24: =IF(COUNTIFS('USA Prestige by Season'!$A$3:$A$2362,$A24,'USA Prestige by Season'!$C$3:$C$2362,">="&$B$1,'USA Prestige by Season'!$C$3:$C$2362,"<="&$D$1)>0,"Yes","No") -> Yes
A25: BeerUnited | C25: =SUMIFS('USA Prestige by Season'!D$3:D$2362,'USA Prestige by Season'!$A$3:$A$2362,$A25,'USA Prestige by Season'!$C$3:$C$2362,">="&$B$1,'USA Prestige by Season'!$C$3:$C$2362,"<="&$D$1) -> 0 | D25: =SUMIFS('USA Prestige by Season'!E$3:E$2362,'USA Prestige by Season'!$A$3:$A$2362,$A25,'USA Prestige by Season'!$C$3:$C$2362,">="&$B$1,'USA Prestige by Season'!$C$3:$C$2362,"<="&$D$1) -> 0 | E25: =SUMIFS('USA Prestige by Season'!F$3:F$2362,'USA Prestige by Season'!$A$3:$A$2362,$A25,'USA Prestige by Season'!$C$3:$C$2362,">="&$B$1,'USA Prestige by Season'!$C$3:$C$2362,"<="&$D$1) -> 1 | F25: =SUMIFS('USA Prestige by Season'!G$3:G$2362,'USA Prestige by Season'!$A$3:$A$2362,$A25,'USA Prestige by Season'!$C$3:$C$2362,">="&$B$1,'USA Prestige by Season'!$C$3:$C$2362,"<="&$D$1) -> 2 | G25: =SUMIFS('USA Prestige by Season'!H$3:H$2362,'USA Prestige by Season'!$A$3:$A$2362,$A25,'USA Prestige by Season'!$C$3:$C$2362,">="&$B$1,'USA Prestige by Season'!$C$3:$C$2362,"<="&$D$1) -> 7 | H25: =SUMIFS('USA Prestige by Season'!I$3:I$2362,'USA Prestige by Season'!$A$3:$A$2362,$A25,'USA Prestige by Season'!$C$3:$C$2362,">="&$B$1,'USA Prestige by Season'!$C$3:$C$2362,"<="&$D$1) -> 3 | I25: =SUMIFS('USA Prestige by Season'!J$3:J$2362,'USA Prestige by Season'!$A$3:$A$2362,$A25,'USA Prestige by Season'!$C$3:$C$2362,">="&$B$1,'USA Prestige by Season'!$C$3:$C$2362,"<="&$D$1) -> 0 | J25: =SUMIFS('USA Prestige by Season'!K$3:K$2362,'USA Prestige by Season'!$A$3:$A$2362,$A25,'USA Prestige by Season'!$C$3:$C$2362,">="&$B$1,'USA Prestige by Season'!$C$3:$C$2362,"<="&$D$1) -> 0 | ... AL25: =SUMIFS('USA Prestige by Season'!AM$3:AM$2362,'USA Prestige by Season'!$A$3:$A$2362,$A25,'USA Prestige by Season'!$C$3:$C$2362,">="&$B$1,'USA Prestige by Season'!$C$3:$C$2362,"<="&$D$1) -> 0 | AM25: =COUNTIFS('USA Prestige by Season'!$A$3:$A$2362,$A25,'USA Prestige by Season'!$C$3:$C$2362,">="&$B$1,'USA Prestige by Season'!$C$3:$C$2362,"<="&$D$1,'USA Prestige by Season'!$AN$3:$AN$2362,"<>") -> 5 | AN25: =SUMIFS('USA Prestige by Season'!$AO$3:$AO$2362,'USA Prestige by Season'!$A$3:$A$2362,$A25,'USA Prestige by Season'!$C$3:$C$2362,">="&$B$1,'USA Prestige by Season'!$C$3:$C$2362,"<="&$D$1) -> 0 | AO25: =IF(COUNTIFS('USA Prestige by Season'!$A$3:$A$2362,$A25,'USA Prestige by Season'!$C$3:$C$2362,">="&$B$1,'USA Prestige by Season'!$C$3:$C$2362,"<="&$D$1)>0,"Yes","No") -> Yes
A26: Ben Davis | C26: =SUMIFS('USA Prestige by Season'!D$3:D$2362,'USA Prestige by Season'!$A$3:$A$2362,$A26,'USA Prestige by Season'!$C$3:$C$2362,">="&$B$1,'USA Prestige by Season'!$C$3:$C$2362,"<="&$D$1) -> 0 | D26: =SUMIFS('USA Prestige by Season'!E$3:E$2362,'USA Prestige by Season'!$A$3:$A$2362,$A26,'USA Prestige by Season'!$C$3:$C$2362,">="&$B$1,'USA Prestige by Season'!$C$3:$C$2362,"<="&$D$1) -> 1 | E26: =SUMIFS('USA Prestige by Season'!F$3:F$2362,'USA Prestige by Season'!$A$3:$A$2362,$A26,'USA Prestige by Season'!$C$3:$C$2362,">="&$B$1,'USA Prestige by Season'!$C$3:$C$2362,"<="&$D$1) -> 2 | F26: =SUMIFS('USA Prestige by Season'!G$3:G$2362,'USA Prestige by Season'!$A$3:$A$2362,$A26,'USA Prestige by Season'!$C$3:$C$2362,">="&$B$1,'USA Prestige by Season'!$C$3:$C$2362,"<="&$D$1) -> 0 | G26: =SUMIFS('USA Prestige by Season'!H$3:H$2362,'USA Prestige by Season'!$A$3:$A$2362,$A26,'USA Prestige by Season'!$C$3:$C$2362,">="&$B$1,'USA Prestige by Season'!$C$3:$C$2362,"<="&$D$1) -> 0 | H26: =SUMIFS('USA Prestige by Season'!I$3:I$2362,'USA Prestige by Season'!$A$3:$A$2362,$A26,'USA Prestige by Season'!$C$3:$C$2362,">="&$B$1,'USA Prestige by Season'!$C$3:$C$2362,"<="&$D$1) -> 0 | I26: =SUMIFS('USA Prestige by Season'!J$3:J$2362,'USA Prestige by Season'!$A$3:$A$2362,$A26,'USA Prestige by Season'!$C$3:$C$2362,">="&$B$1,'USA Prestige by Season'!$C$3:$C$2362,"<="&$D$1) -> 0 | J26: =SUMIFS('USA Prestige by Season'!K$3:K$2362,'USA Prestige by Season'!$A$3:$A$2362,$A26,'USA Prestige by Season'!$C$3:$C$2362,">="&$B$1,'USA Prestige by Season'!$C$3:$C$2362,"<="&$D$1) -> 0 | ... AL26: =SUMIFS('USA Prestige by Season'!AM$3:AM$2362,'USA Prestige by Season'!$A$3:$A$2362,$A26,'USA Prestige by Season'!$C$3:$C$2362,">="&$B$1,'USA Prestige by Season'!$C$3:$C$2362,"<="&$D$1) -> 0 | AM26: =COUNTIFS('USA Prestige by Season'!$A$3:$A$2362,$A26,'USA Prestige by Season'!$C$3:$C$2362,">="&$B$1,'USA Prestige by Season'!$C$3:$C$2362,"<="&$D$1,'USA Prestige by Season'!$AN$3:$AN$2362,"<>") -> 4 | AN26: =SUMIFS('USA Prestige by Season'!$AO$3:$AO$2362,'USA Prestige by Season'!$A$3:$A$2362,$A26,'USA Prestige by Season'!$C$3:$C$2362,">="&$B$1,'USA Prestige by Season'!$C$3:$C$2362,"<="&$D$1) -> 0 | AO26: =IF(COUNTIFS('USA Prestige by Season'!$A$3:$A$2362,$A26,'USA Prestige by Season'!$C$3:$C$2362,">="&$B$1,'USA Prestige by Season'!$C$3:$C$2362,"<="&$D$1)>0,"Yes","No") -> Yes
A27: Berkshire CCC | C27: =SUMIFS('USA Prestige by Season'!D$3:D$2362,'USA Prestige by Season'!$A$3:$A$2362,$A27,'USA Prestige by Season'!$C$3:$C$2362,">="&$B$1,'USA Prestige by Season'!$C$3:$C$2362,"<="&$D$1) -> 11 | D27: =SUMIFS('USA Prestige by Season'!E$3:E$2362,'USA Prestige by Season'!$A$3:$A$2362,$A27,'USA Prestige by Season'!$C$3:$C$2362,">="&$B$1,'USA Prestige by Season'!$C$3:$C$2362,"<="&$D$1) -> 10 | E27: =SUMIFS('USA Prestige by Season'!F$3:F$2362,'USA Prestige by Season'!$A$3:$A$2362,$A27,'USA Prestige by Season'!$C$3:$C$2362,">="&$B$1,'USA Prestige by Season'!$C$3:$C$2362,"<="&$D$1) -> 6 | F27: =SUMIFS('USA Prestige by Season'!G$3:G$2362,'USA Prestige by Season'!$A$3:$A$2362,$A27,'USA Prestige by Season'!$C$3:$C$2362,">="&$B$1,'USA Prestige by Season'!$C$3:$C$2362,"<="&$D$1) -> 0 | G27: =SUMIFS('USA Prestige by Season'!H$3:H$2362,'USA Prestige by Season'!$A$3:$A$2362,$A27,'USA Prestige by Season'!$C$3:$C$2362,">="&$B$1,'USA Prestige by Season'!$C$3:$C$2362,"<="&$D$1) -> 0 | H27: =SUMIFS('USA Prestige by Season'!I$3:I$2362,'USA Prestige by Season'!$A$3:$A$2362,$A27,'USA Prestige by Season'!$C$3:$C$2362,">="&$B$1,'USA Prestige by Season'!$C$3:$C$2362,"<="&$D$1) -> 0 | I27: =SUMIFS('USA Prestige by Season'!J$3:J$2362,'USA Prestige by Season'!$A$3:$A$2362,$A27,'USA Prestige by Season'!$C$3:$C$2362,">="&$B$1,'USA Prestige by Season'!$C$3:$C$2362,"<="&$D$1) -> 0 | J27: =SUMIFS('USA Prestige by Season'!K$3:K$2362,'USA Prestige by Season'!$A$3:$A$2362,$A27,'USA Prestige by Season'!$C$3:$C$2362,">="&$B$1,'USA Prestige by Season'!$C$3:$C$2362,"<="&$D$1) -> 0 | ... AL27: =SUMIFS('USA Prestige by Season'!AM$3:AM$2362,'USA Prestige by Season'!$A$3:$A$2362,$A27,'USA Prestige by Season'!$C$3:$C$2362,">="&$B$1,'USA Prestige by Season'!$C$3:$C$2362,"<="&$D$1) -> 0 | AM27: =COUNTIFS('USA Prestige by Season'!$A$3:$A$2362,$A27,'USA Prestige by Season'!$C$3:$C$2362,">="&$B$1,'USA Prestige by Season'!$C$3:$C$2362,"<="&$D$1,'USA Prestige by Season'!$AN$3:$AN$2362,"<>") -> 3 | AN27: =SUMIFS('USA Prestige by Season'!$AO$3:$AO$2362,'USA Prestige by Season'!$A$3:$A$2362,$A27,'USA Prestige by Season'!$C$3:$C$2362,">="&$B$1,'USA Prestige by Season'!$C$3:$C$2362,"<="&$D$1) -> 0 | AO27: =IF(COUNTIFS('USA Prestige by Season'!$A$3:$A$2362,$A27,'USA Prestige by Season'!$C$3:$C$2362,">="&$B$1,'USA Prestige by Season'!$C$3:$C$2362,"<="&$D$1)>0,"Yes","No") -> Yes
A28: Billiken TC | C28: =SUMIFS('USA Prestige by Season'!D$3:D$2362,'USA Prestige by Season'!$A$3:$A$2362,$A28,'USA Prestige by Season'!$C$3:$C$2362,">="&$B$1,'USA Prestige by Season'!$C$3:$C$2362,"<="&$D$1) -> 1 | D28: =SUMIFS('USA Prestige by Season'!E$3:E$2362,'USA Prestige by Season'!$A$3:$A$2362,$A28,'USA Prestige by Season'!$C$3:$C$2362,">="&$B$1,'USA Prestige by Season'!$C$3:$C$2362,"<="&$D$1) -> 2 | E28: =SUMIFS('USA Prestige by Season'!F$3:F$2362,'USA Prestige by Season'!$A$3:$A$2362,$A28,'USA Prestige by Season'!$C$3:$C$2362,">="&$B$1,'USA Prestige by Season'!$C$3:$C$2362,"<="&$D$1) -> 0 | F28: =SUMIFS('USA Prestige by Season'!G$3:G$2362,'USA Prestige by Season'!$A$3:$A$2362,$A28,'USA Prestige by Season'!$C$3:$C$2362,">="&$B$1,'USA Prestige by Season'!$C$3:$C$2362,"<="&$D$1) -> 0 | G28: =SUMIFS('USA Prestige by Season'!H$3:H$2362,'USA Prestige by Season'!$A$3:$A$2362,$A28,'USA Prestige by Season'!$C$3:$C$2362,">="&$B$1,'USA Prestige by Season'!$C$3:$C$2362,"<="&$D$1) -> 0 | H28: =SUMIFS('USA Prestige by Season'!I$3:I$2362,'USA Prestige by Season'!$A$3:$A$2362,$A28,'USA Prestige by Season'!$C$3:$C$2362,">="&$B$1,'USA Prestige by Season'!$C$3:$C$2362,"<="&$D$1) -> 0 | I28: =SUMIFS('USA Prestige by Season'!J$3:J$2362,'USA Prestige by Season'!$A$3:$A$2362,$A28,'USA Prestige by Season'!$C$3:$C$2362,">="&$B$1,'USA Prestige by Season'!$C$3:$C$2362,"<="&$D$1) -> 0 | J28: =SUMIFS('USA Prestige by Season'!K$3:K$2362,'USA Prestige by Season'!$A$3:$A$2362,$A28,'USA Prestige by Season'!$C$3:$C$2362,">="&$B$1,'USA Prestige by Season'!$C$3:$C$2362,"<="&$D$1) -> 0 | ... AL28: =SUMIFS('USA Prestige by Season'!AM$3:AM$2362,'USA Prestige by Season'!$A$3:$A$2362,$A28,'USA Prestige by Season'!$C$3:$C$2362,">="&$B$1,'USA Prestige by Season'!$C$3:$C$2362,"<="&$D$1) -> 0 | AM28: =COUNTIFS('USA Prestige by Season'!$A$3:$A$2362,$A28,'USA Prestige by Season'!$C$3:$C$2362,">="&$B$1,'USA Prestige by Season'!$C$3:$C$2362,"<="&$D$1,'USA Prestige by Season'!$AN$3:$AN$2362,"<>") -> 1 | AN28: =SUMIFS('USA Prestige by Season'!$AO$3:$AO$2362,'USA Prestige by Season'!$A$3:$A$2362,$A28,'USA Prestige by Season'!$C$3:$C$2362,">="&$B$1,'USA Prestige by Season'!$C$3:$C$2362,"<="&$D$1) -> 0 | AO28: =IF(COUNTIFS('USA Prestige by Season'!$A$3:$A$2362,$A28,'USA Prestige by Season'!$C$3:$C$2362,">="&$B$1,'USA Prestige by Season'!$C$3:$C$2362,"<="&$D$1)>0,"Yes","No") -> Yes
... A30: Blaise's Running Club | C30: =SUMIFS('USA Prestige by Season'!D$3:D$2362,'USA Prestige by Season'!$A$3:$A$2362,$A30,'USA Prestige by Season'!$C$3:$C$2362,">="&$B$1,'USA Prestige by Season'!$C$3:$C$2362,"<="&$D$1) -> 0 | D30: =SUMIFS('USA Prestige by Season'!E$3:E$2362,'USA Prestige by Season'!$A$3:$A$2362,$A30,'USA Prestige by Season'!$C$3:$C$2362,">="&$B$1,'USA Prestige by Season'!$C$3:$C$2362,"<="&$D$1) -> 4 | E30: =SUMIFS('USA Prestige by Season'!F$3:F$2362,'USA Prestige by Season'!$A$3:$A$2362,$A30,'USA Prestige by Season'!$C$3:$C$2362,">="&$B$1,'USA Prestige by Season'!$C$3:$C$2362,"<="&$D$1) -> 1 | F30: =SUMIFS('USA Prestige by Season'!G$3:G$2362,'USA Prestige by Season'!$A$3:$A$2362,$A30,'USA Prestige by Season'!$C$3:$C$2362,">="&$B$1,'USA Prestige by Season'!$C$3:$C$2362,"<="&$D$1) -> 7 | G30: =SUMIFS('USA Prestige by Season'!H$3:H$2362,'USA Prestige by Season'!$A$3:$A$2362,$A30,'USA Prestige by Season'!$C$3:$C$2362,">="&$B$1,'USA Prestige by Season'!$C$3:$C$2362,"<="&$D$1) -> 3 | H30: =SUMIFS('USA Prestige by Season'!I$3:I$2362,'USA Prestige by Season'!$A$3:$A$2362,$A30,'USA Prestige by Season'!$C$3:$C$2362,">="&$B$1,'USA Prestige by Season'!$C$3:$C$2362,"<="&$D$1) -> 3 | I30: =SUMIFS('USA Prestige by Season'!J$3:J$2362,'USA Prestige by Season'!$A$3:$A$2362,$A30,'USA Prestige by Season'!$C$3:$C$2362,">="&$B$1,'USA Prestige by Season'!$C$3:$C$2362,"<="&$D$1) -> 0 | J30: =SUMIFS('USA Prestige by Season'!K$3:K$2362,'USA Prestige by Season'!$A$3:$A$2362,$A30,'USA Prestige by Season'!$C$3:$C$2362,">="&$B$1,'USA Prestige by Season'!$C$3:$C$2362,"<="&$D$1) -> 0 | ... AL30: =SUMIFS('USA Prestige by Season'!AM$3:AM$2362,'USA Prestige by Season'!$A$3:$A$2362,$A30,'USA Prestige by Season'!$C$3:$C$2362,">="&$B$1,'USA Prestige by Season'!$C$3:$C$2362,"<="&$D$1) -> 0 | AM30: =COUNTIFS('USA Prestige by Season'!$A$3:$A$2362,$A30,'USA Prestige by Season'!$C$3:$C$2362,">="&$B$1,'USA Prestige by Season'!$C$3:$C$2362,"<="&$D$1,'USA Prestige by Season'!$AN$3:$AN$2362,"<>") -> 15 | AN30: =SUMIFS('USA Prestige by Season'!$AO$3:$AO$2362,'USA Prestige by Season'!$A$3:$A$2362,$A30,'USA Prestige by Season'!$C$3:$C$2362,">="&$B$1,'USA Prestige by Season'!$C$3:$C$2362,"<="&$D$1) -> 0 | AO30: =IF(COUNTIFS('USA Prestige by Season'!$A$3:$A$2362,$A30,'USA Prestige by Season'!$C$3:$C$2362,">="&$B$1,'USA Prestige by Season'!$C$3:$C$2362,"<="&$D$1)>0,"Yes","No") -> Yes
A31: Blue Ridge RC | B31: 19704 | C31: =SUMIFS('USA Prestige by Season'!D$3:D$2362,'USA Prestige by Season'!$A$3:$A$2362,$A31,'USA Prestige by Season'!$C$3:$C$2362,">="&$B$1,'USA Prestige by Season'!$C$3:$C$2362,"<="&$D$1) -> 648 | D31: =SUMIFS('USA Prestige by Season'!E$3:E$2362,'USA Prestige by Season'!$A$3:$A$2362,$A31,'USA Prestige by Season'!$C$3:$C$2362,">="&$B$1,'USA Prestige by Season'!$C$3:$C$2362,"<="&$D$1) -> 356 | E31: =SUMIFS('USA Prestige by Season'!F$3:F$2362,'USA Prestige by Season'!$A$3:$A$2362,$A31,'USA Prestige by Season'!$C$3:$C$2362,">="&$B$1,'USA Prestige by Season'!$C$3:$C$2362,"<="&$D$1) -> 193 | F31: =SUMIFS('USA Prestige by Season'!G$3:G$2362,'USA Prestige by Season'!$A$3:$A$2362,$A31,'USA Prestige by Season'!$C$3:$C$2362,">="&$B$1,'USA Prestige by Season'!$C$3:$C$2362,"<="&$D$1) -> 264 | G31: =SUMIFS('USA Prestige by Season'!H$3:H$2362,'USA Prestige by Season'!$A$3:$A$2362,$A31,'USA Prestige by Season'!$C$3:$C$2362,">="&$B$1,'USA Prestige by Season'!$C$3:$C$2362,"<="&$D$1) -> 104 | H31: =SUMIFS('USA Prestige by Season'!I$3:I$2362,'USA Prestige by Season'!$A$3:$A$2362,$A31,'USA Prestige by Season'!$C$3:$C$2362,">="&$B$1,'USA Prestige by Season'!$C$3:$C$2362,"<="&$D$1) -> 34 | I31: =SUMIFS('USA Prestige by Season'!J$3:J$2362,'USA Prestige by Season'!$A$3:$A$2362,$A31,'USA Prestige by Season'!$C$3:$C$2362,">="&$B$1,'USA Prestige by Season'!$C$3:$C$2362,"<="&$D$1) -> 11 | J31: =SUMIFS('USA Prestige by Season'!K$3:K$2362,'USA Prestige by Season'!$A$3:$A$2362,$A31,'USA Prestige by Season'!$C$3:$C$2362,">="&$B$1,'USA Prestige by Season'!$C$3:$C$2362,"<="&$D$1) -> 10 | ... AL31: =SUMIFS('USA Prestige by Season'!AM$3:AM$2362,'USA Prestige by Season'!$A$3:$A$2362,$A31,'USA Prestige by Season'!$C$3:$C$2362,">="&$B$1,'USA Prestige by Season'!$C$3:$C$2362,"<="&$D$1) -> 13 | AM31: =COUNTIFS('USA Prestige by Season'!$A$3:$A$2362,$A31,'USA Prestige by Season'!$C$3:$C$2362,">="&$B$1,'USA Prestige by Season'!$C$3:$C$2362,"<="&$D$1,'USA Prestige by Season'!$AN$3:$AN$2362,"<>") -> 86 | AN31: =SUMIFS('USA Prestige by Season'!$AO$3:$AO$2362,'USA Prestige by Season'!$A$3:$A$2362,$A31,'USA Prestige by Season'!$C$3:$C$2362,">="&$B$1,'USA Prestige by Season'!$C$3:$C$2362,"<="&$D$1) -> 298270 | AO31: =IF(COUNTIFS('USA Prestige by Season'!$A$3:$A$2362,$A31,'USA Prestige by Season'!$C$3:$C$2362,">="&$B$1,'USA Prestige by Season'!$C$3:$C$2362,"<="&$D$1)>0,"Yes","No") -> Yes
A32: Blue Suns | C32: =SUMIFS('USA Prestige by Season'!D$3:D$2362,'USA Prestige by Season'!$A$3:$A$2362,$A32,'USA Prestige by Season'!$C$3:$C$2362,">="&$B$1,'USA Prestige by Season'!$C$3:$C$2362,"<="&$D$1) -> 0 | D32: =SUMIFS('USA Prestige by Season'!E$3:E$2362,'USA Prestige by Season'!$A$3:$A$2362,$A32,'USA Prestige by Season'!$C$3:$C$2362,">="&$B$1,'USA Prestige by Season'!$C$3:$C$2362,"<="&$D$1) -> 0 | E32: =SUMIFS('USA Prestige by Season'!F$3:F$2362,'USA Prestige by Season'!$A$3:$A$2362,$A32,'USA Prestige by Season'!$C$3:$C$2362,">="&$B$1,'USA Prestige by Season'!$C$3:$C$2362,"<="&$D$1) -> 0 | F32: =SUMIFS('USA Prestige by Season'!G$3:G$2362,'USA Prestige by Season'!$A$3:$A$2362,$A32,'USA Prestige by Season'!$C$3:$C$2362,">="&$B$1,'USA Prestige by Season'!$C$3:$C$2362,"<="&$D$1) -> 0 | G32: =SUMIFS('USA Prestige by Season'!H$3:H$2362,'USA Prestige by Season'!$A$3:$A$2362,$A32,'USA Prestige by Season'!$C$3:$C$2362,">="&$B$1,'USA Prestige by Season'!$C$3:$C$2362,"<="&$D$1) -> 0 | H32: =SUMIFS('USA Prestige by Season'!I$3:I$2362,'USA Prestige by Season'!$A$3:$A$2362,$A32,'USA Prestige by Season'!$C$3:$C$2362,">="&$B$1,'USA Prestige by Season'!$C$3:$C$2362,"<="&$D$1) -> 0 | I32: =SUMIFS('USA Prestige by Season'!J$3:J$2362,'USA Prestige by Season'!$A$3:$A$2362,$A32,'USA Prestige by Season'!$C$3:$C$2362,">="&$B$1,'USA Prestige by Season'!$C$3:$C$2362,"<="&$D$1) -> 0 | J32: =SUMIFS('USA Prestige by Season'!K$3:K$2362,'USA Prestige by Season'!$A$3:$A$2362,$A32,'USA Prestige by Season'!$C$3:$C$2362,">="&$B$1,'USA Prestige by Season'!$C$3:$C$2362,"<="&$D$1) -> 0 | ... AL32: =SUMIFS('USA Prestige by Season'!AM$3:AM$2362,'USA Prestige by Season'!$A$3:$A$2362,$A32,'USA Prestige by Season'!$C$3:$C$2362,">="&$B$1,'USA Prestige by Season'!$C$3:$C$2362,"<="&$D$1) -> 0 | AM32: =COUNTIFS('USA Prestige by Season'!$A$3:$A$2362,$A32,'USA Prestige by Season'!$C$3:$C$2362,">="&$B$1,'USA Prestige by Season'!$C$3:$C$2362,"<="&$D$1,'USA Prestige by Season'!$AN$3:$AN$2362,"<>") -> 1 | AN32: =SUMIFS('USA Prestige by Season'!$AO$3:$AO$2362,'USA Prestige by Season'!$A$3:$A$2362,$A32,'USA Prestige by Season'!$C$3:$C$2362,">="&$B$1,'USA Prestige by Season'!$C$3:$C$2362,"<="&$D$1) -> 0 | AO32: =IF(COUNTIFS('USA Prestige by Season'!$A$3:$A$2362,$A32,'USA Prestige by Season'!$C$3:$C$2362,">="&$B$1,'USA Prestige by Season'!$C$3:$C$2362,"<="&$D$1)>0,"Yes","No") -> Yes
A33: Bobby Mo | C33: =SUMIFS('USA Prestige by Season'!D$3:D$2362,'USA Prestige by Season'!$A$3:$A$2362,$A33,'USA Prestige by Season'!$C$3:$C$2362,">="&$B$1,'USA Prestige by Season'!$C$3:$C$2362,"<="&$D$1) -> 0 | D33: =SUMIFS('USA Prestige by Season'!E$3:E$2362,'USA Prestige by Season'!$A$3:$A$2362,$A33,'USA Prestige by Season'!$C$3:$C$2362,">="&$B$1,'USA Prestige by Season'!$C$3:$C$2362,"<="&$D$1) -> 6 | E33: =SUMIFS('USA Prestige by Season'!F$3:F$2362,'USA Prestige by Season'!$A$3:$A$2362,$A33,'USA Prestige by Season'!$C$3:$C$2362,">="&$B$1,'USA Prestige by Season'!$C$3:$C$2362,"<="&$D$1) -> 3 | F33: =SUMIFS('USA Prestige by Season'!G$3:G$2362,'USA Prestige by Season'!$A$3:$A$2362,$A33,'USA Prestige by Season'!$C$3:$C$2362,">="&$B$1,'USA Prestige by Season'!$C$3:$C$2362,"<="&$D$1) -> 1 | G33: =SUMIFS('USA Prestige by Season'!H$3:H$2362,'USA Prestige by Season'!$A$3:$A$2362,$A33,'USA Prestige by Season'!$C$3:$C$2362,">="&$B$1,'USA Prestige by Season'!$C$3:$C$2362,"<="&$D$1) -> 2 | H33: =SUMIFS('USA Prestige by Season'!I$3:I$2362,'USA Prestige by Season'!$A$3:$A$2362,$A33,'USA Prestige by Season'!$C$3:$C$2362,">="&$B$1,'USA Prestige by Season'!$C$3:$C$2362,"<="&$D$1) -> 1 | I33: =SUMIFS('USA Prestige by Season'!J$3:J$2362,'USA Prestige by Season'!$A$3:$A$2362,$A33,'USA Prestige by Season'!$C$3:$C$2362,">="&$B$1,'USA Prestige by Season'!$C$3:$C$2362,"<="&$D$1) -> 0 | J33: =SUMIFS('USA Prestige by Season'!K$3:K$2362,'USA Prestige by Season'!$A$3:$A$2362,$A33,'USA Prestige by Season'!$C$3:$C$2362,">="&$B$1,'USA Prestige by Season'!$C$3:$C$2362,"<="&$D$1) -> 0 | ... AL33: =SUMIFS('USA Prestige by Season'!AM$3:AM$2362,'USA Prestige by Season'!$A$3:$A$2362,$A33,'USA Prestige by Season'!$C$3:$C$2362,">="&$B$1,'USA Prestige by Season'!$C$3:$C$2362,"<="&$D$1) -> 0 | AM33: =COUNTIFS('USA Prestige by Season'!$A$3:$A$2362,$A33,'USA Prestige by Season'!$C$3:$C$2362,">="&$B$1,'USA Prestige by Season'!$C$3:$C$2362,"<="&$D$1,'USA Prestige by Season'!$AN$3:$AN$2362,"<>") -> 11 | AN33: =SUMIFS('USA Prestige by Season'!$AO$3:$AO$2362,'USA Prestige by Season'!$A$3:$A$2362,$A33,'USA Prestige by Season'!$C$3:$C$2362,">="&$B$1,'USA Prestige by Season'!$C$3:$C$2362,"<="&$D$1) -> 0 | AO33: =IF(COUNTIFS('USA Prestige by Season'!$A$3:$A$2362,$A33,'USA Prestige by Season'!$C$3:$C$2362,">="&$B$1,'USA Prestige by Season'!$C$3:$C$2362,"<="&$D$1)>0,"Yes","No") -> Yes
A34: Bomb Squad | C34: =SUMIFS('USA Prestige by Season'!D$3:D$2362,'USA Prestige by Season'!$A$3:$A$2362,$A34,'USA Prestige by Season'!$C$3:$C$2362,">="&$B$1,'USA Prestige by Season'!$C$3:$C$2362,"<="&$D$1) -> 0 | D34: =SUMIFS('USA Prestige by Season'!E$3:E$2362,'USA Prestige by Season'!$A$3:$A$2362,$A34,'USA Prestige by Season'!$C$3:$C$2362,">="&$B$1,'USA Prestige by Season'!$C$3:$C$2362,"<="&$D$1) -> 0 | E34: =SUMIFS('USA Prestige by Season'!F$3:F$2362,'USA Prestige by Season'!$A$3:$A$2362,$A34,'USA Prestige by Season'!$C$3:$C$2362,">="&$B$1,'USA Prestige by Season'!$C$3:$C$2362,"<="&$D$1) -> 0 | F34: =SUMIFS('USA Prestige by Season'!G$3:G$2362,'USA Prestige by Season'!$A$3:$A$2362,$A34,'USA Prestige by Season'!$C$3:$C$2362,">="&$B$1,'USA Prestige by Season'!$C$3:$C$2362,"<="&$D$1) -> 0 | G34: =SUMIFS('USA Prestige by Season'!H$3:H$2362,'USA Prestige by Season'!$A$3:$A$2362,$A34,'USA Prestige by Season'!$C$3:$C$2362,">="&$B$1,'USA Prestige by Season'!$C$3:$C$2362,"<="&$D$1) -> 0 | H34: =SUMIFS('USA Prestige by Season'!I$3:I$2362,'USA Prestige by Season'!$A$3:$A$2362,$A34,'USA Prestige by Season'!$C$3:$C$2362,">="&$B$1,'USA Prestige by Season'!$C$3:$C$2362,"<="&$D$1) -> 0 | I34: =SUMIFS('USA Prestige by Season'!J$3:J$2362,'USA Prestige by Season'!$A$3:$A$2362,$A34,'USA Prestige by Season'!$C$3:$C$2362,">="&$B$1,'USA Prestige by Season'!$C$3:$C$2362,"<="&$D$1) -> 0 | J34: =SUMIFS('USA Prestige by Season'!K$3:K$2362,'USA Prestige by Season'!$A$3:$A$2362,$A34,'USA Prestige by Season'!$C$3:$C$2362,">="&$B$1,'USA Prestige by Season'!$C$3:$C$2362,"<="&$D$1) -> 0 | ... AL34: =SUMIFS('USA Prestige by Season'!AM$3:AM$2362,'USA Prestige by Season'!$A$3:$A$2362,$A34,'USA Prestige by Season'!$C$3:$C$2362,">="&$B$1,'USA Prestige by Season'!$C$3:$C$2362,"<="&$D$1) -> 0 | AM34: =COUNTIFS('USA Prestige by Season'!$A$3:$A$2362,$A34,'USA Prestige by Season'!$C$3:$C$2362,">="&$B$1,'USA Prestige by Season'!$C$3:$C$2362,"<="&$D$1,'USA Prestige by Season'!$AN$3:$AN$2362,"<>") -> 2 | AN34: =SUMIFS('USA Prestige by Season'!$AO$3:$AO$2362,'USA Prestige by Season'!$A$3:$A$2362,$A34,'USA Prestige by Season'!$C$3:$C$2362,">="&$B$1,'USA Prestige by Season'!$C$3:$C$2362,"<="&$D$1) -> 0 | AO34: =IF(COUNTIFS('USA Prestige by Season'!$A$3:$A$2362,$A34,'USA Prestige by Season'!$C$3:$C$2362,">="&$B$1,'USA Prestige by Season'!$C$3:$C$2362,"<="&$D$1)>0,"Yes","No") -> Yes
A35: Bombing Birds | C35: =SUMIFS('USA Prestige by Season'!D$3:D$2362,'USA Prestige by Season'!$A$3:$A$2362,$A35,'USA Prestige by Season'!$C$3:$C$2362,">="&$B$1,'USA Prestige by Season'!$C$3:$C$2362,"<="&$D$1) -> 2 | D35: =SUMIFS('USA Prestige by Season'!E$3:E$2362,'USA Prestige by Season'!$A$3:$A$2362,$A35,'USA Prestige by Season'!$C$3:$C$2362,">="&$B$1,'USA Prestige by Season'!$C$3:$C$2362,"<="&$D$1) -> 3 | E35: =SUMIFS('USA Prestige by Season'!F$3:F$2362,'USA Prestige by Season'!$A$3:$A$2362,$A35,'USA Prestige by Season'!$C$3:$C$2362,">="&$B$1,'USA Prestige by Season'!$C$3:$C$2362,"<="&$D$1) -> 5 | F35: =SUMIFS('USA Prestige by Season'!G$3:G$2362,'USA Prestige by Season'!$A$3:$A$2362,$A35,'USA Prestige by Season'!$C$3:$C$2362,">="&$B$1,'USA Prestige by Season'!$C$3:$C$2362,"<="&$D$1) -> 0 | G35: =SUMIFS('USA Prestige by Season'!H$3:H$2362,'USA Prestige by Season'!$A$3:$A$2362,$A35,'USA Prestige by Season'!$C$3:$C$2362,">="&$B$1,'USA Prestige by Season'!$C$3:$C$2362,"<="&$D$1) -> 0 | H35: =SUMIFS('USA Prestige by Season'!I$3:I$2362,'USA Prestige by Season'!$A$3:$A$2362,$A35,'USA Prestige by Season'!$C$3:$C$2362,">="&$B$1,'USA Prestige by Season'!$C$3:$C$2362,"<="&$D$1) -> 0 | I35: =SUMIFS('USA Prestige by Season'!J$3:J$2362,'USA Prestige by Season'!$A$3:$A$2362,$A35,'USA Prestige by Season'!$C$3:$C$2362,">="&$B$1,'USA Prestige by Season'!$C$3:$C$2362,"<="&$D$1) -> 0 | J35: =SUMIFS('USA Prestige by Season'!K$3:K$2362,'USA Prestige by Season'!$A$3:$A$2362,$A35,'USA Prestige by Season'!$C$3:$C$2362,">="&$B$1,'USA Prestige by Season'!$C$3:$C$2362,"<="&$D$1) -> 0 | ... AL35: =SUMIFS('USA Prestige by Season'!AM$3:AM$2362,'USA Prestige by Season'!$A$3:$A$2362,$A35,'USA Prestige by Season'!$C$3:$C$2362,">="&$B$1,'USA Prestige by Season'!$C$3:$C$2362,"<="&$D$1) -> 0 | AM35: =COUNTIFS('USA Prestige by Season'!$A$3:$A$2362,$A35,'USA Prestige by Season'!$C$3:$C$2362,">="&$B$1,'USA Prestige by Season'!$C$3:$C$2362,"<="&$D$1,'USA Prestige by Season'!$AN$3:$AN$2362,"<>") -> 1 | AN35: =SUMIFS('USA Prestige by Season'!$AO$3:$AO$2362,'USA Prestige by Season'!$A$3:$A$2362,$A35,'USA Prestige by Season'!$C$3:$C$2362,">="&$B$1,'USA Prestige by Season'!$C$3:$C$2362,"<="&$D$1) -> 0 | AO35: =IF(COUNTIFS('USA Prestige by Season'!$A$3:$A$2362,$A35,'USA Prestige by Season'!$C$3:$C$2362,">="&$B$1,'USA Prestige by Season'!$C$3:$C$2362,"<="&$D$1)>0,"Yes","No") -> Yes
A36: Boss World | C36: =SUMIFS('USA Prestige by Season'!D$3:D$2362,'USA Prestige by Season'!$A$3:$A$2362,$A36,'USA Prestige by Season'!$C$3:$C$2362,">="&$B$1,'USA Prestige by Season'!$C$3:$C$2362,"<="&$D$1) -> 0 | D36: =SUMIFS('USA Prestige by Season'!E$3:E$2362,'USA Prestige by Season'!$A$3:$A$2362,$A36,'USA Prestige by Season'!$C$3:$C$2362,">="&$B$1,'USA Prestige by Season'!$C$3:$C$2362,"<="&$D$1) -> 1 | E36: =SUMIFS('USA Prestige by Season'!F$3:F$2362,'USA Prestige by Season'!$A$3:$A$2362,$A36,'USA Prestige by Season'!$C$3:$C$2362,">="&$B$1,'USA Prestige by Season'!$C$3:$C$2362,"<="&$D$1) -> 0 | F36: =SUMIFS('USA Prestige by Season'!G$3:G$2362,'USA Prestige by Season'!$A$3:$A$2362,$A36,'USA Prestige by Season'!$C$3:$C$2362,">="&$B$1,'USA Prestige by Season'!$C$3:$C$2362,"<="&$D$1) -> 2 | G36: =SUMIFS('USA Prestige by Season'!H$3:H$2362,'USA Prestige by Season'!$A$3:$A$2362,$A36,'USA Prestige by Season'!$C$3:$C$2362,">="&$B$1,'USA Prestige by Season'!$C$3:$C$2362,"<="&$D$1) -> 6 | H36: =SUMIFS('USA Prestige by Season'!I$3:I$2362,'USA Prestige by Season'!$A$3:$A$2362,$A36,'USA Prestige by Season'!$C$3:$C$2362,">="&$B$1,'USA Prestige by Season'!$C$3:$C$2362,"<="&$D$1) -> 2 | I36: =SUMIFS('USA Prestige by Season'!J$3:J$2362,'USA Prestige by Season'!$A$3:$A$2362,$A36,'USA Prestige by Season'!$C$3:$C$2362,">="&$B$1,'USA Prestige by Season'!$C$3:$C$2362,"<="&$D$1) -> 0 | J36: =SUMIFS('USA Prestige by Season'!K$3:K$2362,'USA Prestige by Season'!$A$3:$A$2362,$A36,'USA Prestige by Season'!$C$3:$C$2362,">="&$B$1,'USA Prestige by Season'!$C$3:$C$2362,"<="&$D$1) -> 0 | ... AL36: =SUMIFS('USA Prestige by Season'!AM$3:AM$2362,'USA Prestige by Season'!$A$3:$A$2362,$A36,'USA Prestige by Season'!$C$3:$C$2362,">="&$B$1,'USA Prestige by Season'!$C$3:$C$2362,"<="&$D$1) -> 0 | AM36: =COUNTIFS('USA Prestige by Season'!$A$3:$A$2362,$A36,'USA Prestige by Season'!$C$3:$C$2362,">="&$B$1,'USA Prestige by Season'!$C$3:$C$2362,"<="&$D$1,'USA Prestige by Season'!$AN$3:$AN$2362,"<>") -> 3 | AN36: =SUMIFS('USA Prestige by Season'!$AO$3:$AO$2362,'USA Prestige by Season'!$A$3:$A$2362,$A36,'USA Prestige by Season'!$C$3:$C$2362,">="&$B$1,'USA Prestige by Season'!$C$3:$C$2362,"<="&$D$1) -> 0 | AO36: =IF(COUNTIFS('USA Prestige by Season'!$A$3:$A$2362,$A36,'USA Prestige by Season'!$C$3:$C$2362,">="&$B$1,'USA Prestige by Season'!$C$3:$C$2362,"<="&$D$1)>0,"Yes","No") -> Yes
A37: Boston Bandits | C37: =SUMIFS('USA Prestige by Season'!D$3:D$2362,'USA Prestige by Season'!$A$3:$A$2362,$A37,'USA Prestige by Season'!$C$3:$C$2362,">="&$B$1,'USA Prestige by Season'!$C$3:$C$2362,"<="&$D$1) -> 5 | D37: =SUMIFS('USA Prestige by Season'!E$3:E$2362,'USA Prestige by Season'!$A$3:$A$2362,$A37,'USA Prestige by Season'!$C$3:$C$2362,">="&$B$1,'USA Prestige by Season'!$C$3:$C$2362,"<="&$D$1) -> 1 | E37: =SUMIFS('USA Prestige by Season'!F$3:F$2362,'USA Prestige by Season'!$A$3:$A$2362,$A37,'USA Prestige by Season'!$C$3:$C$2362,">="&$B$1,'USA Prestige by Season'!$C$3:$C$2362,"<="&$D$1) -> 5 | F37: =SUMIFS('USA Prestige by Season'!G$3:G$2362,'USA Prestige by Season'!$A$3:$A$2362,$A37,'USA Prestige by Season'!$C$3:$C$2362,">="&$B$1,'USA Prestige by Season'!$C$3:$C$2362,"<="&$D$1) -> 17 | G37: =SUMIFS('USA Prestige by Season'!H$3:H$2362,'USA Prestige by Season'!$A$3:$A$2362,$A37,'USA Prestige by Season'!$C$3:$C$2362,">="&$B$1,'USA Prestige by Season'!$C$3:$C$2362,"<="&$D$1) -> 21 | H37: =SUMIFS('USA Prestige by Season'!I$3:I$2362,'USA Prestige by Season'!$A$3:$A$2362,$A37,'USA Prestige by Season'!$C$3:$C$2362,">="&$B$1,'USA Prestige by Season'!$C$3:$C$2362,"<="&$D$1) -> 10 | I37: =SUMIFS('USA Prestige by Season'!J$3:J$2362,'USA Prestige by Season'!$A$3:$A$2362,$A37,'USA Prestige by Season'!$C$3:$C$2362,">="&$B$1,'USA Prestige by Season'!$C$3:$C$2362,"<="&$D$1) -> 0 | J37: =SUMIFS('USA Prestige by Season'!K$3:K$2362,'USA Prestige by Season'!$A$3:$A$2362,$A37,'USA Prestige by Season'!$C$3:$C$2362,">="&$B$1,'USA Prestige by Season'!$C$3:$C$2362,"<="&$D$1) -> 0 | ... AL37: =SUMIFS('USA Prestige by Season'!AM$3:AM$2362,'USA Prestige by Season'!$A$3:$A$2362,$A37,'USA Prestige by Season'!$C$3:$C$2362,">="&$B$1,'USA Prestige by Season'!$C$3:$C$2362,"<="&$D$1) -> 0 | AM37: =COUNTIFS('USA Prestige by Season'!$A$3:$A$2362,$A37,'USA Prestige by Season'!$C$3:$C$2362,">="&$B$1,'USA Prestige by Season'!$C$3:$C$2362,"<="&$D$1,'USA Prestige by Season'!$AN$3:$AN$2362,"<>") -> 19 | AN37: =SUMIFS('USA Prestige by Season'!$AO$3:$AO$2362,'USA Prestige by Season'!$A$3:$A$2362,$A37,'USA Prestige by Season'!$C$3:$C$2362,">="&$B$1,'USA Prestige by Season'!$C$3:$C$2362,"<="&$D$1) -> 0 | AO37: =IF(COUNTIFS('USA Prestige by Season'!$A$3:$A$2362,$A37,'USA Prestige by Season'!$C$3:$C$2362,">="&$B$1,'USA Prestige by Season'!$C$3:$C$2362,"<="&$D$1)>0,"Yes","No") -> Yes
A38: Bowery Boys | C38: =SUMIFS('USA Prestige by Season'!D$3:D$2362,'USA Prestige by Season'!$A$3:$A$2362,$A38,'USA Prestige by Season'!$C$3:$C$2362,">="&$B$1,'USA Prestige by Season'!$C$3:$C$2362,"<="&$D$1) -> 0 | D38: =SUMIFS('USA Prestige by Season'!E$3:E$2362,'USA Prestige by Season'!$A$3:$A$2362,$A38,'USA Prestige by Season'!$C$3:$C$2362,">="&$B$1,'USA Prestige by Season'!$C$3:$C$2362,"<="&$D$1) -> 0 | E38: =SUMIFS('USA Prestige by Season'!F$3:F$2362,'USA Prestige by Season'!$A$3:$A$2362,$A38,'USA Prestige by Season'!$C$3:$C$2362,">="&$B$1,'USA Prestige by Season'!$C$3:$C$2362,"<="&$D$1) -> 0 | F38: =SUMIFS('USA Prestige by Season'!G$3:G$2362,'USA Prestige by Season'!$A$3:$A$2362,$A38,'USA Prestige by Season'!$C$3:$C$2362,">="&$B$1,'USA Prestige by Season'!$C$3:$C$2362,"<="&$D$1) -> 1 | G38: =SUMIFS('USA Prestige by Season'!H$3:H$2362,'USA Prestige by Season'!$A$3:$A$2362,$A38,'USA Prestige by Season'!$C$3:$C$2362,">="&$B$1,'USA Prestige by Season'!$C$3:$C$2362,"<="&$D$1) -> 0 | H38: =SUMIFS('USA Prestige by Season'!I$3:I$2362,'USA Prestige by Season'!$A$3:$A$2362,$A38,'USA Prestige by Season'!$C$3:$C$2362,">="&$B$1,'USA Prestige by Season'!$C$3:$C$2362,"<="&$D$1) -> 1 | I38: =SUMIFS('USA Prestige by Season'!J$3:J$2362,'USA Prestige by Season'!$A$3:$A$2362,$A38,'USA Prestige by Season'!$C$3:$C$2362,">="&$B$1,'USA Prestige by Season'!$C$3:$C$2362,"<="&$D$1) -> 0 | J38: =SUMIFS('USA Prestige by Season'!K$3:K$2362,'USA Prestige by Season'!$A$3:$A$2362,$A38,'USA Prestige by Season'!$C$3:$C$2362,">="&$B$1,'USA Prestige by Season'!$C$3:$C$2362,"<="&$D$1) -> 0 | ... AL38: =SUMIFS('USA Prestige by Season'!AM$3:AM$2362,'USA Prestige by Season'!$A$3:$A$2362,$A38,'USA Prestige by Season'!$C$3:$C$2362,">="&$B$1,'USA Prestige by Season'!$C$3:$C$2362,"<="&$D$1) -> 0 | AM38: =COUNTIFS('USA Prestige by Season'!$A$3:$A$2362,$A38,'USA Prestige by Season'!$C$3:$C$2362,">="&$B$1,'USA Prestige by Season'!$C$3:$C$2362,"<="&$D$1,'USA Prestige by Season'!$AN$3:$AN$2362,"<>") -> 1 | AN38: =SUMIFS('USA Prestige by Season'!$AO$3:$AO$2362,'USA Prestige by Season'!$A$3:$A$2362,$A38,'USA Prestige by Season'!$C$3:$C$2362,">="&$B$1,'USA Prestige by Season'!$C$3:$C$2362,"<="&$D$1) -> 0 | AO38: =IF(COUNTIFS('USA Prestige by Season'!$A$3:$A$2362,$A38,'USA Prestige by Season'!$C$3:$C$2362,">="&$B$1,'USA Prestige by Season'!$C$3:$C$2362,"<="&$D$1)>0,"Yes","No") -> Yes
A39: Brandywine Athletic Club | C39: =SUMIFS('USA Prestige by Season'!D$3:D$2362,'USA Prestige by Season'!$A$3:$A$2362,$A39,'USA Prestige by Season'!$C$3:$C$2362,">="&$B$1,'USA Prestige by Season'!$C$3:$C$2362,"<="&$D$1) -> 1 | D39: =SUMIFS('USA Prestige by Season'!E$3:E$2362,'USA Prestige by Season'!$A$3:$A$2362,$A39,'USA Prestige by Season'!$C$3:$C$2362,">="&$B$1,'USA Prestige by Season'!$C$3:$C$2362,"<="&$D$1) -> 0 | E39: =SUMIFS('USA Prestige by Season'!F$3:F$2362,'USA Prestige by Season'!$A$3:$A$2362,$A39,'USA Prestige by Season'!$C$3:$C$2362,">="&$B$1,'USA Prestige by Season'!$C$3:$C$2362,"<="&$D$1) -> 0 | F39: =SUMIFS('USA Prestige by Season'!G$3:G$2362,'USA Prestige by Season'!$A$3:$A$2362,$A39,'USA Prestige by Season'!$C$3:$C$2362,">="&$B$1,'USA Prestige by Season'!$C$3:$C$2362,"<="&$D$1) -> 0 | G39: =SUMIFS('USA Prestige by Season'!H$3:H$2362,'USA Prestige by Season'!$A$3:$A$2362,$A39,'USA Prestige by Season'!$C$3:$C$2362,">="&$B$1,'USA Prestige by Season'!$C$3:$C$2362,"<="&$D$1) -> 0 | H39: =SUMIFS('USA Prestige by Season'!I$3:I$2362,'USA Prestige by Season'!$A$3:$A$2362,$A39,'USA Prestige by Season'!$C$3:$C$2362,">="&$B$1,'USA Prestige by Season'!$C$3:$C$2362,"<="&$D$1) -> 0 | I39: =SUMIFS('USA Prestige by Season'!J$3:J$2362,'USA Prestige by Season'!$A$3:$A$2362,$A39,'USA Prestige by Season'!$C$3:$C$2362,">="&$B$1,'USA Prestige by Season'!$C$3:$C$2362,"<="&$D$1) -> 0 | J39: =SUMIFS('USA Prestige by Season'!K$3:K$2362,'USA Prestige by Season'!$A$3:$A$2362,$A39,'USA Prestige by Season'!$C$3:$C$2362,">="&$B$1,'USA Prestige by Season'!$C$3:$C$2362,"<="&$D$1) -> 0 | ... AL39: =SUMIFS('USA Prestige by Season'!AM$3:AM$2362,'USA Prestige by Season'!$A$3:$A$2362,$A39,'USA Prestige by Season'!$C$3:$C$2362,">="&$B$1,'USA Prestige by Season'!$C$3:$C$2362,"<="&$D$1) -> 0 | AM39: =COUNTIFS('USA Prestige by Season'!$A$3:$A$2362,$A39,'USA Prestige by Season'!$C$3:$C$2362,">="&$B$1,'USA Prestige by Season'!$C$3:$C$2362,"<="&$D$1,'USA Prestige by Season'!$AN$3:$AN$2362,"<>") -> 1 | AN39: =SUMIFS('USA Prestige by Season'!$AO$3:$AO$2362,'USA Prestige by Season'!$A$3:$A$2362,$A39,'USA Prestige by Season'!$C$3:$C$2362,">="&$B$1,'USA Prestige by Season'!$C$3:$C$2362,"<="&$D$1) -> 0 | AO39: =IF(COUNTIFS('USA Prestige by Season'!$A$3:$A$2362,$A39,'USA Prestige by Season'!$C$3:$C$2362,">="&$B$1,'USA Prestige by Season'!$C$3:$C$2362,"<="&$D$1)>0,"Yes","No") -> Yes
A40: Break Away | C40: =SUMIFS('USA Prestige by Season'!D$3:D$2362,'USA Prestige by Season'!$A$3:$A$2362,$A40,'USA Prestige by Season'!$C$3:$C$2362,">="&$B$1,'USA Prestige by Season'!$C$3:$C$2362,"<="&$D$1) -> 0 | D40: =SUMIFS('USA Prestige by Season'!E$3:E$2362,'USA Prestige by Season'!$A$3:$A$2362,$A40,'USA Prestige by Season'!$C$3:$C$2362,">="&$B$1,'USA Prestige by Season'!$C$3:$C$2362,"<="&$D$1) -> 0 | E40: =SUMIFS('USA Prestige by Season'!F$3:F$2362,'USA Prestige by Season'!$A$3:$A$2362,$A40,'USA Prestige by Season'!$C$3:$C$2362,">="&$B$1,'USA Prestige by Season'!$C$3:$C$2362,"<="&$D$1) -> 0 | F40: =SUMIFS('USA Prestige by Season'!G$3:G$2362,'USA Prestige by Season'!$A$3:$A$2362,$A40,'USA Prestige by Season'!$C$3:$C$2362,">="&$B$1,'USA Prestige by Season'!$C$3:$C$2362,"<="&$D$1) -> 0 | G40: =SUMIFS('USA Prestige by Season'!H$3:H$2362,'USA Prestige by Season'!$A$3:$A$2362,$A40,'USA Prestige by Season'!$C$3:$C$2362,">="&$B$1,'USA Prestige by Season'!$C$3:$C$2362,"<="&$D$1) -> 0 | H40: =SUMIFS('USA Prestige by Season'!I$3:I$2362,'USA Prestige by Season'!$A$3:$A$2362,$A40,'USA Prestige by Season'!$C$3:$C$2362,">="&$B$1,'USA Prestige by Season'!$C$3:$C$2362,"<="&$D$1) -> 0 | I40: =SUMIFS('USA Prestige by Season'!J$3:J$2362,'USA Prestige by Season'!$A$3:$A$2362,$A40,'USA Prestige by Season'!$C$3:$C$2362,">="&$B$1,'USA Prestige by Season'!$C$3:$C$2362,"<="&$D$1) -> 0 | J40: =SUMIFS('USA Prestige by Season'!K$3:K$2362,'USA Prestige by Season'!$A$3:$A$2362,$A40,'USA Prestige by Season'!$C$3:$C$2362,">="&$B$1,'USA Prestige by Season'!$C$3:$C$2362,"<="&$D$1) -> 0 | ... AL40: =SUMIFS('USA Prestige by Season'!AM$3:AM$2362,'USA Prestige by Season'!$A$3:$A$2362,$A40,'USA Prestige by Season'!$C$3:$C$2362,">="&$B$1,'USA Prestige by Season'!$C$3:$C$2362,"<="&$D$1) -> 0 | AM40: =COUNTIFS('USA Prestige by Season'!$A$3:$A$2362,$A40,'USA Prestige by Season'!$C$3:$C$2362,">="&$B$1,'USA Prestige by Season'!$C$3:$C$2362,"<="&$D$1,'USA Prestige by Season'!$AN$3:$AN$2362,"<>") -> 1 | AN40: =SUMIFS('USA Prestige by Season'!$AO$3:$AO$2362,'USA Prestige by Season'!$A$3:$A$2362,$A40,'USA Prestige by Season'!$C$3:$C$2362,">="&$B$1,'USA Prestige by Season'!$C$3:$C$2362,"<="&$D$1) -> 0 | AO40: =IF(COUNTIFS('USA Prestige by Season'!$A$3:$A$2362,$A40,'USA Prestige by Season'!$C$3:$C$2362,">="&$B$1,'USA Prestige by Season'!$C$3:$C$2362,"<="&$D$1)>0,"Yes","No") -> Yes
A41: Brookline Paisans | C41: =SUMIFS('USA Prestige by Season'!D$3:D$2362,'USA Prestige by Season'!$A$3:$A$2362,$A41,'USA Prestige by Season'!$C$3:$C$2362,">="&$B$1,'USA Prestige by Season'!$C$3:$C$2362,"<="&$D$1) -> 0 | D41: =SUMIFS('USA Prestige by Season'!E$3:E$2362,'USA Prestige by Season'!$A$3:$A$2362,$A41,'USA Prestige by Season'!$C$3:$C$2362,">="&$B$1,'USA Prestige by Season'!$C$3:$C$2362,"<="&$D$1) -> 0 | E41: =SUMIFS('USA Prestige by Season'!F$3:F$2362,'USA Prestige by Season'!$A$3:$A$2362,$A41,'USA Prestige by Season'!$C$3:$C$2362,">="&$B$1,'USA Prestige by Season'!$C$3:$C$2362,"<="&$D$1) -> 0 | F41: =SUMIFS('USA Prestige by Season'!G$3:G$2362,'USA Prestige by Season'!$A$3:$A$2362,$A41,'USA Prestige by Season'!$C$3:$C$2362,">="&$B$1,'USA Prestige by Season'!$C$3:$C$2362,"<="&$D$1) -> 9 | G41: =SUMIFS('USA Prestige by Season'!H$3:H$2362,'USA Prestige by Season'!$A$3:$A$2362,$A41,'USA Prestige by Season'!$C$3:$C$2362,">="&$B$1,'USA Prestige by Season'!$C$3:$C$2362,"<="&$D$1) -> 10 | H41: =SUMIFS('USA Prestige by Season'!I$3:I$2362,'USA Prestige by Season'!$A$3:$A$2362,$A41,'USA Prestige by Season'!$C$3:$C$2362,">="&$B$1,'USA Prestige by Season'!$C$3:$C$2362,"<="&$D$1) -> 9 | I41: =SUMIFS('USA Prestige by Season'!J$3:J$2362,'USA Prestige by Season'!$A$3:$A$2362,$A41,'USA Prestige by Season'!$C$3:$C$2362,">="&$B$1,'USA Prestige by Season'!$C$3:$C$2362,"<="&$D$1) -> 0 | J41: =SUMIFS('USA Prestige by Season'!K$3:K$2362,'USA Prestige by Season'!$A$3:$A$2362,$A41,'USA Prestige by Season'!$C$3:$C$2362,">="&$B$1,'USA Prestige by Season'!$C$3:$C$2362,"<="&$D$1) -> 0 | ... AL41: =SUMIFS('USA Prestige by Season'!AM$3:AM$2362,'USA Prestige by Season'!$A$3:$A$2362,$A41,'USA Prestige by Season'!$C$3:$C$2362,">="&$B$1,'USA Prestige by Season'!$C$3:$C$2362,"<="&$D$1) -> 0 | AM41: =COUNTIFS('USA Prestige by Season'!$A$3:$A$2362,$A41,'USA Prestige by Season'!$C$3:$C$2362,">="&$B$1,'USA Prestige by Season'!$C$3:$C$2362,"<="&$D$1,'USA Prestige by Season'!$AN$3:$AN$2362,"<>") -> 4 | AN41: =SUMIFS('USA Prestige by Season'!$AO$3:$AO$2362,'USA Prestige by Season'!$A$3:$A$2362,$A41,'USA Prestige by Season'!$C$3:$C$2362,">="&$B$1,'USA Prestige by Season'!$C$3:$C$2362,"<="&$D$1) -> 0 | AO41: =IF(COUNTIFS('USA Prestige by Season'!$A$3:$A$2362,$A41,'USA Prestige by Season'!$C$3:$C$2362,">="&$B$1,'USA Prestige by Season'!$C$3:$C$2362,"<="&$D$1)>0,"Yes","No") -> Yes
A42: Bryant University Track C... | C42: =SUMIFS('USA Prestige by Season'!D$3:D$2362,'USA Prestige by Season'!$A$3:$A$2362,$A42,'USA Prestige by Season'!$C$3:$C$2362,">="&$B$1,'USA Prestige by Season'!$C$3:$C$2362,"<="&$D$1) -> 10 | D42: =SUMIFS('USA Prestige by Season'!E$3:E$2362,'USA Prestige by Season'!$A$3:$A$2362,$A42,'USA Prestige by Season'!$C$3:$C$2362,">="&$B$1,'USA Prestige by Season'!$C$3:$C$2362,"<="&$D$1) -> 19 | E42: =SUMIFS('USA Prestige by Season'!F$3:F$2362,'USA Prestige by Season'!$A$3:$A$2362,$A42,'USA Prestige by Season'!$C$3:$C$2362,">="&$B$1,'USA Prestige by Season'!$C$3:$C$2362,"<="&$D$1) -> 43 | F42: =SUMIFS('USA Prestige by Season'!G$3:G$2362,'USA Prestige by Season'!$A$3:$A$2362,$A42,'USA Prestige by Season'!$C$3:$C$2362,">="&$B$1,'USA Prestige by Season'!$C$3:$C$2362,"<="&$D$1) -> 11 | G42: =SUMIFS('USA Prestige by Season'!H$3:H$2362,'USA Prestige by Season'!$A$3:$A$2362,$A42,'USA Prestige by Season'!$C$3:$C$2362,">="&$B$1,'USA Prestige by Season'!$C$3:$C$2362,"<="&$D$1) -> 9 | H42: =SUMIFS('USA Prestige by Season'!I$3:I$2362,'USA Prestige by Season'!$A$3:$A$2362,$A42,'USA Prestige by Season'!$C$3:$C$2362,">="&$B$1,'USA Prestige by Season'!$C$3:$C$2362,"<="&$D$1) -> 6 | I42: =SUMIFS('USA Prestige by Season'!J$3:J$2362,'USA Prestige by Season'!$A$3:$A$2362,$A42,'USA Prestige by Season'!$C$3:$C$2362,">="&$B$1,'USA Prestige by Season'!$C$3:$C$2362,"<="&$D$1) -> 0 | J42: =SUMIFS('USA Prestige by Season'!K$3:K$2362,'USA Prestige by Season'!$A$3:$A$2362,$A42,'USA Prestige by Season'!$C$3:$C$2362,">="&$B$1,'USA Prestige by Season'!$C$3:$C$2362,"<="&$D$1) -> 0 | ... AL42: =SUMIFS('USA Prestige by Season'!AM$3:AM$2362,'USA Prestige by Season'!$A$3:$A$2362,$A42,'USA Prestige by Season'!$C$3:$C$2362,">="&$B$1,'USA Prestige by Season'!$C$3:$C$2362,"<="&$D$1) -> 0 | AM42: =COUNTIFS('USA Prestige by Season'!$A$3:$A$2362,$A42,'USA Prestige by Season'!$C$3:$C$2362,">="&$B$1,'USA Prestige by Season'!$C$3:$C$2362,"<="&$D$1,'USA Prestige by Season'!$AN$3:$AN$2362,"<>") -> 23 | AN42: =SUMIFS('USA Prestige by Season'!$AO$3:$AO$2362,'USA Prestige by Season'!$A$3:$A$2362,$A42,'USA Prestige by Season'!$C$3:$C$2362,">="&$B$1,'USA Prestige by Season'!$C$3:$C$2362,"<="&$D$1) -> 0 | AO42: =IF(COUNTIFS('USA Prestige by Season'!$A$3:$A$2362,$A42,'USA Prestige by Season'!$C$3:$C$2362,">="&$B$1,'USA Prestige by Season'!$C$3:$C$2362,"<="&$D$1)>0,"Yes","No") -> Yes
A43: Bubba32 | C43: =SUMIFS('USA Prestige by Season'!D$3:D$2362,'USA Prestige by Season'!$A$3:$A$2362,$A43,'USA Prestige by Season'!$C$3:$C$2362,">="&$B$1,'USA Prestige by Season'!$C$3:$C$2362,"<="&$D$1) -> 0 | D43: =SUMIFS('USA Prestige by Season'!E$3:E$2362,'USA Prestige by Season'!$A$3:$A$2362,$A43,'USA Prestige by Season'!$C$3:$C$2362,">="&$B$1,'USA Prestige by Season'!$C$3:$C$2362,"<="&$D$1) -> 0 | E43: =SUMIFS('USA Prestige by Season'!F$3:F$2362,'USA Prestige by Season'!$A$3:$A$2362,$A43,'USA Prestige by Season'!$C$3:$C$2362,">="&$B$1,'USA Prestige by Season'!$C$3:$C$2362,"<="&$D$1) -> 0 | F43: =SUMIFS('USA Prestige by Season'!G$3:G$2362,'USA Prestige by Season'!$A$3:$A$2362,$A43,'USA Prestige by Season'!$C$3:$C$2362,">="&$B$1,'USA Prestige by Season'!$C$3:$C$2362,"<="&$D$1) -> 1 | G43: =SUMIFS('USA Prestige by Season'!H$3:H$2362,'USA Prestige by Season'!$A$3:$A$2362,$A43,'USA Prestige by Season'!$C$3:$C$2362,">="&$B$1,'USA Prestige by Season'!$C$3:$C$2362,"<="&$D$1) -> 0 | H43: =SUMIFS('USA Prestige by Season'!I$3:I$2362,'USA Prestige by Season'!$A$3:$A$2362,$A43,'USA Prestige by Season'!$C$3:$C$2362,">="&$B$1,'USA Prestige by Season'!$C$3:$C$2362,"<="&$D$1) -> 0 | I43: =SUMIFS('USA Prestige by Season'!J$3:J$2362,'USA Prestige by Season'!$A$3:$A$2362,$A43,'USA Prestige by Season'!$C$3:$C$2362,">="&$B$1,'USA Prestige by Season'!$C$3:$C$2362,"<="&$D$1) -> 0 | J43: =SUMIFS('USA Prestige by Season'!K$3:K$2362,'USA Prestige by Season'!$A$3:$A$2362,$A43,'USA Prestige by Season'!$C$3:$C$2362,">="&$B$1,'USA Prestige by Season'!$C$3:$C$2362,"<="&$D$1) -> 0 | ... AL43: =SUMIFS('USA Prestige by Season'!AM$3:AM$2362,'USA Prestige by Season'!$A$3:$A$2362,$A43,'USA Prestige by Season'!$C$3:$C$2362,">="&$B$1,'USA Prestige by Season'!$C$3:$C$2362,"<="&$D$1) -> 0 | AM43: =COUNTIFS('USA Prestige by Season'!$A$3:$A$2362,$A43,'USA Prestige by Season'!$C$3:$C$2362,">="&$B$1,'USA Prestige by Season'!$C$3:$C$2362,"<="&$D$1,'USA Prestige by Season'!$AN$3:$AN$2362,"<>") -> 1 | AN43: =SUMIFS('USA Prestige by Season'!$AO$3:$AO$2362,'USA Prestige by Season'!$A$3:$A$2362,$A43,'USA Prestige by Season'!$C$3:$C$2362,">="&$B$1,'USA Prestige by Season'!$C$3:$C$2362,"<="&$D$1) -> 0 | AO43: =IF(COUNTIFS('USA Prestige by Season'!$A$3:$A$2362,$A43,'USA Prestige by Season'!$C$3:$C$2362,">="&$B$1,'USA Prestige by Season'!$C$3:$C$2362,"<="&$D$1)>0,"Yes","No") -> Yes
... A48: Carta | C48: =SUMIFS('USA Prestige by Season'!D$3:D$2362,'USA Prestige by Season'!$A$3:$A$2362,$A48,'USA Prestige by Season'!$C$3:$C$2362,">="&$B$1,'USA Prestige by Season'!$C$3:$C$2362,"<="&$D$1) -> 0 | D48: =SUMIFS('USA Prestige by Season'!E$3:E$2362,'USA Prestige by Season'!$A$3:$A$2362,$A48,'USA Prestige by Season'!$C$3:$C$2362,">="&$B$1,'USA Prestige by Season'!$C$3:$C$2362,"<="&$D$1) -> 0 | E48: =SUMIFS('USA Prestige by Season'!F$3:F$2362,'USA Prestige by Season'!$A$3:$A$2362,$A48,'USA Prestige by Season'!$C$3:$C$2362,">="&$B$1,'USA Prestige by Season'!$C$3:$C$2362,"<="&$D$1) -> 0 | F48: =SUMIFS('USA Prestige by Season'!G$3:G$2362,'USA Prestige by Season'!$A$3:$A$2362,$A48,'USA Prestige by Season'!$C$3:$C$2362,">="&$B$1,'USA Prestige by Season'!$C$3:$C$2362,"<="&$D$1) -> 0 | G48: =SUMIFS('USA Prestige by Season'!H$3:H$2362,'USA Prestige by Season'!$A$3:$A$2362,$A48,'USA Prestige by Season'!$C$3:$C$2362,">="&$B$1,'USA Prestige by Season'!$C$3:$C$2362,"<="&$D$1) -> 0 | H48: =SUMIFS('USA Prestige by Season'!I$3:I$2362,'USA Prestige by Season'!$A$3:$A$2362,$A48,'USA Prestige by Season'!$C$3:$C$2362,">="&$B$1,'USA Prestige by Season'!$C$3:$C$2362,"<="&$D$1) -> 0 | I48: =SUMIFS('USA Prestige by Season'!J$3:J$2362,'USA Prestige by Season'!$A$3:$A$2362,$A48,'USA Prestige by Season'!$C$3:$C$2362,">="&$B$1,'USA Prestige by Season'!$C$3:$C$2362,"<="&$D$1) -> 0 | J48: =SUMIFS('USA Prestige by Season'!K$3:K$2362,'USA Prestige by Season'!$A$3:$A$2362,$A48,'USA Prestige by Season'!$C$3:$C$2362,">="&$B$1,'USA Prestige by Season'!$C$3:$C$2362,"<="&$D$1) -> 0 | ... AL48: =SUMIFS('USA Prestige by Season'!AM$3:AM$2362,'USA Prestige by Season'!$A$3:$A$2362,$A48,'USA Prestige by Season'!$C$3:$C$2362,">="&$B$1,'USA Prestige by Season'!$C$3:$C$2362,"<="&$D$1) -> 0 | AM48: =COUNTIFS('USA Prestige by Season'!$A$3:$A$2362,$A48,'USA Prestige by Season'!$C$3:$C$2362,">="&$B$1,'USA Prestige by Season'!$C$3:$C$2362,"<="&$D$1,'USA Prestige by Season'!$AN$3:$AN$2362,"<>") -> 1 | AN48: =SUMIFS('USA Prestige by Season'!$AO$3:$AO$2362,'USA Prestige by Season'!$A$3:$A$2362,$A48,'USA Prestige by Season'!$C$3:$C$2362,">="&$B$1,'USA Prestige by Season'!$C$3:$C$2362,"<="&$D$1) -> 0 | AO48: =IF(COUNTIFS('USA Prestige by Season'!$A$3:$A$2362,$A48,'USA Prestige by Season'!$C$3:$C$2362,">="&$B$1,'USA Prestige by Season'!$C$3:$C$2362,"<="&$D$1)>0,"Yes","No") -> Yes
A49: Cascade Track Club | B49: 46589 | C49: =SUMIFS('USA Prestige by Season'!D$3:D$2362,'USA Prestige by Season'!$A$3:$A$2362,$A49,'USA Prestige by Season'!$C$3:$C$2362,">="&$B$1,'USA Prestige by Season'!$C$3:$C$2362,"<="&$D$1) -> 21 | D49: =SUMIFS('USA Prestige by Season'!E$3:E$2362,'USA Prestige by Season'!$A$3:$A$2362,$A49,'USA Prestige by Season'!$C$3:$C$2362,">="&$B$1,'USA Prestige by Season'!$C$3:$C$2362,"<="&$D$1) -> 24 | E49: =SUMIFS('USA Prestige by Season'!F$3:F$2362,'USA Prestige by Season'!$A$3:$A$2362,$A49,'USA Prestige by Season'!$C$3:$C$2362,">="&$B$1,'USA Prestige by Season'!$C$3:$C$2362,"<="&$D$1) -> 33 | F49: =SUMIFS('USA Prestige by Season'!G$3:G$2362,'USA Prestige by Season'!$A$3:$A$2362,$A49,'USA Prestige by Season'!$C$3:$C$2362,">="&$B$1,'USA Prestige by Season'!$C$3:$C$2362,"<="&$D$1) -> 0 | G49: =SUMIFS('USA Prestige by Season'!H$3:H$2362,'USA Prestige by Season'!$A$3:$A$2362,$A49,'USA Prestige by Season'!$C$3:$C$2362,">="&$B$1,'USA Prestige by Season'!$C$3:$C$2362,"<="&$D$1) -> 0 | H49: =SUMIFS('USA Prestige by Season'!I$3:I$2362,'USA Prestige by Season'!$A$3:$A$2362,$A49,'USA Prestige by Season'!$C$3:$C$2362,">="&$B$1,'USA Prestige by Season'!$C$3:$C$2362,"<="&$D$1) -> 0 | I49: =SUMIFS('USA Prestige by Season'!J$3:J$2362,'USA Prestige by Season'!$A$3:$A$2362,$A49,'USA Prestige by Season'!$C$3:$C$2362,">="&$B$1,'USA Prestige by Season'!$C$3:$C$2362,"<="&$D$1) -> 0 | J49: =SUMIFS('USA Prestige by Season'!K$3:K$2362,'USA Prestige by Season'!$A$3:$A$2362,$A49,'USA Prestige by Season'!$C$3:$C$2362,">="&$B$1,'USA Prestige by Season'!$C$3:$C$2362,"<="&$D$1) -> 0 | ... AL49: =SUMIFS('USA Prestige by Season'!AM$3:AM$2362,'USA Prestige by Season'!$A$3:$A$2362,$A49,'USA Prestige by Season'!$C$3:$C$2362,">="&$B$1,'USA Prestige by Season'!$C$3:$C$2362,"<="&$D$1) -> 0 | AM49: =COUNTIFS('USA Prestige by Season'!$A$3:$A$2362,$A49,'USA Prestige by Season'!$C$3:$C$2362,">="&$B$1,'USA Prestige by Season'!$C$3:$C$2362,"<="&$D$1,'USA Prestige by Season'!$AN$3:$AN$2362,"<>") -> 43 | AN49: =SUMIFS('USA Prestige by Season'!$AO$3:$AO$2362,'USA Prestige by Season'!$A$3:$A$2362,$A49,'USA Prestige by Season'!$C$3:$C$2362,">="&$B$1,'USA Prestige by Season'!$C$3:$C$2362,"<="&$D$1) -> 84563 | AO49: =IF(COUNTIFS('USA Prestige by Season'!$A$3:$A$2362,$A49,'USA Prestige by Season'!$C$3:$C$2362,">="&$B$1,'USA Prestige by Season'!$C$3:$C$2362,"<="&$D$1)>0,"Yes","No") -> Yes
A50: Castlewolf Athletics | B50: 49747 | C50: =SUMIFS('USA Prestige by Season'!D$3:D$2362,'USA Prestige by Season'!$A$3:$A$2362,$A50,'USA Prestige by Season'!$C$3:$C$2362,">="&$B$1,'USA Prestige by Season'!$C$3:$C$2362,"<="&$D$1) -> 0 | D50: =SUMIFS('USA Prestige by Season'!E$3:E$2362,'USA Prestige by Season'!$A$3:$A$2362,$A50,'USA Prestige by Season'!$C$3:$C$2362,">="&$B$1,'USA Prestige by Season'!$C$3:$C$2362,"<="&$D$1) -> 0 | E50: =SUMIFS('USA Prestige by Season'!F$3:F$2362,'USA Prestige by Season'!$A$3:$A$2362,$A50,'USA Prestige by Season'!$C$3:$C$2362,">="&$B$1,'USA Prestige by Season'!$C$3:$C$2362,"<="&$D$1) -> 1 | F50: =SUMIFS('USA Prestige by Season'!G$3:G$2362,'USA Prestige by Season'!$A$3:$A$2362,$A50,'USA Prestige by Season'!$C$3:$C$2362,">="&$B$1,'USA Prestige by Season'!$C$3:$C$2362,"<="&$D$1) -> 7 | G50: =SUMIFS('USA Prestige by Season'!H$3:H$2362,'USA Prestige by Season'!$A$3:$A$2362,$A50,'USA Prestige by Season'!$C$3:$C$2362,">="&$B$1,'USA Prestige by Season'!$C$3:$C$2362,"<="&$D$1) -> 27 | H50: =SUMIFS('USA Prestige by Season'!I$3:I$2362,'USA Prestige by Season'!$A$3:$A$2362,$A50,'USA Prestige by Season'!$C$3:$C$2362,">="&$B$1,'USA Prestige by Season'!$C$3:$C$2362,"<="&$D$1) -> 16 | I50: =SUMIFS('USA Prestige by Season'!J$3:J$2362,'USA Prestige by Season'!$A$3:$A$2362,$A50,'USA Prestige by Season'!$C$3:$C$2362,">="&$B$1,'USA Prestige by Season'!$C$3:$C$2362,"<="&$D$1) -> 0 | J50: =SUMIFS('USA Prestige by Season'!K$3:K$2362,'USA Prestige by Season'!$A$3:$A$2362,$A50,'USA Prestige by Season'!$C$3:$C$2362,">="&$B$1,'USA Prestige by Season'!$C$3:$C$2362,"<="&$D$1) -> 0 | ... AL50: =SUMIFS('USA Prestige by Season'!AM$3:AM$2362,'USA Prestige by Season'!$A$3:$A$2362,$A50,'USA Prestige by Season'!$C$3:$C$2362,">="&$B$1,'USA Prestige by Season'!$C$3:$C$2362,"<="&$D$1) -> 0 | AM50: =COUNTIFS('USA Prestige by Season'!$A$3:$A$2362,$A50,'USA Prestige by Season'!$C$3:$C$2362,">="&$B$1,'USA Prestige by Season'!$C$3:$C$2362,"<="&$D$1,'USA Prestige by Season'!$AN$3:$AN$2362,"<>") -> 26 | AN50: =SUMIFS('USA Prestige by Season'!$AO$3:$AO$2362,'USA Prestige by Season'!$A$3:$A$2362,$A50,'USA Prestige by Season'!$C$3:$C$2362,">="&$B$1,'USA Prestige by Season'!$C$3:$C$2362,"<="&$D$1) -> 0 | AO50: =IF(COUNTIFS('USA Prestige by Season'!$A$3:$A$2362,$A50,'USA Prestige by Season'!$C$3:$C$2362,">="&$B$1,'USA Prestige by Season'!$C$3:$C$2362,"<="&$D$1)>0,"Yes","No") -> Yes
A51: Catalunya | C51: =SUMIFS('USA Prestige by Season'!D$3:D$2362,'USA Prestige by Season'!$A$3:$A$2362,$A51,'USA Prestige by Season'!$C$3:$C$2362,">="&$B$1,'USA Prestige by Season'!$C$3:$C$2362,"<="&$D$1) -> 0 | D51: =SUMIFS('USA Prestige by Season'!E$3:E$2362,'USA Prestige by Season'!$A$3:$A$2362,$A51,'USA Prestige by Season'!$C$3:$C$2362,">="&$B$1,'USA Prestige by Season'!$C$3:$C$2362,"<="&$D$1) -> 0 | E51: =SUMIFS('USA Prestige by Season'!F$3:F$2362,'USA Prestige by Season'!$A$3:$A$2362,$A51,'USA Prestige by Season'!$C$3:$C$2362,">="&$B$1,'USA Prestige by Season'!$C$3:$C$2362,"<="&$D$1) -> 1 | F51: =SUMIFS('USA Prestige by Season'!G$3:G$2362,'USA Prestige by Season'!$A$3:$A$2362,$A51,'USA Prestige by Season'!$C$3:$C$2362,">="&$B$1,'USA Prestige by Season'!$C$3:$C$2362,"<="&$D$1) -> 0 | G51: =SUMIFS('USA Prestige by Season'!H$3:H$2362,'USA Prestige by Season'!$A$3:$A$2362,$A51,'USA Prestige by Season'!$C$3:$C$2362,">="&$B$1,'USA Prestige by Season'!$C$3:$C$2362,"<="&$D$1) -> 0 | H51: =SUMIFS('USA Prestige by Season'!I$3:I$2362,'USA Prestige by Season'!$A$3:$A$2362,$A51,'USA Prestige by Season'!$C$3:$C$2362,">="&$B$1,'USA Prestige by Season'!$C$3:$C$2362,"<="&$D$1) -> 0 | I51: =SUMIFS('USA Prestige by Season'!J$3:J$2362,'USA Prestige by Season'!$A$3:$A$2362,$A51,'USA Prestige by Season'!$C$3:$C$2362,">="&$B$1,'USA Prestige by Season'!$C$3:$C$2362,"<="&$D$1) -> 0 | J51: =SUMIFS('USA Prestige by Season'!K$3:K$2362,'USA Prestige by Season'!$A$3:$A$2362,$A51,'USA Prestige by Season'!$C$3:$C$2362,">="&$B$1,'USA Prestige by Season'!$C$3:$C$2362,"<="&$D$1) -> 0 | ... AL51: =SUMIFS('USA Prestige by Season'!AM$3:AM$2362,'USA Prestige by Season'!$A$3:$A$2362,$A51,'USA Prestige by Season'!$C$3:$C$2362,">="&$B$1,'USA Prestige by Season'!$C$3:$C$2362,"<="&$D$1) -> 0 | AM51: =COUNTIFS('USA Prestige by Season'!$A$3:$A$2362,$A51,'USA Prestige by Season'!$C$3:$C$2362,">="&$B$1,'USA Prestige by Season'!$C$3:$C$2362,"<="&$D$1,'USA Prestige by Season'!$AN$3:$AN$2362,"<>") -> 2 | AN51: =SUMIFS('USA Prestige by Season'!$AO$3:$AO$2362,'USA Prestige by Season'!$A$3:$A$2362,$A51,'USA Prestige by Season'!$C$3:$C$2362,">="&$B$1,'USA Prestige by Season'!$C$3:$C$2362,"<="&$D$1) -> 0 | AO51: =IF(COUNTIFS('USA Prestige by Season'!$A$3:$A$2362,$A51,'USA Prestige by Season'!$C$3:$C$2362,">="&$B$1,'USA Prestige by Season'!$C$3:$C$2362,"<="&$D$1)>0,"Yes","No") -> Yes
A52: CatchMe | C52: =SUMIFS('USA Prestige by Season'!D$3:D$2362,'USA Prestige by Season'!$A$3:$A$2362,$A52,'USA Prestige by Season'!$C$3:$C$2362,">="&$B$1,'USA Prestige by Season'!$C$3:$C$2362,"<="&$D$1) -> 0 | D52: =SUMIFS('USA Prestige by Season'!E$3:E$2362,'USA Prestige by Season'!$A$3:$A$2362,$A52,'USA Prestige by Season'!$C$3:$C$2362,">="&$B$1,'USA Prestige by Season'!$C$3:$C$2362,"<="&$D$1) -> 0 | E52: =SUMIFS('USA Prestige by Season'!F$3:F$2362,'USA Prestige by Season'!$A$3:$A$2362,$A52,'USA Prestige by Season'!$C$3:$C$2362,">="&$B$1,'USA Prestige by Season'!$C$3:$C$2362,"<="&$D$1) -> 0 | F52: =SUMIFS('USA Prestige by Season'!G$3:G$2362,'USA Prestige by Season'!$A$3:$A$2362,$A52,'USA Prestige by Season'!$C$3:$C$2362,">="&$B$1,'USA Prestige by Season'!$C$3:$C$2362,"<="&$D$1) -> 0 | G52: =SUMIFS('USA Prestige by Season'!H$3:H$2362,'USA Prestige by Season'!$A$3:$A$2362,$A52,'USA Prestige by Season'!$C$3:$C$2362,">="&$B$1,'USA Prestige by Season'!$C$3:$C$2362,"<="&$D$1) -> 0 | H52: =SUMIFS('USA Prestige by Season'!I$3:I$2362,'USA Prestige by Season'!$A$3:$A$2362,$A52,'USA Prestige by Season'!$C$3:$C$2362,">="&$B$1,'USA Prestige by Season'!$C$3:$C$2362,"<="&$D$1) -> 1 | I52: =SUMIFS('USA Prestige by Season'!J$3:J$2362,'USA Prestige by Season'!$A$3:$A$2362,$A52,'USA Prestige by Season'!$C$3:$C$2362,">="&$B$1,'USA Prestige by Season'!$C$3:$C$2362,"<="&$D$1) -> 0 | J52: =SUMIFS('USA Prestige by Season'!K$3:K$2362,'USA Prestige by Season'!$A$3:$A$2362,$A52,'USA Prestige by Season'!$C$3:$C$2362,">="&$B$1,'USA Prestige by Season'!$C$3:$C$2362,"<="&$D$1) -> 0 | ... AL52: =SUMIFS('USA Prestige by Season'!AM$3:AM$2362,'USA Prestige by Season'!$A$3:$A$2362,$A52,'USA Prestige by Season'!$C$3:$C$2362,">="&$B$1,'USA Prestige by Season'!$C$3:$C$2362,"<="&$D$1) -> 0 | AM52: =COUNTIFS('USA Prestige by Season'!$A$3:$A$2362,$A52,'USA Prestige by Season'!$C$3:$C$2362,">="&$B$1,'USA Prestige by Season'!$C$3:$C$2362,"<="&$D$1,'USA Prestige by Season'!$AN$3:$AN$2362,"<>") -> 2 | AN52: =SUMIFS('USA Prestige by Season'!$AO$3:$AO$2362,'USA Prestige by Season'!$A$3:$A$2362,$A52,'USA Prestige by Season'!$C$3:$C$2362,">="&$B$1,'USA Prestige by Season'!$C$3:$C$2362,"<="&$D$1) -> 0 | AO52: =IF(COUNTIFS('USA Prestige by Season'!$A$3:$A$2362,$A52,'USA Prestige by Season'!$C$3:$C$2362,">="&$B$1,'USA Prestige by Season'!$C$3:$C$2362,"<="&$D$1)>0,"Yes","No") -> Yes
A53: Chautauqua Striders | B53: 15521 | C53: =SUMIFS('USA Prestige by Season'!D$3:D$2362,'USA Prestige by Season'!$A$3:$A$2362,$A53,'USA Prestige by Season'!$C$3:$C$2362,">="&$B$1,'USA Prestige by Season'!$C$3:$C$2362,"<="&$D$1) -> 165 | D53: =SUMIFS('USA Prestige by Season'!E$3:E$2362,'USA Prestige by Season'!$A$3:$A$2362,$A53,'USA Prestige by Season'!$C$3:$C$2362,">="&$B$1,'USA Prestige by Season'!$C$3:$C$2362,"<="&$D$1) -> 177 | E53: =SUMIFS('USA Prestige by Season'!F$3:F$2362,'USA Prestige by Season'!$A$3:$A$2362,$A53,'USA Prestige by Season'!$C$3:$C$2362,">="&$B$1,'USA Prestige by Season'!$C$3:$C$2362,"<="&$D$1) -> 141 | F53: =SUMIFS('USA Prestige by Season'!G$3:G$2362,'USA Prestige by Season'!$A$3:$A$2362,$A53,'USA Prestige by Season'!$C$3:$C$2362,">="&$B$1,'USA Prestige by Season'!$C$3:$C$2362,"<="&$D$1) -> 2 | G53: =SUMIFS('USA Prestige by Season'!H$3:H$2362,'USA Prestige by Season'!$A$3:$A$2362,$A53,'USA Prestige by Season'!$C$3:$C$2362,">="&$B$1,'USA Prestige by Season'!$C$3:$C$2362,"<="&$D$1) -> 3 | H53: =SUMIFS('USA Prestige by Season'!I$3:I$2362,'USA Prestige by Season'!$A$3:$A$2362,$A53,'USA Prestige by Season'!$C$3:$C$2362,">="&$B$1,'USA Prestige by Season'!$C$3:$C$2362,"<="&$D$1) -> 1 | I53: =SUMIFS('USA Prestige by Season'!J$3:J$2362,'USA Prestige by Season'!$A$3:$A$2362,$A53,'USA Prestige by Season'!$C$3:$C$2362,">="&$B$1,'USA Prestige by Season'!$C$3:$C$2362,"<="&$D$1) -> 1 | J53: =SUMIFS('USA Prestige by Season'!K$3:K$2362,'USA Prestige by Season'!$A$3:$A$2362,$A53,'USA Prestige by Season'!$C$3:$C$2362,">="&$B$1,'USA Prestige by Season'!$C$3:$C$2362,"<="&$D$1) -> 0 | ... AL53: =SUMIFS('USA Prestige by Season'!AM$3:AM$2362,'USA Prestige by Season'!$A$3:$A$2362,$A53,'USA Prestige by Season'!$C$3:$C$2362,">="&$B$1,'USA Prestige by Season'!$C$3:$C$2362,"<="&$D$1) -> 14 | AM53: =COUNTIFS('USA Prestige by Season'!$A$3:$A$2362,$A53,'USA Prestige by Season'!$C$3:$C$2362,">="&$B$1,'USA Prestige by Season'!$C$3:$C$2362,"<="&$D$1,'USA Prestige by Season'!$AN$3:$AN$2362,"<>") -> 47 | AN53: =SUMIFS('USA Prestige by Season'!$AO$3:$AO$2362,'USA Prestige by Season'!$A$3:$A$2362,$A53,'USA Prestige by Season'!$C$3:$C$2362,">="&$B$1,'USA Prestige by Season'!$C$3:$C$2362,"<="&$D$1) -> 310451 | AO53: =IF(COUNTIFS('USA Prestige by Season'!$A$3:$A$2362,$A53,'USA Prestige by Season'!$C$3:$C$2362,">="&$B$1,'USA Prestige by Season'!$C$3:$C$2362,"<="&$D$1)>0,"Yes","No") -> Yes
A54: Chesapeake Chargers | C54: =SUMIFS('USA Prestige by Season'!D$3:D$2362,'USA Prestige by Season'!$A$3:$A$2362,$A54,'USA Prestige by Season'!$C$3:$C$2362,">="&$B$1,'USA Prestige by Season'!$C$3:$C$2362,"<="&$D$1) -> 3 | D54: =SUMIFS('USA Prestige by Season'!E$3:E$2362,'USA Prestige by Season'!$A$3:$A$2362,$A54,'USA Prestige by Season'!$C$3:$C$2362,">="&$B$1,'USA Prestige by Season'!$C$3:$C$2362,"<="&$D$1) -> 2 | E54: =SUMIFS('USA Prestige by Season'!F$3:F$2362,'USA Prestige by Season'!$A$3:$A$2362,$A54,'USA Prestige by Season'!$C$3:$C$2362,">="&$B$1,'USA Prestige by Season'!$C$3:$C$2362,"<="&$D$1) -> 1 | F54: =SUMIFS('USA Prestige by Season'!G$3:G$2362,'USA Prestige by Season'!$A$3:$A$2362,$A54,'USA Prestige by Season'!$C$3:$C$2362,">="&$B$1,'USA Prestige by Season'!$C$3:$C$2362,"<="&$D$1) -> 0 | G54: =SUMIFS('USA Prestige by Season'!H$3:H$2362,'USA Prestige by Season'!$A$3:$A$2362,$A54,'USA Prestige by Season'!$C$3:$C$2362,">="&$B$1,'USA Prestige by Season'!$C$3:$C$2362,"<="&$D$1) -> 0 | H54: =SUMIFS('USA Prestige by Season'!I$3:I$2362,'USA Prestige by Season'!$A$3:$A$2362,$A54,'USA Prestige by Season'!$C$3:$C$2362,">="&$B$1,'USA Prestige by Season'!$C$3:$C$2362,"<="&$D$1) -> 0 | I54: =SUMIFS('USA Prestige by Season'!J$3:J$2362,'USA Prestige by Season'!$A$3:$A$2362,$A54,'USA Prestige by Season'!$C$3:$C$2362,">="&$B$1,'USA Prestige by Season'!$C$3:$C$2362,"<="&$D$1) -> 0 | J54: =SUMIFS('USA Prestige by Season'!K$3:K$2362,'USA Prestige by Season'!$A$3:$A$2362,$A54,'USA Prestige by Season'!$C$3:$C$2362,">="&$B$1,'USA Prestige by Season'!$C$3:$C$2362,"<="&$D$1) -> 0 | ... AL54: =SUMIFS('USA Prestige by Season'!AM$3:AM$2362,'USA Prestige by Season'!$A$3:$A$2362,$A54,'USA Prestige by Season'!$C$3:$C$2362,">="&$B$1,'USA Prestige by Season'!$C$3:$C$2362,"<="&$D$1) -> 0 | AM54: =COUNTIFS('USA Prestige by Season'!$A$3:$A$2362,$A54,'USA Prestige by Season'!$C$3:$C$2362,">="&$B$1,'USA Prestige by Season'!$C$3:$C$2362,"<="&$D$1,'USA Prestige by Season'!$AN$3:$AN$2362,"<>") -> 1 | AN54: =SUMIFS('USA Prestige by Season'!$AO$3:$AO$2362,'USA Prestige by Season'!$A$3:$A$2362,$A54,'USA Prestige by Season'!$C$3:$C$2362,">="&$B$1,'USA Prestige by Season'!$C$3:$C$2362,"<="&$D$1) -> 0 | AO54: =IF(COUNTIFS('USA Prestige by Season'!$A$3:$A$2362,$A54,'USA Prestige by Season'!$C$3:$C$2362,">="&$B$1,'USA Prestige by Season'!$C$3:$C$2362,"<="&$D$1)>0,"Yes","No") -> Yes
A55: Cincinnati TC | C55: =SUMIFS('USA Prestige by Season'!D$3:D$2362,'USA Prestige by Season'!$A$3:$A$2362,$A55,'USA Prestige by Season'!$C$3:$C$2362,">="&$B$1,'USA Prestige by Season'!$C$3:$C$2362,"<="&$D$1) -> 0 | D55: =SUMIFS('USA Prestige by Season'!E$3:E$2362,'USA Prestige by Season'!$A$3:$A$2362,$A55,'USA Prestige by Season'!$C$3:$C$2362,">="&$B$1,'USA Prestige by Season'!$C$3:$C$2362,"<="&$D$1) -> 0 | E55: =SUMIFS('USA Prestige by Season'!F$3:F$2362,'USA Prestige by Season'!$A$3:$A$2362,$A55,'USA Prestige by Season'!$C$3:$C$2362,">="&$B$1,'USA Prestige by Season'!$C$3:$C$2362,"<="&$D$1) -> 0 | F55: =SUMIFS('USA Prestige by Season'!G$3:G$2362,'USA Prestige by Season'!$A$3:$A$2362,$A55,'USA Prestige by Season'!$C$3:$C$2362,">="&$B$1,'USA Prestige by Season'!$C$3:$C$2362,"<="&$D$1) -> 6 | G55: =SUMIFS('USA Prestige by Season'!H$3:H$2362,'USA Prestige by Season'!$A$3:$A$2362,$A55,'USA Prestige by Season'!$C$3:$C$2362,">="&$B$1,'USA Prestige by Season'!$C$3:$C$2362,"<="&$D$1) -> 11 | H55: =SUMIFS('USA Prestige by Season'!I$3:I$2362,'USA Prestige by Season'!$A$3:$A$2362,$A55,'USA Prestige by Season'!$C$3:$C$2362,">="&$B$1,'USA Prestige by Season'!$C$3:$C$2362,"<="&$D$1) -> 4 | I55: =SUMIFS('USA Prestige by Season'!J$3:J$2362,'USA Prestige by Season'!$A$3:$A$2362,$A55,'USA Prestige by Season'!$C$3:$C$2362,">="&$B$1,'USA Prestige by Season'!$C$3:$C$2362,"<="&$D$1) -> 0 | J55: =SUMIFS('USA Prestige by Season'!K$3:K$2362,'USA Prestige by Season'!$A$3:$A$2362,$A55,'USA Prestige by Season'!$C$3:$C$2362,">="&$B$1,'USA Prestige by Season'!$C$3:$C$2362,"<="&$D$1) -> 0 | ... AL55: =SUMIFS('USA Prestige by Season'!AM$3:AM$2362,'USA Prestige by Season'!$A$3:$A$2362,$A55,'USA Prestige by Season'!$C$3:$C$2362,">="&$B$1,'USA Prestige by Season'!$C$3:$C$2362,"<="&$D$1) -> 0 | AM55: =COUNTIFS('USA Prestige by Season'!$A$3:$A$2362,$A55,'USA Prestige by Season'!$C$3:$C$2362,">="&$B$1,'USA Prestige by Season'!$C$3:$C$2362,"<="&$D$1,'USA Prestige by Season'!$AN$3:$AN$2362,"<>") -> 9 | AN55: =SUMIFS('USA Prestige by Season'!$AO$3:$AO$2362,'USA Prestige by Season'!$A$3:$A$2362,$A55,'USA Prestige by Season'!$C$3:$C$2362,">="&$B$1,'USA Prestige by Season'!$C$3:$C$2362,"<="&$D$1) -> 0 | AO55: =IF(COUNTIFS('USA Prestige by Season'!$A$3:$A$2362,$A55,'USA Prestige by Season'!$C$3:$C$2362,">="&$B$1,'USA Prestige by Season'!$C$3:$C$2362,"<="&$D$1)>0,"Yes","No") -> Yes
A56: Cincinnati Track Club | B56: 105405 | C56: =SUMIFS('USA Prestige by Season'!D$3:D$2362,'USA Prestige by Season'!$A$3:$A$2362,$A56,'USA Prestige by Season'!$C$3:$C$2362,">="&$B$1,'USA Prestige by Season'!$C$3:$C$2362,"<="&$D$1) -> 0 | D56: =SUMIFS('USA Prestige by Season'!E$3:E$2362,'USA Prestige by Season'!$A$3:$A$2362,$A56,'USA Prestige by Season'!$C$3:$C$2362,">="&$B$1,'USA Prestige by Season'!$C$3:$C$2362,"<="&$D$1) -> 0 | E56: =SUMIFS('USA Prestige by Season'!F$3:F$2362,'USA Prestige by Season'!$A$3:$A$2362,$A56,'USA Prestige by Season'!$C$3:$C$2362,">="&$B$1,'USA Prestige by Season'!$C$3:$C$2362,"<="&$D$1) -> 0 | F56: =SUMIFS('USA Prestige by Season'!G$3:G$2362,'USA Prestige by Season'!$A$3:$A$2362,$A56,'USA Prestige by Season'!$C$3:$C$2362,">="&$B$1,'USA Prestige by Season'!$C$3:$C$2362,"<="&$D$1) -> 0 | G56: =SUMIFS('USA Prestige by Season'!H$3:H$2362,'USA Prestige by Season'!$A$3:$A$2362,$A56,'USA Prestige by Season'!$C$3:$C$2362,">="&$B$1,'USA Prestige by Season'!$C$3:$C$2362,"<="&$D$1) -> 0 | H56: =SUMIFS('USA Prestige by Season'!I$3:I$2362,'USA Prestige by Season'!$A$3:$A$2362,$A56,'USA Prestige by Season'!$C$3:$C$2362,">="&$B$1,'USA Prestige by Season'!$C$3:$C$2362,"<="&$D$1) -> 0 | I56: =SUMIFS('USA Prestige by Season'!J$3:J$2362,'USA Prestige by Season'!$A$3:$A$2362,$A56,'USA Prestige by Season'!$C$3:$C$2362,">="&$B$1,'USA Prestige by Season'!$C$3:$C$2362,"<="&$D$1) -> 0 | J56: =SUMIFS('USA Prestige by Season'!K$3:K$2362,'USA Prestige by Season'!$A$3:$A$2362,$A56,'USA Prestige by Season'!$C$3:$C$2362,">="&$B$1,'USA Prestige by Season'!$C$3:$C$2362,"<="&$D$1) -> 0 | ... AL56: =SUMIFS('USA Prestige by Season'!AM$3:AM$2362,'USA Prestige by Season'!$A$3:$A$2362,$A56,'USA Prestige by Season'!$C$3:$C$2362,">="&$B$1,'USA Prestige by Season'!$C$3:$C$2362,"<="&$D$1) -> 0 | AM56: =COUNTIFS('USA Prestige by Season'!$A$3:$A$2362,$A56,'USA Prestige by Season'!$C$3:$C$2362,">="&$B$1,'USA Prestige by Season'!$C$3:$C$2362,"<="&$D$1,'USA Prestige by Season'!$AN$3:$AN$2362,"<>") -> 1 | AN56: =SUMIFS('USA Prestige by Season'!$AO$3:$AO$2362,'USA Prestige by Season'!$A$3:$A$2362,$A56,'USA Prestige by Season'!$C$3:$C$2362,">="&$B$1,'USA Prestige by Season'!$C$3:$C$2362,"<="&$D$1) -> 0 | AO56: =IF(COUNTIFS('USA Prestige by Season'!$A$3:$A$2362,$A56,'USA Prestige by Season'!$C$3:$C$2362,">="&$B$1,'USA Prestige by Season'!$C$3:$C$2362,"<="&$D$1)>0,"Yes","No") -> Yes
A57: Club Monica Athletics | C57: =SUMIFS('USA Prestige by Season'!D$3:D$2362,'USA Prestige by Season'!$A$3:$A$2362,$A57,'USA Prestige by Season'!$C$3:$C$2362,">="&$B$1,'USA Prestige by Season'!$C$3:$C$2362,"<="&$D$1) -> 0 | D57: =SUMIFS('USA Prestige by Season'!E$3:E$2362,'USA Prestige by Season'!$A$3:$A$2362,$A57,'USA Prestige by Season'!$C$3:$C$2362,">="&$B$1,'USA Prestige by Season'!$C$3:$C$2362,"<="&$D$1) -> 1 | E57: =SUMIFS('USA Prestige by Season'!F$3:F$2362,'USA Prestige by Season'!$A$3:$A$2362,$A57,'USA Prestige by Season'!$C$3:$C$2362,">="&$B$1,'USA Prestige by Season'!$C$3:$C$2362,"<="&$D$1) -> 1 | F57: =SUMIFS('USA Prestige by Season'!G$3:G$2362,'USA Prestige by Season'!$A$3:$A$2362,$A57,'USA Prestige by Season'!$C$3:$C$2362,">="&$B$1,'USA Prestige by Season'!$C$3:$C$2362,"<="&$D$1) -> 0 | G57: =SUMIFS('USA Prestige by Season'!H$3:H$2362,'USA Prestige by Season'!$A$3:$A$2362,$A57,'USA Prestige by Season'!$C$3:$C$2362,">="&$B$1,'USA Prestige by Season'!$C$3:$C$2362,"<="&$D$1) -> 0 | H57: =SUMIFS('USA Prestige by Season'!I$3:I$2362,'USA Prestige by Season'!$A$3:$A$2362,$A57,'USA Prestige by Season'!$C$3:$C$2362,">="&$B$1,'USA Prestige by Season'!$C$3:$C$2362,"<="&$D$1) -> 0 | I57: =SUMIFS('USA Prestige by Season'!J$3:J$2362,'USA Prestige by Season'!$A$3:$A$2362,$A57,'USA Prestige by Season'!$C$3:$C$2362,">="&$B$1,'USA Prestige by Season'!$C$3:$C$2362,"<="&$D$1) -> 0 | J57: =SUMIFS('USA Prestige by Season'!K$3:K$2362,'USA Prestige by Season'!$A$3:$A$2362,$A57,'USA Prestige by Season'!$C$3:$C$2362,">="&$B$1,'USA Prestige by Season'!$C$3:$C$2362,"<="&$D$1) -> 0 | ... AL57: =SUMIFS('USA Prestige by Season'!AM$3:AM$2362,'USA Prestige by Season'!$A$3:$A$2362,$A57,'USA Prestige by Season'!$C$3:$C$2362,">="&$B$1,'USA Prestige by Season'!$C$3:$C$2362,"<="&$D$1) -> 0 | AM57: =COUNTIFS('USA Prestige by Season'!$A$3:$A$2362,$A57,'USA Prestige by Season'!$C$3:$C$2362,">="&$B$1,'USA Prestige by Season'!$C$3:$C$2362,"<="&$D$1,'USA Prestige by Season'!$AN$3:$AN$2362,"<>") -> 1 | AN57: =SUMIFS('USA Prestige by Season'!$AO$3:$AO$2362,'USA Prestige by Season'!$A$3:$A$2362,$A57,'USA Prestige by Season'!$C$3:$C$2362,">="&$B$1,'USA Prestige by Season'!$C$3:$C$2362,"<="&$D$1) -> 0 | AO57: =IF(COUNTIFS('USA Prestige by Season'!$A$3:$A$2362,$A57,'USA Prestige by Season'!$C$3:$C$2362,">="&$B$1,'USA Prestige by Season'!$C$3:$C$2362,"<="&$D$1)>0,"Yes","No") -> Yes
A58: Coho TC | B58: 96156 | C58: =SUMIFS('USA Prestige by Season'!D$3:D$2362,'USA Prestige by Season'!$A$3:$A$2362,$A58,'USA Prestige by Season'!$C$3:$C$2362,">="&$B$1,'USA Prestige by Season'!$C$3:$C$2362,"<="&$D$1) -> 4 | D58: =SUMIFS('USA Prestige by Season'!E$3:E$2362,'USA Prestige by Season'!$A$3:$A$2362,$A58,'USA Prestige by Season'!$C$3:$C$2362,">="&$B$1,'USA Prestige by Season'!$C$3:$C$2362,"<="&$D$1) -> 7 | E58: =SUMIFS('USA Prestige by Season'!F$3:F$2362,'USA Prestige by Season'!$A$3:$A$2362,$A58,'USA Prestige by Season'!$C$3:$C$2362,">="&$B$1,'USA Prestige by Season'!$C$3:$C$2362,"<="&$D$1) -> 10 | F58: =SUMIFS('USA Prestige by Season'!G$3:G$2362,'USA Prestige by Season'!$A$3:$A$2362,$A58,'USA Prestige by Season'!$C$3:$C$2362,">="&$B$1,'USA Prestige by Season'!$C$3:$C$2362,"<="&$D$1) -> 0 | G58: =SUMIFS('USA Prestige by Season'!H$3:H$2362,'USA Prestige by Season'!$A$3:$A$2362,$A58,'USA Prestige by Season'!$C$3:$C$2362,">="&$B$1,'USA Prestige by Season'!$C$3:$C$2362,"<="&$D$1) -> 0 | H58: =SUMIFS('USA Prestige by Season'!I$3:I$2362,'USA Prestige by Season'!$A$3:$A$2362,$A58,'USA Prestige by Season'!$C$3:$C$2362,">="&$B$1,'USA Prestige by Season'!$C$3:$C$2362,"<="&$D$1) -> 0 | I58: =SUMIFS('USA Prestige by Season'!J$3:J$2362,'USA Prestige by Season'!$A$3:$A$2362,$A58,'USA Prestige by Season'!$C$3:$C$2362,">="&$B$1,'USA Prestige by Season'!$C$3:$C$2362,"<="&$D$1) -> 0 | J58: =SUMIFS('USA Prestige by Season'!K$3:K$2362,'USA Prestige by Season'!$A$3:$A$2362,$A58,'USA Prestige by Season'!$C$3:$C$2362,">="&$B$1,'USA Prestige by Season'!$C$3:$C$2362,"<="&$D$1) -> 0 | ... AL58: =SUMIFS('USA Prestige by Season'!AM$3:AM$2362,'USA Prestige by Season'!$A$3:$A$2362,$A58,'USA Prestige by Season'!$C$3:$C$2362,">="&$B$1,'USA Prestige by Season'!$C$3:$C$2362,"<="&$D$1) -> 0 | AM58: =COUNTIFS('USA Prestige by Season'!$A$3:$A$2362,$A58,'USA Prestige by Season'!$C$3:$C$2362,">="&$B$1,'USA Prestige by Season'!$C$3:$C$2362,"<="&$D$1,'USA Prestige by Season'!$AN$3:$AN$2362,"<>") -> 11 | AN58: =SUMIFS('USA Prestige by Season'!$AO$3:$AO$2362,'USA Prestige by Season'!$A$3:$A$2362,$A58,'USA Prestige by Season'!$C$3:$C$2362,">="&$B$1,'USA Prestige by Season'!$C$3:$C$2362,"<="&$D$1) -> 0 | AO58: =IF(COUNTIFS('USA Prestige by Season'!$A$3:$A$2362,$A58,'USA Prestige by Season'!$C$3:$C$2362,">="&$B$1,'USA Prestige by Season'!$C$3:$C$2362,"<="&$D$1)>0,"Yes","No") -> Yes
A59: Colorado Mines | C59: =SUMIFS('USA Prestige by Season'!D$3:D$2362,'USA Prestige by Season'!$A$3:$A$2362,$A59,'USA Prestige by Season'!$C$3:$C$2362,">="&$B$1,'USA Prestige by Season'!$C$3:$C$2362,"<="&$D$1) -> 0 | D59: =SUMIFS('USA Prestige by Season'!E$3:E$2362,'USA Prestige by Season'!$A$3:$A$2362,$A59,'USA Prestige by Season'!$C$3:$C$2362,">="&$B$1,'USA Prestige by Season'!$C$3:$C$2362,"<="&$D$1) -> 0 | E59: =SUMIFS('USA Prestige by Season'!F$3:F$2362,'USA Prestige by Season'!$A$3:$A$2362,$A59,'USA Prestige by Season'!$C$3:$C$2362,">="&$B$1,'USA Prestige by Season'!$C$3:$C$2362,"<="&$D$1) -> 0 | F59: =SUMIFS('USA Prestige by Season'!G$3:G$2362,'USA Prestige by Season'!$A$3:$A$2362,$A59,'USA Prestige by Season'!$C$3:$C$2362,">="&$B$1,'USA Prestige by Season'!$C$3:$C$2362,"<="&$D$1) -> 1 | G59: =SUMIFS('USA Prestige by Season'!H$3:H$2362,'USA Prestige by Season'!$A$3:$A$2362,$A59,'USA Prestige by Season'!$C$3:$C$2362,">="&$B$1,'USA Prestige by Season'!$C$3:$C$2362,"<="&$D$1) -> 0 | H59: =SUMIFS('USA Prestige by Season'!I$3:I$2362,'USA Prestige by Season'!$A$3:$A$2362,$A59,'USA Prestige by Season'!$C$3:$C$2362,">="&$B$1,'USA Prestige by Season'!$C$3:$C$2362,"<="&$D$1) -> 0 | I59: =SUMIFS('USA Prestige by Season'!J$3:J$2362,'USA Prestige by Season'!$A$3:$A$2362,$A59,'USA Prestige by Season'!$C$3:$C$2362,">="&$B$1,'USA Prestige by Season'!$C$3:$C$2362,"<="&$D$1) -> 0 | J59: =SUMIFS('USA Prestige by Season'!K$3:K$2362,'USA Prestige by Season'!$A$3:$A$2362,$A59,'USA Prestige by Season'!$C$3:$C$2362,">="&$B$1,'USA Prestige by Season'!$C$3:$C$2362,"<="&$D$1) -> 0 | ... AL59: =SUMIFS('USA Prestige by Season'!AM$3:AM$2362,'USA Prestige by Season'!$A$3:$A$2362,$A59,'USA Prestige by Season'!$C$3:$C$2362,">="&$B$1,'USA Prestige by Season'!$C$3:$C$2362,"<="&$D$1) -> 0 | AM59: =COUNTIFS('USA Prestige by Season'!$A$3:$A$2362,$A59,'USA Prestige by Season'!$C$3:$C$2362,">="&$B$1,'USA Prestige by Season'!$C$3:$C$2362,"<="&$D$1,'USA Prestige by Season'!$AN$3:$AN$2362,"<>") -> 2 | AN59: =SUMIFS('USA Prestige by Season'!$AO$3:$AO$2362,'USA Prestige by Season'!$A$3:$A$2362,$A59,'USA Prestige by Season'!$C$3:$C$2362,">="&$B$1,'USA Prestige by Season'!$C$3:$C$2362,"<="&$D$1) -> 0 | AO59: =IF(COUNTIFS('USA Prestige by Season'!$A$3:$A$2362,$A59,'USA Prestige by Season'!$C$3:$C$2362,">="&$B$1,'USA Prestige by Season'!$C$3:$C$2362,"<="&$D$1)>0,"Yes","No") -> Yes
A60: Columbia Striders | C60: =SUMIFS('USA Prestige by Season'!D$3:D$2362,'USA Prestige by Season'!$A$3:$A$2362,$A60,'USA Prestige by Season'!$C$3:$C$2362,">="&$B$1,'USA Prestige by Season'!$C$3:$C$2362,"<="&$D$1) -> 8 | D60: =SUMIFS('USA Prestige by Season'!E$3:E$2362,'USA Prestige by Season'!$A$3:$A$2362,$A60,'USA Prestige by Season'!$C$3:$C$2362,">="&$B$1,'USA Prestige by Season'!$C$3:$C$2362,"<="&$D$1) -> 11 | E60: =SUMIFS('USA Prestige by Season'!F$3:F$2362,'USA Prestige by Season'!$A$3:$A$2362,$A60,'USA Prestige by Season'!$C$3:$C$2362,">="&$B$1,'USA Prestige by Season'!$C$3:$C$2362,"<="&$D$1) -> 19 | F60: =SUMIFS('USA Prestige by Season'!G$3:G$2362,'USA Prestige by Season'!$A$3:$A$2362,$A60,'USA Prestige by Season'!$C$3:$C$2362,">="&$B$1,'USA Prestige by Season'!$C$3:$C$2362,"<="&$D$1) -> 0 | G60: =SUMIFS('USA Prestige by Season'!H$3:H$2362,'USA Prestige by Season'!$A$3:$A$2362,$A60,'USA Prestige by Season'!$C$3:$C$2362,">="&$B$1,'USA Prestige by Season'!$C$3:$C$2362,"<="&$D$1) -> 0 | H60: =SUMIFS('USA Prestige by Season'!I$3:I$2362,'USA Prestige by Season'!$A$3:$A$2362,$A60,'USA Prestige by Season'!$C$3:$C$2362,">="&$B$1,'USA Prestige by Season'!$C$3:$C$2362,"<="&$D$1) -> 0 | I60: =SUMIFS('USA Prestige by Season'!J$3:J$2362,'USA Prestige by Season'!$A$3:$A$2362,$A60,'USA Prestige by Season'!$C$3:$C$2362,">="&$B$1,'USA Prestige by Season'!$C$3:$C$2362,"<="&$D$1) -> 0 | J60: =SUMIFS('USA Prestige by Season'!K$3:K$2362,'USA Prestige by Season'!$A$3:$A$2362,$A60,'USA Prestige by Season'!$C$3:$C$2362,">="&$B$1,'USA Prestige by Season'!$C$3:$C$2362,"<="&$D$1) -> 0 | ... AL60: =SUMIFS('USA Prestige by Season'!AM$3:AM$2362,'USA Prestige by Season'!$A$3:$A$2362,$A60,'USA Prestige by Season'!$C$3:$C$2362,">="&$B$1,'USA Prestige by Season'!$C$3:$C$2362,"<="&$D$1) -> 0 | AM60: =COUNTIFS('USA Prestige by Season'!$A$3:$A$2362,$A60,'USA Prestige by Season'!$C$3:$C$2362,">="&$B$1,'USA Prestige by Season'!$C$3:$C$2362,"<="&$D$1,'USA Prestige by Season'!$AN$3:$AN$2362,"<>") -> 9 | AN60: =SUMIFS('USA Prestige by Season'!$AO$3:$AO$2362,'USA Prestige by Season'!$A$3:$A$2362,$A60,'USA Prestige by Season'!$C$3:$C$2362,">="&$B$1,'USA Prestige by Season'!$C$3:$C$2362,"<="&$D$1) -> 0 | AO60: =IF(COUNTIFS('USA Prestige by Season'!$A$3:$A$2362,$A60,'USA Prestige by Season'!$C$3:$C$2362,">="&$B$1,'USA Prestige by Season'!$C$3:$C$2362,"<="&$D$1)>0,"Yes","No") -> Yes
A61: Connecticut Racing Club | C61: =SUMIFS('USA Prestige by Season'!D$3:D$2362,'USA Prestige by Season'!$A$3:$A$2362,$A61,'USA Prestige by Season'!$C$3:$C$2362,">="&$B$1,'USA Prestige by Season'!$C$3:$C$2362,"<="&$D$1) -> 3 | D61: =SUMIFS('USA Prestige by Season'!E$3:E$2362,'USA Prestige by Season'!$A$3:$A$2362,$A61,'USA Prestige by Season'!$C$3:$C$2362,">="&$B$1,'USA Prestige by Season'!$C$3:$C$2362,"<="&$D$1) -> 5 | E61: =SUMIFS('USA Prestige by Season'!F$3:F$2362,'USA Prestige by Season'!$A$3:$A$2362,$A61,'USA Prestige by Season'!$C$3:$C$2362,">="&$B$1,'USA Prestige by Season'!$C$3:$C$2362,"<="&$D$1) -> 11 | F61: =SUMIFS('USA Prestige by Season'!G$3:G$2362,'USA Prestige by Season'!$A$3:$A$2362,$A61,'USA Prestige by Season'!$C$3:$C$2362,">="&$B$1,'USA Prestige by Season'!$C$3:$C$2362,"<="&$D$1) -> 43 | G61: =SUMIFS('USA Prestige by Season'!H$3:H$2362,'USA Prestige by Season'!$A$3:$A$2362,$A61,'USA Prestige by Season'!$C$3:$C$2362,">="&$B$1,'USA Prestige by Season'!$C$3:$C$2362,"<="&$D$1) -> 33 | H61: =SUMIFS('USA Prestige by Season'!I$3:I$2362,'USA Prestige by Season'!$A$3:$A$2362,$A61,'USA Prestige by Season'!$C$3:$C$2362,">="&$B$1,'USA Prestige by Season'!$C$3:$C$2362,"<="&$D$1) -> 16 | I61: =SUMIFS('USA Prestige by Season'!J$3:J$2362,'USA Prestige by Season'!$A$3:$A$2362,$A61,'USA Prestige by Season'!$C$3:$C$2362,">="&$B$1,'USA Prestige by Season'!$C$3:$C$2362,"<="&$D$1) -> 0 | J61: =SUMIFS('USA Prestige by Season'!K$3:K$2362,'USA Prestige by Season'!$A$3:$A$2362,$A61,'USA Prestige by Season'!$C$3:$C$2362,">="&$B$1,'USA Prestige by Season'!$C$3:$C$2362,"<="&$D$1) -> 0 | ... AL61: =SUMIFS('USA Prestige by Season'!AM$3:AM$2362,'USA Prestige by Season'!$A$3:$A$2362,$A61,'USA Prestige by Season'!$C$3:$C$2362,">="&$B$1,'USA Prestige by Season'!$C$3:$C$2362,"<="&$D$1) -> 0 | AM61: =COUNTIFS('USA Prestige by Season'!$A$3:$A$2362,$A61,'USA Prestige by Season'!$C$3:$C$2362,">="&$B$1,'USA Prestige by Season'!$C$3:$C$2362,"<="&$D$1,'USA Prestige by Season'!$AN$3:$AN$2362,"<>") -> 30 | AN61: =SUMIFS('USA Prestige by Season'!$AO$3:$AO$2362,'USA Prestige by Season'!$A$3:$A$2362,$A61,'USA Prestige by Season'!$C$3:$C$2362,">="&$B$1,'USA Prestige by Season'!$C$3:$C$2362,"<="&$D$1) -> 0 | AO61: =IF(COUNTIFS('USA Prestige by Season'!$A$3:$A$2362,$A61,'USA Prestige by Season'!$C$3:$C$2362,">="&$B$1,'USA Prestige by Season'!$C$3:$C$2362,"<="&$D$1)>0,"Yes","No") -> Yes
A62: Cool Beans | C62: =SUMIFS('USA Prestige by Season'!D$3:D$2362,'USA Prestige by Season'!$A$3:$A$2362,$A62,'USA Prestige by Season'!$C$3:$C$2362,">="&$B$1,'USA Prestige by Season'!$C$3:$C$2362,"<="&$D$1) -> 1 | D62: =SUMIFS('USA Prestige by Season'!E$3:E$2362,'USA Prestige by Season'!$A$3:$A$2362,$A62,'USA Prestige by Season'!$C$3:$C$2362,">="&$B$1,'USA Prestige by Season'!$C$3:$C$2362,"<="&$D$1) -> 0 | E62: =SUMIFS('USA Prestige by Season'!F$3:F$2362,'USA Prestige by Season'!$A$3:$A$2362,$A62,'USA Prestige by Season'!$C$3:$C$2362,">="&$B$1,'USA Prestige by Season'!$C$3:$C$2362,"<="&$D$1) -> 1 | F62: =SUMIFS('USA Prestige by Season'!G$3:G$2362,'USA Prestige by Season'!$A$3:$A$2362,$A62,'USA Prestige by Season'!$C$3:$C$2362,">="&$B$1,'USA Prestige by Season'!$C$3:$C$2362,"<="&$D$1) -> 7 | G62: =SUMIFS('USA Prestige by Season'!H$3:H$2362,'USA Prestige by Season'!$A$3:$A$2362,$A62,'USA Prestige by Season'!$C$3:$C$2362,">="&$B$1,'USA Prestige by Season'!$C$3:$C$2362,"<="&$D$1) -> 11 | H62: =SUMIFS('USA Prestige by Season'!I$3:I$2362,'USA Prestige by Season'!$A$3:$A$2362,$A62,'USA Prestige by Season'!$C$3:$C$2362,">="&$B$1,'USA Prestige by Season'!$C$3:$C$2362,"<="&$D$1) -> 5 | I62: =SUMIFS('USA Prestige by Season'!J$3:J$2362,'USA Prestige by Season'!$A$3:$A$2362,$A62,'USA Prestige by Season'!$C$3:$C$2362,">="&$B$1,'USA Prestige by Season'!$C$3:$C$2362,"<="&$D$1) -> 0 | J62: =SUMIFS('USA Prestige by Season'!K$3:K$2362,'USA Prestige by Season'!$A$3:$A$2362,$A62,'USA Prestige by Season'!$C$3:$C$2362,">="&$B$1,'USA Prestige by Season'!$C$3:$C$2362,"<="&$D$1) -> 0 | ... AL62: =SUMIFS('USA Prestige by Season'!AM$3:AM$2362,'USA Prestige by Season'!$A$3:$A$2362,$A62,'USA Prestige by Season'!$C$3:$C$2362,">="&$B$1,'USA Prestige by Season'!$C$3:$C$2362,"<="&$D$1) -> 0 | AM62: =COUNTIFS('USA Prestige by Season'!$A$3:$A$2362,$A62,'USA Prestige by Season'!$C$3:$C$2362,">="&$B$1,'USA Prestige by Season'!$C$3:$C$2362,"<="&$D$1,'USA Prestige by Season'!$AN$3:$AN$2362,"<>") -> 11 | AN62: =SUMIFS('USA Prestige by Season'!$AO$3:$AO$2362,'USA Prestige by Season'!$A$3:$A$2362,$A62,'USA Prestige by Season'!$C$3:$C$2362,">="&$B$1,'USA Prestige by Season'!$C$3:$C$2362,"<="&$D$1) -> 0 | AO62: =IF(COUNTIFS('USA Prestige by Season'!$A$3:$A$2362,$A62,'USA Prestige by Season'!$C$3:$C$2362,">="&$B$1,'USA Prestige by Season'!$C$3:$C$2362,"<="&$D$1)>0,"Yes","No") -> Yes
A63: Cool Breeze | C63: =SUMIFS('USA Prestige by Season'!D$3:D$2362,'USA Prestige by Season'!$A$3:$A$2362,$A63,'USA Prestige by Season'!$C$3:$C$2362,">="&$B$1,'USA Prestige by Season'!$C$3:$C$2362,"<="&$D$1) -> 6 | D63: =SUMIFS('USA Prestige by Season'!E$3:E$2362,'USA Prestige by Season'!$A$3:$A$2362,$A63,'USA Prestige by Season'!$C$3:$C$2362,">="&$B$1,'USA Prestige by Season'!$C$3:$C$2362,"<="&$D$1) -> 7 | E63: =SUMIFS('USA Prestige by Season'!F$3:F$2362,'USA Prestige by Season'!$A$3:$A$2362,$A63,'USA Prestige by Season'!$C$3:$C$2362,">="&$B$1,'USA Prestige by Season'!$C$3:$C$2362,"<="&$D$1) -> 14 | F63: =SUMIFS('USA Prestige by Season'!G$3:G$2362,'USA Prestige by Season'!$A$3:$A$2362,$A63,'USA Prestige by Season'!$C$3:$C$2362,">="&$B$1,'USA Prestige by Season'!$C$3:$C$2362,"<="&$D$1) -> 0 | G63: =SUMIFS('USA Prestige by Season'!H$3:H$2362,'USA Prestige by Season'!$A$3:$A$2362,$A63,'USA Prestige by Season'!$C$3:$C$2362,">="&$B$1,'USA Prestige by Season'!$C$3:$C$2362,"<="&$D$1) -> 1 | H63: =SUMIFS('USA Prestige by Season'!I$3:I$2362,'USA Prestige by Season'!$A$3:$A$2362,$A63,'USA Prestige by Season'!$C$3:$C$2362,">="&$B$1,'USA Prestige by Season'!$C$3:$C$2362,"<="&$D$1) -> 0 | I63: =SUMIFS('USA Prestige by Season'!J$3:J$2362,'USA Prestige by Season'!$A$3:$A$2362,$A63,'USA Prestige by Season'!$C$3:$C$2362,">="&$B$1,'USA Prestige by Season'!$C$3:$C$2362,"<="&$D$1) -> 0 | J63: =SUMIFS('USA Prestige by Season'!K$3:K$2362,'USA Prestige by Season'!$A$3:$A$2362,$A63,'USA Prestige by Season'!$C$3:$C$2362,">="&$B$1,'USA Prestige by Season'!$C$3:$C$2362,"<="&$D$1) -> 0 | ... AL63: =SUMIFS('USA Prestige by Season'!AM$3:AM$2362,'USA Prestige by Season'!$A$3:$A$2362,$A63,'USA Prestige by Season'!$C$3:$C$2362,">="&$B$1,'USA Prestige by Season'!$C$3:$C$2362,"<="&$D$1) -> 0 | AM63: =COUNTIFS('USA Prestige by Season'!$A$3:$A$2362,$A63,'USA Prestige by Season'!$C$3:$C$2362,">="&$B$1,'USA Prestige by Season'!$C$3:$C$2362,"<="&$D$1,'USA Prestige by Season'!$AN$3:$AN$2362,"<>") -> 11 | AN63: =SUMIFS('USA Prestige by Season'!$AO$3:$AO$2362,'USA Prestige by Season'!$A$3:$A$2362,$A63,'USA Prestige by Season'!$C$3:$C$2362,">="&$B$1,'USA Prestige by Season'!$C$3:$C$2362,"<="&$D$1) -> 0 | AO63: =IF(COUNTIFS('USA Prestige by Season'!$A$3:$A$2362,$A63,'USA Prestige by Season'!$C$3:$C$2362,">="&$B$1,'USA Prestige by Season'!$C$3:$C$2362,"<="&$D$1)>0,"Yes","No") -> Yes
A64: Cows Track Club | B64: 92473 | C64: =SUMIFS('USA Prestige by Season'!D$3:D$2362,'USA Prestige by Season'!$A$3:$A$2362,$A64,'USA Prestige by Season'!$C$3:$C$2362,">="&$B$1,'USA Prestige by Season'!$C$3:$C$2362,"<="&$D$1) -> 0 | D64: =SUMIFS('USA Prestige by Season'!E$3:E$2362,'USA Prestige by Season'!$A$3:$A$2362,$A64,'USA Prestige by Season'!$C$3:$C$2362,">="&$B$1,'USA Prestige by Season'!$C$3:$C$2362,"<="&$D$1) -> 3 | E64: =SUMIFS('USA Prestige by Season'!F$3:F$2362,'USA Prestige by Season'!$A$3:$A$2362,$A64,'USA Prestige by Season'!$C$3:$C$2362,">="&$B$1,'USA Prestige by Season'!$C$3:$C$2362,"<="&$D$1) -> 4 | F64: =SUMIFS('USA Prestige by Season'!G$3:G$2362,'USA Prestige by Season'!$A$3:$A$2362,$A64,'USA Prestige by Season'!$C$3:$C$2362,">="&$B$1,'USA Prestige by Season'!$C$3:$C$2362,"<="&$D$1) -> 18 | G64: =SUMIFS('USA Prestige by Season'!H$3:H$2362,'USA Prestige by Season'!$A$3:$A$2362,$A64,'USA Prestige by Season'!$C$3:$C$2362,">="&$B$1,'USA Prestige by Season'!$C$3:$C$2362,"<="&$D$1) -> 19 | H64: =SUMIFS('USA Prestige by Season'!I$3:I$2362,'USA Prestige by Season'!$A$3:$A$2362,$A64,'USA Prestige by Season'!$C$3:$C$2362,">="&$B$1,'USA Prestige by Season'!$C$3:$C$2362,"<="&$D$1) -> 9 | I64: =SUMIFS('USA Prestige by Season'!J$3:J$2362,'USA Prestige by Season'!$A$3:$A$2362,$A64,'USA Prestige by Season'!$C$3:$C$2362,">="&$B$1,'USA Prestige by Season'!$C$3:$C$2362,"<="&$D$1) -> 0 | J64: =SUMIFS('USA Prestige by Season'!K$3:K$2362,'USA Prestige by Season'!$A$3:$A$2362,$A64,'USA Prestige by Season'!$C$3:$C$2362,">="&$B$1,'USA Prestige by Season'!$C$3:$C$2362,"<="&$D$1) -> 0 | ... AL64: =SUMIFS('USA Prestige by Season'!AM$3:AM$2362,'USA Prestige by Season'!$A$3:$A$2362,$A64,'USA Prestige by Season'!$C$3:$C$2362,">="&$B$1,'USA Prestige by Season'!$C$3:$C$2362,"<="&$D$1) -> 0 | AM64: =COUNTIFS('USA Prestige by Season'!$A$3:$A$2362,$A64,'USA Prestige by Season'!$C$3:$C$2362,">="&$B$1,'USA Prestige by Season'!$C$3:$C$2362,"<="&$D$1,'USA Prestige by Season'!$AN$3:$AN$2362,"<>") -> 12 | AN64: =SUMIFS('USA Prestige by Season'!$AO$3:$AO$2362,'USA Prestige by Season'!$A$3:$A$2362,$A64,'USA Prestige by Season'!$C$3:$C$2362,">="&$B$1,'USA Prestige by Season'!$C$3:$C$2362,"<="&$D$1) -> 0 | AO64: =IF(COUNTIFS('USA Prestige by Season'!$A$3:$A$2362,$A64,'USA Prestige by Season'!$C$3:$C$2362,">="&$B$1,'USA Prestige by Season'!$C$3:$C$2362,"<="&$D$1)>0,"Yes","No") -> Yes
A65: Crimson Kings | C65: =SUMIFS('USA Prestige by Season'!D$3:D$2362,'USA Prestige by Season'!$A$3:$A$2362,$A65,'USA Prestige by Season'!$C$3:$C$2362,">="&$B$1,'USA Prestige by Season'!$C$3:$C$2362,"<="&$D$1) -> 1 | D65: =SUMIFS('USA Prestige by Season'!E$3:E$2362,'USA Prestige by Season'!$A$3:$A$2362,$A65,'USA Prestige by Season'!$C$3:$C$2362,">="&$B$1,'USA Prestige by Season'!$C$3:$C$2362,"<="&$D$1) -> 4 | E65: =SUMIFS('USA Prestige by Season'!F$3:F$2362,'USA Prestige by Season'!$A$3:$A$2362,$A65,'USA Prestige by Season'!$C$3:$C$2362,">="&$B$1,'USA Prestige by Season'!$C$3:$C$2362,"<="&$D$1) -> 5 | F65: =SUMIFS('USA Prestige by Season'!G$3:G$2362,'USA Prestige by Season'!$A$3:$A$2362,$A65,'USA Prestige by Season'!$C$3:$C$2362,">="&$B$1,'USA Prestige by Season'!$C$3:$C$2362,"<="&$D$1) -> 0 | G65: =SUMIFS('USA Prestige by Season'!H$3:H$2362,'USA Prestige by Season'!$A$3:$A$2362,$A65,'USA Prestige by Season'!$C$3:$C$2362,">="&$B$1,'USA Prestige by Season'!$C$3:$C$2362,"<="&$D$1) -> 0 | H65: =SUMIFS('USA Prestige by Season'!I$3:I$2362,'USA Prestige by Season'!$A$3:$A$2362,$A65,'USA Prestige by Season'!$C$3:$C$2362,">="&$B$1,'USA Prestige by Season'!$C$3:$C$2362,"<="&$D$1) -> 0 | I65: =SUMIFS('USA Prestige by Season'!J$3:J$2362,'USA Prestige by Season'!$A$3:$A$2362,$A65,'USA Prestige by Season'!$C$3:$C$2362,">="&$B$1,'USA Prestige by Season'!$C$3:$C$2362,"<="&$D$1) -> 0 | J65: =SUMIFS('USA Prestige by Season'!K$3:K$2362,'USA Prestige by Season'!$A$3:$A$2362,$A65,'USA Prestige by Season'!$C$3:$C$2362,">="&$B$1,'USA Prestige by Season'!$C$3:$C$2362,"<="&$D$1) -> 0 | ... AL65: =SUMIFS('USA Prestige by Season'!AM$3:AM$2362,'USA Prestige by Season'!$A$3:$A$2362,$A65,'USA Prestige by Season'!$C$3:$C$2362,">="&$B$1,'USA Prestige by Season'!$C$3:$C$2362,"<="&$D$1) -> 0 | AM65: =COUNTIFS('USA Prestige by Season'!$A$3:$A$2362,$A65,'USA Prestige by Season'!$C$3:$C$2362,">="&$B$1,'USA Prestige by Season'!$C$3:$C$2362,"<="&$D$1,'USA Prestige by Season'!$AN$3:$AN$2362,"<>") -> 5 | AN65: =SUMIFS('USA Prestige by Season'!$AO$3:$AO$2362,'USA Prestige by Season'!$A$3:$A$2362,$A65,'USA Prestige by Season'!$C$3:$C$2362,">="&$B$1,'USA Prestige by Season'!$C$3:$C$2362,"<="&$D$1) -> 0 | AO65: =IF(COUNTIFS('USA Prestige by Season'!$A$3:$A$2362,$A65,'USA Prestige by Season'!$C$3:$C$2362,">="&$B$1,'USA Prestige by Season'!$C$3:$C$2362,"<="&$D$1)>0,"Yes","No") -> Yes
A66: Dashing Dogs | C66: =SUMIFS('USA Prestige by Season'!D$3:D$2362,'USA Prestige by Season'!$A$3:$A$2362,$A66,'USA Prestige by Season'!$C$3:$C$2362,">="&$B$1,'USA Prestige by Season'!$C$3:$C$2362,"<="&$D$1) -> 0 | D66: =SUMIFS('USA Prestige by Season'!E$3:E$2362,'USA Prestige by Season'!$A$3:$A$2362,$A66,'USA Prestige by Season'!$C$3:$C$2362,">="&$B$1,'USA Prestige by Season'!$C$3:$C$2362,"<="&$D$1) -> 0 | E66: =SUMIFS('USA Prestige by Season'!F$3:F$2362,'USA Prestige by Season'!$A$3:$A$2362,$A66,'USA Prestige by Season'!$C$3:$C$2362,">="&$B$1,'USA Prestige by Season'!$C$3:$C$2362,"<="&$D$1) -> 1 | F66: =SUMIFS('USA Prestige by Season'!G$3:G$2362,'USA Prestige by Season'!$A$3:$A$2362,$A66,'USA Prestige by Season'!$C$3:$C$2362,">="&$B$1,'USA Prestige by Season'!$C$3:$C$2362,"<="&$D$1) -> 0 | G66: =SUMIFS('USA Prestige by Season'!H$3:H$2362,'USA Prestige by Season'!$A$3:$A$2362,$A66,'USA Prestige by Season'!$C$3:$C$2362,">="&$B$1,'USA Prestige by Season'!$C$3:$C$2362,"<="&$D$1) -> 0 | H66: =SUMIFS('USA Prestige by Season'!I$3:I$2362,'USA Prestige by Season'!$A$3:$A$2362,$A66,'USA Prestige by Season'!$C$3:$C$2362,">="&$B$1,'USA Prestige by Season'!$C$3:$C$2362,"<="&$D$1) -> 0 | I66: =SUMIFS('USA Prestige by Season'!J$3:J$2362,'USA Prestige by Season'!$A$3:$A$2362,$A66,'USA Prestige by Season'!$C$3:$C$2362,">="&$B$1,'USA Prestige by Season'!$C$3:$C$2362,"<="&$D$1) -> 0 | J66: =SUMIFS('USA Prestige by Season'!K$3:K$2362,'USA Prestige by Season'!$A$3:$A$2362,$A66,'USA Prestige by Season'!$C$3:$C$2362,">="&$B$1,'USA Prestige by Season'!$C$3:$C$2362,"<="&$D$1) -> 0 | ... AL66: =SUMIFS('USA Prestige by Season'!AM$3:AM$2362,'USA Prestige by Season'!$A$3:$A$2362,$A66,'USA Prestige by Season'!$C$3:$C$2362,">="&$B$1,'USA Prestige by Season'!$C$3:$C$2362,"<="&$D$1) -> 0 | AM66: =COUNTIFS('USA Prestige by Season'!$A$3:$A$2362,$A66,'USA Prestige by Season'!$C$3:$C$2362,">="&$B$1,'USA Prestige by Season'!$C$3:$C$2362,"<="&$D$1,'USA Prestige by Season'!$AN$3:$AN$2362,"<>") -> 4 | AN66: =SUMIFS('USA Prestige by Season'!$AO$3:$AO$2362,'USA Prestige by Season'!$A$3:$A$2362,$A66,'USA Prestige by Season'!$C$3:$C$2362,">="&$B$1,'USA Prestige by Season'!$C$3:$C$2362,"<="&$D$1) -> 0 | AO66: =IF(COUNTIFS('USA Prestige by Season'!$A$3:$A$2362,$A66,'USA Prestige by Season'!$C$3:$C$2362,">="&$B$1,'USA Prestige by Season'!$C$3:$C$2362,"<="&$D$1)>0,"Yes","No") -> Yes
A67: Delta Nu | C67: =SUMIFS('USA Prestige by Season'!D$3:D$2362,'USA Prestige by Season'!$A$3:$A$2362,$A67,'USA Prestige by Season'!$C$3:$C$2362,">="&$B$1,'USA Prestige by Season'!$C$3:$C$2362,"<="&$D$1) -> 0 | D67: =SUMIFS('USA Prestige by Season'!E$3:E$2362,'USA Prestige by Season'!$A$3:$A$2362,$A67,'USA Prestige by Season'!$C$3:$C$2362,">="&$B$1,'USA Prestige by Season'!$C$3:$C$2362,"<="&$D$1) -> 0 | E67: =SUMIFS('USA Prestige by Season'!F$3:F$2362,'USA Prestige by Season'!$A$3:$A$2362,$A67,'USA Prestige by Season'!$C$3:$C$2362,">="&$B$1,'USA Prestige by Season'!$C$3:$C$2362,"<="&$D$1) -> 0 | F67: =SUMIFS('USA Prestige by Season'!G$3:G$2362,'USA Prestige by Season'!$A$3:$A$2362,$A67,'USA Prestige by Season'!$C$3:$C$2362,">="&$B$1,'USA Prestige by Season'!$C$3:$C$2362,"<="&$D$1) -> 0 | G67: =SUMIFS('USA Prestige by Season'!H$3:H$2362,'USA Prestige by Season'!$A$3:$A$2362,$A67,'USA Prestige by Season'!$C$3:$C$2362,">="&$B$1,'USA Prestige by Season'!$C$3:$C$2362,"<="&$D$1) -> 0 | H67: =SUMIFS('USA Prestige by Season'!I$3:I$2362,'USA Prestige by Season'!$A$3:$A$2362,$A67,'USA Prestige by Season'!$C$3:$C$2362,">="&$B$1,'USA Prestige by Season'!$C$3:$C$2362,"<="&$D$1) -> 0 | I67: =SUMIFS('USA Prestige by Season'!J$3:J$2362,'USA Prestige by Season'!$A$3:$A$2362,$A67,'USA Prestige by Season'!$C$3:$C$2362,">="&$B$1,'USA Prestige by Season'!$C$3:$C$2362,"<="&$D$1) -> 0 | J67: =SUMIFS('USA Prestige by Season'!K$3:K$2362,'USA Prestige by Season'!$A$3:$A$2362,$A67,'USA Prestige by Season'!$C$3:$C$2362,">="&$B$1,'USA Prestige by Season'!$C$3:$C$2362,"<="&$D$1) -> 0 | ... AL67: =SUMIFS('USA Prestige by Season'!AM$3:AM$2362,'USA Prestige by Season'!$A$3:$A$2362,$A67,'USA Prestige by Season'!$C$3:$C$2362,">="&$B$1,'USA Prestige by Season'!$C$3:$C$2362,"<="&$D$1) -> 0 | AM67: =COUNTIFS('USA Prestige by Season'!$A$3:$A$2362,$A67,'USA Prestige by Season'!$C$3:$C$2362,">="&$B$1,'USA Prestige by Season'!$C$3:$C$2362,"<="&$D$1,'USA Prestige by Season'!$AN$3:$AN$2362,"<>") -> 1 | AN67: =SUMIFS('USA Prestige by Season'!$AO$3:$AO$2362,'USA Prestige by Season'!$A$3:$A$2362,$A67,'USA Prestige by Season'!$C$3:$C$2362,">="&$B$1,'USA Prestige by Season'!$C$3:$C$2362,"<="&$D$1) -> 0 | AO67: =IF(COUNTIFS('USA Prestige by Season'!$A$3:$A$2362,$A67,'USA Prestige by Season'!$C$3:$C$2362,">="&$B$1,'USA Prestige by Season'!$C$3:$C$2362,"<="&$D$1)>0,"Yes","No") -> Yes
A68: Delta track club | C68: =SUMIFS('USA Prestige by Season'!D$3:D$2362,'USA Prestige by Season'!$A$3:$A$2362,$A68,'USA Prestige by Season'!$C$3:$C$2362,">="&$B$1,'USA Prestige by Season'!$C$3:$C$2362,"<="&$D$1) -> 0 | D68: =SUMIFS('USA Prestige by Season'!E$3:E$2362,'USA Prestige by Season'!$A$3:$A$2362,$A68,'USA Prestige by Season'!$C$3:$C$2362,">="&$B$1,'USA Prestige by Season'!$C$3:$C$2362,"<="&$D$1) -> 0 | E68: =SUMIFS('USA Prestige by Season'!F$3:F$2362,'USA Prestige by Season'!$A$3:$A$2362,$A68,'USA Prestige by Season'!$C$3:$C$2362,">="&$B$1,'USA Prestige by Season'!$C$3:$C$2362,"<="&$D$1) -> 0 | F68: =SUMIFS('USA Prestige by Season'!G$3:G$2362,'USA Prestige by Season'!$A$3:$A$2362,$A68,'USA Prestige by Season'!$C$3:$C$2362,">="&$B$1,'USA Prestige by Season'!$C$3:$C$2362,"<="&$D$1) -> 3 | G68: =SUMIFS('USA Prestige by Season'!H$3:H$2362,'USA Prestige by Season'!$A$3:$A$2362,$A68,'USA Prestige by Season'!$C$3:$C$2362,">="&$B$1,'USA Prestige by Season'!$C$3:$C$2362,"<="&$D$1) -> 0 | H68: =SUMIFS('USA Prestige by Season'!I$3:I$2362,'USA Prestige by Season'!$A$3:$A$2362,$A68,'USA Prestige by Season'!$C$3:$C$2362,">="&$B$1,'USA Prestige by Season'!$C$3:$C$2362,"<="&$D$1) -> 0 | I68: =SUMIFS('USA Prestige by Season'!J$3:J$2362,'USA Prestige by Season'!$A$3:$A$2362,$A68,'USA Prestige by Season'!$C$3:$C$2362,">="&$B$1,'USA Prestige by Season'!$C$3:$C$2362,"<="&$D$1) -> 0 | J68: =SUMIFS('USA Prestige by Season'!K$3:K$2362,'USA Prestige by Season'!$A$3:$A$2362,$A68,'USA Prestige by Season'!$C$3:$C$2362,">="&$B$1,'USA Prestige by Season'!$C$3:$C$2362,"<="&$D$1) -> 0 | ... AL68: =SUMIFS('USA Prestige by Season'!AM$3:AM$2362,'USA Prestige by Season'!$A$3:$A$2362,$A68,'USA Prestige by Season'!$C$3:$C$2362,">="&$B$1,'USA Prestige by Season'!$C$3:$C$2362,"<="&$D$1) -> 0 | AM68: =COUNTIFS('USA Prestige by Season'!$A$3:$A$2362,$A68,'USA Prestige by Season'!$C$3:$C$2362,">="&$B$1,'USA Prestige by Season'!$C$3:$C$2362,"<="&$D$1,'USA Prestige by Season'!$AN$3:$AN$2362,"<>") -> 1 | AN68: =SUMIFS('USA Prestige by Season'!$AO$3:$AO$2362,'USA Prestige by Season'!$A$3:$A$2362,$A68,'USA Prestige by Season'!$C$3:$C$2362,">="&$B$1,'USA Prestige by Season'!$C$3:$C$2362,"<="&$D$1) -> 0 | AO68: =IF(COUNTIFS('USA Prestige by Season'!$A$3:$A$2362,$A68,'USA Prestige by Season'!$C$3:$C$2362,">="&$B$1,'USA Prestige by Season'!$C$3:$C$2362,"<="&$D$1)>0,"Yes","No") -> Yes
A69: demonwarriors | C69: =SUMIFS('USA Prestige by Season'!D$3:D$2362,'USA Prestige by Season'!$A$3:$A$2362,$A69,'USA Prestige by Season'!$C$3:$C$2362,">="&$B$1,'USA Prestige by Season'!$C$3:$C$2362,"<="&$D$1) -> 0 | D69: =SUMIFS('USA Prestige by Season'!E$3:E$2362,'USA Prestige by Season'!$A$3:$A$2362,$A69,'USA Prestige by Season'!$C$3:$C$2362,">="&$B$1,'USA Prestige by Season'!$C$3:$C$2362,"<="&$D$1) -> 1 | E69: =SUMIFS('USA Prestige by Season'!F$3:F$2362,'USA Prestige by Season'!$A$3:$A$2362,$A69,'USA Prestige by Season'!$C$3:$C$2362,">="&$B$1,'USA Prestige by Season'!$C$3:$C$2362,"<="&$D$1) -> 0 | F69: =SUMIFS('USA Prestige by Season'!G$3:G$2362,'USA Prestige by Season'!$A$3:$A$2362,$A69,'USA Prestige by Season'!$C$3:$C$2362,">="&$B$1,'USA Prestige by Season'!$C$3:$C$2362,"<="&$D$1) -> 0 | G69: =SUMIFS('USA Prestige by Season'!H$3:H$2362,'USA Prestige by Season'!$A$3:$A$2362,$A69,'USA Prestige by Season'!$C$3:$C$2362,">="&$B$1,'USA Prestige by Season'!$C$3:$C$2362,"<="&$D$1) -> 0 | H69: =SUMIFS('USA Prestige by Season'!I$3:I$2362,'USA Prestige by Season'!$A$3:$A$2362,$A69,'USA Prestige by Season'!$C$3:$C$2362,">="&$B$1,'USA Prestige by Season'!$C$3:$C$2362,"<="&$D$1) -> 0 | I69: =SUMIFS('USA Prestige by Season'!J$3:J$2362,'USA Prestige by Season'!$A$3:$A$2362,$A69,'USA Prestige by Season'!$C$3:$C$2362,">="&$B$1,'USA Prestige by Season'!$C$3:$C$2362,"<="&$D$1) -> 0 | J69: =SUMIFS('USA Prestige by Season'!K$3:K$2362,'USA Prestige by Season'!$A$3:$A$2362,$A69,'USA Prestige by Season'!$C$3:$C$2362,">="&$B$1,'USA Prestige by Season'!$C$3:$C$2362,"<="&$D$1) -> 0 | ... AL69: =SUMIFS('USA Prestige by Season'!AM$3:AM$2362,'USA Prestige by Season'!$A$3:$A$2362,$A69,'USA Prestige by Season'!$C$3:$C$2362,">="&$B$1,'USA Prestige by Season'!$C$3:$C$2362,"<="&$D$1) -> 0 | AM69: =COUNTIFS('USA Prestige by Season'!$A$3:$A$2362,$A69,'USA Prestige by Season'!$C$3:$C$2362,">="&$B$1,'USA Prestige by Season'!$C$3:$C$2362,"<="&$D$1,'USA Prestige by Season'!$AN$3:$AN$2362,"<>") -> 2 | AN69: =SUMIFS('USA Prestige by Season'!$AO$3:$AO$2362,'USA Prestige by Season'!$A$3:$A$2362,$A69,'USA Prestige by Season'!$C$3:$C$2362,">="&$B$1,'USA Prestige by Season'!$C$3:$C$2362,"<="&$D$1) -> 0 | AO69: =IF(COUNTIFS('USA Prestige by Season'!$A$3:$A$2362,$A69,'USA Prestige by Season'!$C$3:$C$2362,">="&$B$1,'USA Prestige by Season'!$C$3:$C$2362,"<="&$D$1)>0,"Yes","No") -> Yes
A70: Devil Dogs | C70: =SUMIFS('USA Prestige by Season'!D$3:D$2362,'USA Prestige by Season'!$A$3:$A$2362,$A70,'USA Prestige by Season'!$C$3:$C$2362,">="&$B$1,'USA Prestige by Season'!$C$3:$C$2362,"<="&$D$1) -> 0 | D70: =SUMIFS('USA Prestige by Season'!E$3:E$2362,'USA Prestige by Season'!$A$3:$A$2362,$A70,'USA Prestige by Season'!$C$3:$C$2362,">="&$B$1,'USA Prestige by Season'!$C$3:$C$2362,"<="&$D$1) -> 0 | E70: =SUMIFS('USA Prestige by Season'!F$3:F$2362,'USA Prestige by Season'!$A$3:$A$2362,$A70,'USA Prestige by Season'!$C$3:$C$2362,">="&$B$1,'USA Prestige by Season'!$C$3:$C$2362,"<="&$D$1) -> 0 | F70: =SUMIFS('USA Prestige by Season'!G$3:G$2362,'USA Prestige by Season'!$A$3:$A$2362,$A70,'USA Prestige by Season'!$C$3:$C$2362,">="&$B$1,'USA Prestige by Season'!$C$3:$C$2362,"<="&$D$1) -> 0 | G70: =SUMIFS('USA Prestige by Season'!H$3:H$2362,'USA Prestige by Season'!$A$3:$A$2362,$A70,'USA Prestige by Season'!$C$3:$C$2362,">="&$B$1,'USA Prestige by Season'!$C$3:$C$2362,"<="&$D$1) -> 0 | H70: =SUMIFS('USA Prestige by Season'!I$3:I$2362,'USA Prestige by Season'!$A$3:$A$2362,$A70,'USA Prestige by Season'!$C$3:$C$2362,">="&$B$1,'USA Prestige by Season'!$C$3:$C$2362,"<="&$D$1) -> 0 | I70: =SUMIFS('USA Prestige by Season'!J$3:J$2362,'USA Prestige by Season'!$A$3:$A$2362,$A70,'USA Prestige by Season'!$C$3:$C$2362,">="&$B$1,'USA Prestige by Season'!$C$3:$C$2362,"<="&$D$1) -> 0 | J70: =SUMIFS('USA Prestige by Season'!K$3:K$2362,'USA Prestige by Season'!$A$3:$A$2362,$A70,'USA Prestige by Season'!$C$3:$C$2362,">="&$B$1,'USA Prestige by Season'!$C$3:$C$2362,"<="&$D$1) -> 0 | ... AL70: =SUMIFS('USA Prestige by Season'!AM$3:AM$2362,'USA Prestige by Season'!$A$3:$A$2362,$A70,'USA Prestige by Season'!$C$3:$C$2362,">="&$B$1,'USA Prestige by Season'!$C$3:$C$2362,"<="&$D$1) -> 0 | AM70: =COUNTIFS('USA Prestige by Season'!$A$3:$A$2362,$A70,'USA Prestige by Season'!$C$3:$C$2362,">="&$B$1,'USA Prestige by Season'!$C$3:$C$2362,"<="&$D$1,'USA Prestige by Season'!$AN$3:$AN$2362,"<>") -> 1 | AN70: =SUMIFS('USA Prestige by Season'!$AO$3:$AO$2362,'USA Prestige by Season'!$A$3:$A$2362,$A70,'USA Prestige by Season'!$C$3:$C$2362,">="&$B$1,'USA Prestige by Season'!$C$3:$C$2362,"<="&$D$1) -> 0 | AO70: =IF(COUNTIFS('USA Prestige by Season'!$A$3:$A$2362,$A70,'USA Prestige by Season'!$C$3:$C$2362,">="&$B$1,'USA Prestige by Season'!$C$3:$C$2362,"<="&$D$1)>0,"Yes","No") -> Yes
A71: Disc Golf Throwers | C71: =SUMIFS('USA Prestige by Season'!D$3:D$2362,'USA Prestige by Season'!$A$3:$A$2362,$A71,'USA Prestige by Season'!$C$3:$C$2362,">="&$B$1,'USA Prestige by Season'!$C$3:$C$2362,"<="&$D$1) -> 0 | D71: =SUMIFS('USA Prestige by Season'!E$3:E$2362,'USA Prestige by Season'!$A$3:$A$2362,$A71,'USA Prestige by Season'!$C$3:$C$2362,">="&$B$1,'USA Prestige by Season'!$C$3:$C$2362,"<="&$D$1) -> 0 | E71: =SUMIFS('USA Prestige by Season'!F$3:F$2362,'USA Prestige by Season'!$A$3:$A$2362,$A71,'USA Prestige by Season'!$C$3:$C$2362,">="&$B$1,'USA Prestige by Season'!$C$3:$C$2362,"<="&$D$1) -> 0 | F71: =SUMIFS('USA Prestige by Season'!G$3:G$2362,'USA Prestige by Season'!$A$3:$A$2362,$A71,'USA Prestige by Season'!$C$3:$C$2362,">="&$B$1,'USA Prestige by Season'!$C$3:$C$2362,"<="&$D$1) -> 0 | G71: =SUMIFS('USA Prestige by Season'!H$3:H$2362,'USA Prestige by Season'!$A$3:$A$2362,$A71,'USA Prestige by Season'!$C$3:$C$2362,">="&$B$1,'USA Prestige by Season'!$C$3:$C$2362,"<="&$D$1) -> 0 | H71: =SUMIFS('USA Prestige by Season'!I$3:I$2362,'USA Prestige by Season'!$A$3:$A$2362,$A71,'USA Prestige by Season'!$C$3:$C$2362,">="&$B$1,'USA Prestige by Season'!$C$3:$C$2362,"<="&$D$1) -> 0 | I71: =SUMIFS('USA Prestige by Season'!J$3:J$2362,'USA Prestige by Season'!$A$3:$A$2362,$A71,'USA Prestige by Season'!$C$3:$C$2362,">="&$B$1,'USA Prestige by Season'!$C$3:$C$2362,"<="&$D$1) -> 0 | J71: =SUMIFS('USA Prestige by Season'!K$3:K$2362,'USA Prestige by Season'!$A$3:$A$2362,$A71,'USA Prestige by Season'!$C$3:$C$2362,">="&$B$1,'USA Prestige by Season'!$C$3:$C$2362,"<="&$D$1) -> 0 | ... AL71: =SUMIFS('USA Prestige by Season'!AM$3:AM$2362,'USA Prestige by Season'!$A$3:$A$2362,$A71,'USA Prestige by Season'!$C$3:$C$2362,">="&$B$1,'USA Prestige by Season'!$C$3:$C$2362,"<="&$D$1) -> 0 | AM71: =COUNTIFS('USA Prestige by Season'!$A$3:$A$2362,$A71,'USA Prestige by Season'!$C$3:$C$2362,">="&$B$1,'USA Prestige by Season'!$C$3:$C$2362,"<="&$D$1,'USA Prestige by Season'!$AN$3:$AN$2362,"<>") -> 1 | AN71: =SUMIFS('USA Prestige by Season'!$AO$3:$AO$2362,'USA Prestige by Season'!$A$3:$A$2362,$A71,'USA Prestige by Season'!$C$3:$C$2362,">="&$B$1,'USA Prestige by Season'!$C$3:$C$2362,"<="&$D$1) -> 0 | AO71: =IF(COUNTIFS('USA Prestige by Season'!$A$3:$A$2362,$A71,'USA Prestige by Season'!$C$3:$C$2362,">="&$B$1,'USA Prestige by Season'!$C$3:$C$2362,"<="&$D$1)>0,"Yes","No") -> Yes
A72: DJs | C72: =SUMIFS('USA Prestige by Season'!D$3:D$2362,'USA Prestige by Season'!$A$3:$A$2362,$A72,'USA Prestige by Season'!$C$3:$C$2362,">="&$B$1,'USA Prestige by Season'!$C$3:$C$2362,"<="&$D$1) -> 1 | D72: =SUMIFS('USA Prestige by Season'!E$3:E$2362,'USA Prestige by Season'!$A$3:$A$2362,$A72,'USA Prestige by Season'!$C$3:$C$2362,">="&$B$1,'USA Prestige by Season'!$C$3:$C$2362,"<="&$D$1) -> 2 | E72: =SUMIFS('USA Prestige by Season'!F$3:F$2362,'USA Prestige by Season'!$A$3:$A$2362,$A72,'USA Prestige by Season'!$C$3:$C$2362,">="&$B$1,'USA Prestige by Season'!$C$3:$C$2362,"<="&$D$1) -> 3 | F72: =SUMIFS('USA Prestige by Season'!G$3:G$2362,'USA Prestige by Season'!$A$3:$A$2362,$A72,'USA Prestige by Season'!$C$3:$C$2362,">="&$B$1,'USA Prestige by Season'!$C$3:$C$2362,"<="&$D$1) -> 0 | G72: =SUMIFS('USA Prestige by Season'!H$3:H$2362,'USA Prestige by Season'!$A$3:$A$2362,$A72,'USA Prestige by Season'!$C$3:$C$2362,">="&$B$1,'USA Prestige by Season'!$C$3:$C$2362,"<="&$D$1) -> 0 | H72: =SUMIFS('USA Prestige by Season'!I$3:I$2362,'USA Prestige by Season'!$A$3:$A$2362,$A72,'USA Prestige by Season'!$C$3:$C$2362,">="&$B$1,'USA Prestige by Season'!$C$3:$C$2362,"<="&$D$1) -> 0 | I72: =SUMIFS('USA Prestige by Season'!J$3:J$2362,'USA Prestige by Season'!$A$3:$A$2362,$A72,'USA Prestige by Season'!$C$3:$C$2362,">="&$B$1,'USA Prestige by Season'!$C$3:$C$2362,"<="&$D$1) -> 0 | J72: =SUMIFS('USA Prestige by Season'!K$3:K$2362,'USA Prestige by Season'!$A$3:$A$2362,$A72,'USA Prestige by Season'!$C$3:$C$2362,">="&$B$1,'USA Prestige by Season'!$C$3:$C$2362,"<="&$D$1) -> 0 | ... AL72: =SUMIFS('USA Prestige by Season'!AM$3:AM$2362,'USA Prestige by Season'!$A$3:$A$2362,$A72,'USA Prestige by Season'!$C$3:$C$2362,">="&$B$1,'USA Prestige by Season'!$C$3:$C$2362,"<="&$D$1) -> 0 | AM72: =COUNTIFS('USA Prestige by Season'!$A$3:$A$2362,$A72,'USA Prestige by Season'!$C$3:$C$2362,">="&$B$1,'USA Prestige by Season'!$C$3:$C$2362,"<="&$D$1,'USA Prestige by Season'!$AN$3:$AN$2362,"<>") -> 1 | AN72: =SUMIFS('USA Prestige by Season'!$AO$3:$AO$2362,'USA Prestige by Season'!$A$3:$A$2362,$A72,'USA Prestige by Season'!$C$3:$C$2362,">="&$B$1,'USA Prestige by Season'!$C$3:$C$2362,"<="&$D$1) -> 0 | AO72: =IF(COUNTIFS('USA Prestige by Season'!$A$3:$A$2362,$A72,'USA Prestige by Season'!$C$3:$C$2362,">="&$B$1,'USA Prestige by Season'!$C$3:$C$2362,"<="&$D$1)>0,"Yes","No") -> Yes
A73: Dragons | C73: =SUMIFS('USA Prestige by Season'!D$3:D$2362,'USA Prestige by Season'!$A$3:$A$2362,$A73,'USA Prestige by Season'!$C$3:$C$2362,">="&$B$1,'USA Prestige by Season'!$C$3:$C$2362,"<="&$D$1) -> 0 | D73: =SUMIFS('USA Prestige by Season'!E$3:E$2362,'USA Prestige by Season'!$A$3:$A$2362,$A73,'USA Prestige by Season'!$C$3:$C$2362,">="&$B$1,'USA Prestige by Season'!$C$3:$C$2362,"<="&$D$1) -> 0 | E73: =SUMIFS('USA Prestige by Season'!F$3:F$2362,'USA Prestige by Season'!$A$3:$A$2362,$A73,'USA Prestige by Season'!$C$3:$C$2362,">="&$B$1,'USA Prestige by Season'!$C$3:$C$2362,"<="&$D$1) -> 0 | F73: =SUMIFS('USA Prestige by Season'!G$3:G$2362,'USA Prestige by Season'!$A$3:$A$2362,$A73,'USA Prestige by Season'!$C$3:$C$2362,">="&$B$1,'USA Prestige by Season'!$C$3:$C$2362,"<="&$D$1) -> 0 | G73: =SUMIFS('USA Prestige by Season'!H$3:H$2362,'USA Prestige by Season'!$A$3:$A$2362,$A73,'USA Prestige by Season'!$C$3:$C$2362,">="&$B$1,'USA Prestige by Season'!$C$3:$C$2362,"<="&$D$1) -> 0 | H73: =SUMIFS('USA Prestige by Season'!I$3:I$2362,'USA Prestige by Season'!$A$3:$A$2362,$A73,'USA Prestige by Season'!$C$3:$C$2362,">="&$B$1,'USA Prestige by Season'!$C$3:$C$2362,"<="&$D$1) -> 0 | I73: =SUMIFS('USA Prestige by Season'!J$3:J$2362,'USA Prestige by Season'!$A$3:$A$2362,$A73,'USA Prestige by Season'!$C$3:$C$2362,">="&$B$1,'USA Prestige by Season'!$C$3:$C$2362,"<="&$D$1) -> 0 | J73: =SUMIFS('USA Prestige by Season'!K$3:K$2362,'USA Prestige by Season'!$A$3:$A$2362,$A73,'USA Prestige by Season'!$C$3:$C$2362,">="&$B$1,'USA Prestige by Season'!$C$3:$C$2362,"<="&$D$1) -> 0 | ... AL73: =SUMIFS('USA Prestige by Season'!AM$3:AM$2362,'USA Prestige by Season'!$A$3:$A$2362,$A73,'USA Prestige by Season'!$C$3:$C$2362,">="&$B$1,'USA Prestige by Season'!$C$3:$C$2362,"<="&$D$1) -> 0 | AM73: =COUNTIFS('USA Prestige by Season'!$A$3:$A$2362,$A73,'USA Prestige by Season'!$C$3:$C$2362,">="&$B$1,'USA Prestige by Season'!$C$3:$C$2362,"<="&$D$1,'USA Prestige by Season'!$AN$3:$AN$2362,"<>") -> 1 | AN73: =SUMIFS('USA Prestige by Season'!$AO$3:$AO$2362,'USA Prestige by Season'!$A$3:$A$2362,$A73,'USA Prestige by Season'!$C$3:$C$2362,">="&$B$1,'USA Prestige by Season'!$C$3:$C$2362,"<="&$D$1) -> 0 | AO73: =IF(COUNTIFS('USA Prestige by Season'!$A$3:$A$2362,$A73,'USA Prestige by Season'!$C$3:$C$2362,">="&$B$1,'USA Prestige by Season'!$C$3:$C$2362,"<="&$D$1)>0,"Yes","No") -> Yes
